From mboxrd@z Thu Jan  1 00:00:00 1970
Return-Path: <test-report-bounces@dpdk.org>
Received: from mails.dpdk.org (mails.dpdk.org [217.70.189.124])
	by inbox.dpdk.org (Postfix) with ESMTP id 5345A45BE3
	for <public@inbox.dpdk.org>; Sat, 26 Oct 2024 21:36:08 +0200 (CEST)
Received: from mails.dpdk.org (localhost [127.0.0.1])
	by mails.dpdk.org (Postfix) with ESMTP id 362F2402AE;
	Sat, 26 Oct 2024 21:36:08 +0200 (CEST)
Received: from mail-pl1-f228.google.com (mail-pl1-f228.google.com
 [209.85.214.228])
 by mails.dpdk.org (Postfix) with ESMTP id F11B5402A8
 for <test-report@dpdk.org>; Sat, 26 Oct 2024 21:36:05 +0200 (CEST)
Received: by mail-pl1-f228.google.com with SMTP id
 d9443c01a7336-20caea61132so25180845ad.2
 for <test-report@dpdk.org>; Sat, 26 Oct 2024 12:36:05 -0700 (PDT)
DKIM-Signature: v=1; a=rsa-sha256; c=relaxed/relaxed;
 d=iol.unh.edu; s=unh-iol; t=1729971365; x=1730576165; darn=dpdk.org;
 h=references:in-reply-to:cc:to:from:subject:message-id:date:from:to
 :cc:subject:date:message-id:reply-to;
 bh=U3Fj9rJ+XvPZJOr5BiXnvGytbM974hkip1IvSULzq5I=;
 b=hbA3fe51EMbmViEhGRe/U2tSP2FKoszdL/ScsF8TzlrpAwOe9kz4qtg2By79s0PCWz
 djdx8fbKxkDJ34/qQ+lM4uFrX5BruwJWtAo0q89d0nbG2nhcyvt6D2Uo3GFFZ7Xi7OtW
 J9okOt/PGai7AungPtFILF4w7VDDTEyOCXytc=
X-Google-DKIM-Signature: v=1; a=rsa-sha256; c=relaxed/relaxed;
 d=1e100.net; s=20230601; t=1729971365; x=1730576165;
 h=references:in-reply-to:cc:to:from:subject:message-id:date
 :x-gm-message-state:from:to:cc:subject:date:message-id:reply-to;
 bh=U3Fj9rJ+XvPZJOr5BiXnvGytbM974hkip1IvSULzq5I=;
 b=ZP864MAfHu7FHrzeWbVu3kyfJSZSMNBkRmK/SR1z30eeW/3nJQt4W3Os8pvc26dWU4
 giwbnG+mJ/rfcCmKvTGuUgt8oX2StneP8QacEiFBdmXxu4t5MZVI0obog7eP0bYL31lN
 dNQYqoJczEDE7OoMg4DnZ7maJDMJbX+X1VOqvm1WPlzSiQI/LR9RVTosiRJ3TJdaqsbP
 xQ3/z9RTI1dZJ+A/WOTTXuoBCdwDtAa1By6Y1HZREqjQD6nfuq0Wn9RFKcpEU8caPyqc
 qkXFsrNzgIUSW5glIwhvCVhlsjAeMiyXXMsFCyKvOaRfW5tyDiFSGHCuMXw0cgo74zwq
 g+SQ==
X-Gm-Message-State: AOJu0YzfpX+/nmG5warAlMErw44c/Xj2BWySND/kMnM1v8oJGqXMMkqh
 XrVg3lXd9Xhz4JL5EmPeUMKD3J76d/u/K0Mr3jEiFmB6ECGWavjjPmRZLq6cpD8N1J4zhLRFpaX
 l8FppEynuZSp5GozO6iAP26dDXk049ttgEtlB2wLy
X-Google-Smtp-Source: AGHT+IGx0yV5EjOjeG2mOhzFPMN2ra4bZ3BAuxrynM+spnZD5zCIwtuwap+V7uTb0a1dz/YlgdkQY8RCOqH4
X-Received: by 2002:a17:902:d58c:b0:20c:ab2d:a664 with SMTP id
 d9443c01a7336-210c6cd11f6mr55268165ad.59.1729971365080; 
 Sat, 26 Oct 2024 12:36:05 -0700 (PDT)
Received: from postal.iol.unh.edu (postal.iol.unh.edu. [132.177.123.84])
 by smtp-relay.gmail.com with ESMTPS id
 d9443c01a7336-210bc003434sm1639115ad.130.2024.10.26.12.36.04
 (version=TLS1_2 cipher=ECDHE-ECDSA-AES128-GCM-SHA256 bits=128/128);
 Sat, 26 Oct 2024 12:36:05 -0700 (PDT)
X-Relaying-Domain: iol.unh.edu
Date: Sat, 26 Oct 2024 12:36:05 -0700 (PDT)
Message-ID: <671d44a5.170a0220.7f494.c0f9SMTPIN_ADDED_MISSING@mx.google.com>
Received: from [172.17.0.2] (unknown [172.18.0.217])
 by postal.iol.unh.edu (Postfix) with ESMTP id 1A3D06052471;
 Sat, 26 Oct 2024 15:36:04 -0400 (EDT)
Subject: |SUCCESS| pw147095 [PATCH] net/vmxnet3: support per-queue stats for 
From: dpdklab@iol.unh.edu
To: Test Report <test-report@dpdk.org>
Cc: dpdk-test-reports@iol.unh.edu
In-Reply-To: <20241024110129.791362-1-mb@smartsharesystems.com>
References: <20241024110129.791362-1-mb@smartsharesystems.com>
Content-Type: text/plain
X-BeenThere: test-report@dpdk.org
X-Mailman-Version: 2.1.29
Precedence: list
List-Id: automatic DPDK test reports <test-report.dpdk.org>
List-Unsubscribe: <https://mails.dpdk.org/options/test-report>,
 <mailto:test-report-request@dpdk.org?subject=unsubscribe>
List-Archive: <http://mails.dpdk.org/archives/test-report/>
List-Post: <mailto:test-report@dpdk.org>
List-Help: <mailto:test-report-request@dpdk.org?subject=help>
List-Subscribe: <https://mails.dpdk.org/listinfo/test-report>,
 <mailto:test-report-request@dpdk.org?subject=subscribe>
Errors-To: test-report-bounces@dpdk.org

Test-Label: iol-compile-arm64-testing
Test-Status: SUCCESS
http://dpdk.org/patch/147095

_Testing PASS_

Submitter: Morten Brorup <mb@smartsharesystems.com>
Date: Thursday, October 24 2024 11:01:29 
DPDK git baseline: Repo:dpdk
  Branch: master
  CommitID:5bb17458f32befba8a2cccd9553ea65cd8b99581

147095 --> testing pass

Upstream job id: Generic-DPDK-Compile-Meson#323712

Test environment and result as below:

+------------------------------------+--------------------+
|            Environment             | dpdk_meson_compile |
+====================================+====================+
| RHEL9 (ARM)                        | PASS               |
+------------------------------------+--------------------+
| Ubuntu 20.04 ARM GCC Cross Compile | PASS               |
+------------------------------------+--------------------+
| Ubuntu 20.04 ARM SVE               | PASS               |
+------------------------------------+--------------------+
| Debian 12 with MUSDK               | PASS               |
+------------------------------------+--------------------+
| Fedora 37 (ARM)                    | PASS               |
+------------------------------------+--------------------+
| Fedora 38 (ARM)                    | PASS               |
+------------------------------------+--------------------+
| Fedora 38 (ARM Clang)              | PASS               |
+------------------------------------+--------------------+
| Fedora 39 (ARM)                    | PASS               |
+------------------------------------+--------------------+
| Fedora 39 (ARM Clang)              | PASS               |
+------------------------------------+--------------------+
| Fedora 40 (ARM)                    | PASS               |
+------------------------------------+--------------------+
| Fedora 40 (ARM Clang)              | PASS               |
+------------------------------------+--------------------+
| Ubuntu 20.04 (ARM)                 | PASS               |
+------------------------------------+--------------------+
| Ubuntu 22.04 (ARM)                 | PASS               |
+------------------------------------+--------------------+
| Ubuntu 24.04 (ARM)                 | PASS               |
+------------------------------------+--------------------+


RHEL9 (ARM)
	Kernel: Depends on container host
	Compiler: gcc 11.4.1 20231218 (Red Hat 11.4.1-3)

Ubuntu 20.04 ARM GCC Cross Compile
	Kernel: Depends on container host
	Compiler: aarch64-linux-gnu-gcc (Ubuntu 9.4.0-1ubuntu1~20.04.2) 9.4.0

Ubuntu 20.04 ARM SVE
	Kernel: Depends on container host
	Compiler: gcc (Ubuntu 10.5.0-1ubuntu1~20.04) 10.5.0

Debian 12 with MUSDK
	Kernel: Depends on container host
	Compiler: gcc (Debian 12.2.0-14) 12.2.0

Fedora 37 (ARM)
	Kernel: Depends on container host
	Compiler: gcc 12.3.1 20230508 (Red Hat 12.3.1-1)

Fedora 38 (ARM)
	Kernel: Depends on container host
	Compiler: gcc 13.2.1 20240316 (Red Hat 13.2.1-7)

Fedora 38 (ARM Clang)
	Kernel: Depends on container host
	Compiler: clang 16.0.6 (Fedora 16.0.6-4.fc38)

Fedora 39 (ARM)
	Kernel: Depends on container host
	Compiler: gcc 13.3.1 20240522 (Red Hat 13.3.1-1)

Fedora 39 (ARM Clang)
	Kernel: Depends on container host
	Compiler: clang 17.0.6 (Fedora 17.0.6-2.fc39)

Fedora 40 (ARM)
	Kernel: Depends on container host
	Compiler: gcc 14.2.1 20240801 (Red Hat 14.2.1-1)

Fedora 40 (ARM Clang)
	Kernel: Depends on container host
	Compiler: clang 18.1.6 (Fedora 18.1.6-3.fc40)

Ubuntu 20.04 (ARM)
	Kernel: Depends on container host
	Compiler: gcc (Ubuntu 9.4.0-1ubuntu1~20.04.2) 9.4.0

Ubuntu 22.04 (ARM)
	Kernel: Depends on container host
	Compiler: gcc (Ubuntu 11.4.0-1ubuntu1~22.04) 11.4.0

Ubuntu 24.04 (ARM)
	Kernel: Depends on container host
	Compiler: gcc (Ubuntu 13.2.0-23ubuntu4) 13.2.0

To view detailed results, visit:
https://lab.dpdk.org/results/dashboard/patchsets/31639/

UNH-IOL DPDK Community Lab

To manage your email subscriptions, visit: 
https://lab.dpdk.org/results/dashboard/preferences/subscriptions/