From mboxrd@z Thu Jan  1 00:00:00 1970
Return-Path: <test-report-bounces@dpdk.org>
Received: from mails.dpdk.org (mails.dpdk.org [217.70.189.124])
	by inbox.dpdk.org (Postfix) with ESMTP id A5D8A45BE9
	for <public@inbox.dpdk.org>; Sun, 27 Oct 2024 02:20:42 +0100 (CET)
Received: from mails.dpdk.org (localhost [127.0.0.1])
	by mails.dpdk.org (Postfix) with ESMTP id 84BA040279;
	Sun, 27 Oct 2024 02:20:42 +0100 (CET)
Received: from mail-pf1-f228.google.com (mail-pf1-f228.google.com
 [209.85.210.228])
 by mails.dpdk.org (Postfix) with ESMTP id DF91B40272
 for <test-report@dpdk.org>; Sun, 27 Oct 2024 02:20:40 +0100 (CET)
Received: by mail-pf1-f228.google.com with SMTP id
 d2e1a72fcca58-71ec12160f6so2283913b3a.3
 for <test-report@dpdk.org>; Sat, 26 Oct 2024 18:20:40 -0700 (PDT)
DKIM-Signature: v=1; a=rsa-sha256; c=relaxed/relaxed;
 d=iol.unh.edu; s=unh-iol; t=1729992040; x=1730596840; darn=dpdk.org;
 h=references:in-reply-to:cc:to:from:subject:message-id:date:from:to
 :cc:subject:date:message-id:reply-to;
 bh=M18ipz+w4KkNF/YiKQ7JNx4vo268Xg8NMGL+WE4wvKo=;
 b=H8uxkvm/OHOkP4aPGY09gegaZ24OP+87pzTcAEDfwSTwoFDYSIu0rnFEPZb4IV05HC
 vjVcB2mtbJhOjZBasNLDtMrH40lA56OPS9uE53Q55+CDcy9RPvqBZ0gHYixXewxVZslP
 8oImrRc9Bh4vJ7zJ9fOTz1xQP3CdHEc4jTRIQ=
X-Google-DKIM-Signature: v=1; a=rsa-sha256; c=relaxed/relaxed;
 d=1e100.net; s=20230601; t=1729992040; x=1730596840;
 h=references:in-reply-to:cc:to:from:subject:message-id:date
 :x-gm-message-state:from:to:cc:subject:date:message-id:reply-to;
 bh=M18ipz+w4KkNF/YiKQ7JNx4vo268Xg8NMGL+WE4wvKo=;
 b=Y4nWBuAhXOodCgqe/whGPzVFgJlVNOwdU0+Wpv6pakCHWB886NgEALoW3LgujVZTZl
 +YspQeXEj+v/TJPoshxoJSKmarai0Lcr29hvtLds+KvDHG2HqwMCfYLCFPhNRVUTpr3u
 ScsTFMlK27srvHW8ec9tK4vFrLKf4vatCjd9v/u6Xrrt8nNkJZyz5RVOwY1QcwKJ7IoM
 1zdYQY5XupsEg82oI8jchLjY5kFJkNStiTTdgDrN6TuX2nhL5Rvom++H6xObLig+w1wi
 lBZUDx8+jjjzNLGX4BMRYXBhbHNeEBALQeMWQkHZdXSDH84zeMFmk1Q6ymtfF0Ei1xkS
 sJlA==
X-Gm-Message-State: AOJu0YzT+P9tDjPNZn3IrmGsxYxsx/pX/ycByaCihL/d9UVpZvnFepIn
 H1zFtcqbv8VoBBZv79hccwIBVtDmjqPWAwMUyxVi7ECjhDJRzAgnRNK/RBshn6aCBc0FmhRnlGr
 rUHpWrcVsMApdiU9aIVkOa8cVBFPUPI8g+OG0fjhUIjgp/jDLGfVR+EPk
X-Google-Smtp-Source: AGHT+IFDQCJbzbmBVTqBfZBQYySpNDT1Irb4LTdHMyBfkELlZJzNDfPE1FE/4PdA1wEtoAIsXPpzm/fhDxGs
X-Received: by 2002:a05:6a00:10c7:b0:717:9154:b5d6 with SMTP id
 d2e1a72fcca58-72063028d41mr6571850b3a.22.1729992039881; 
 Sat, 26 Oct 2024 18:20:39 -0700 (PDT)
Received: from postal.iol.unh.edu (postal.iol.unh.edu.
 [2606:4100:3880:1234::84]) by smtp-relay.gmail.com with ESMTPS id
 d2e1a72fcca58-72057a2147dsm213010b3a.26.2024.10.26.18.20.39
 (version=TLS1_2 cipher=ECDHE-ECDSA-AES128-GCM-SHA256 bits=128/128);
 Sat, 26 Oct 2024 18:20:39 -0700 (PDT)
X-Relaying-Domain: iol.unh.edu
Date: Sat, 26 Oct 2024 18:20:39 -0700 (PDT)
Message-ID: <671d9567.050a0220.36e371.f675SMTPIN_ADDED_MISSING@mx.google.com>
Received: from [172.17.0.2] (unknown [172.18.0.217])
 by postal.iol.unh.edu (Postfix) with ESMTP id 4D1096052471;
 Sat, 26 Oct 2024 21:20:39 -0400 (EDT)
Subject: |SUCCESS| pw147075-147084 [PATCH] [v14,12/12] crypto/zsda: add zsda 
From: dpdklab@iol.unh.edu
To: Test Report <test-report@dpdk.org>
Cc: dpdk-test-reports@iol.unh.edu
In-Reply-To: <20241024083535.2223843-11-li.hanxiao@zte.com.cn>
References: <20241024083535.2223843-11-li.hanxiao@zte.com.cn>
Content-Type: text/plain
X-BeenThere: test-report@dpdk.org
X-Mailman-Version: 2.1.29
Precedence: list
List-Id: automatic DPDK test reports <test-report.dpdk.org>
List-Unsubscribe: <https://mails.dpdk.org/options/test-report>,
 <mailto:test-report-request@dpdk.org?subject=unsubscribe>
List-Archive: <http://mails.dpdk.org/archives/test-report/>
List-Post: <mailto:test-report@dpdk.org>
List-Help: <mailto:test-report-request@dpdk.org?subject=help>
List-Subscribe: <https://mails.dpdk.org/listinfo/test-report>,
 <mailto:test-report-request@dpdk.org?subject=subscribe>
Errors-To: test-report-bounces@dpdk.org

Test-Label: iol-compile-arm64-testing
Test-Status: SUCCESS
http://dpdk.org/patch/147084

_Testing PASS_

Submitter: Hanxiao Li <li.hanxiao@zte.com.cn>
Date: Thursday, October 24 2024 08:35:15 
DPDK git baseline: Repo:dpdk
  Branch: master
  CommitID:3ee7a3e0e0e0f5a81a4b102a834697bc488fb32f

147075-147084 --> testing pass

Upstream job id: Generic-DPDK-Compile-Meson#323788

Test environment and result as below:

+------------------------------------+--------------------+
|            Environment             | dpdk_meson_compile |
+====================================+====================+
| RHEL9 (ARM)                        | PASS               |
+------------------------------------+--------------------+
| Ubuntu 20.04 ARM GCC Cross Compile | PASS               |
+------------------------------------+--------------------+
| Ubuntu 20.04 ARM SVE               | PASS               |
+------------------------------------+--------------------+
| Debian 12 with MUSDK               | PASS               |
+------------------------------------+--------------------+
| Fedora 37 (ARM)                    | PASS               |
+------------------------------------+--------------------+
| Fedora 38 (ARM)                    | PASS               |
+------------------------------------+--------------------+
| Fedora 38 (ARM Clang)              | PASS               |
+------------------------------------+--------------------+
| Fedora 39 (ARM)                    | PASS               |
+------------------------------------+--------------------+
| Fedora 39 (ARM Clang)              | PASS               |
+------------------------------------+--------------------+
| Fedora 40 (ARM)                    | PASS               |
+------------------------------------+--------------------+
| Fedora 40 (ARM Clang)              | PASS               |
+------------------------------------+--------------------+
| Ubuntu 20.04 (ARM)                 | PASS               |
+------------------------------------+--------------------+
| Ubuntu 22.04 (ARM)                 | PASS               |
+------------------------------------+--------------------+
| Ubuntu 24.04 (ARM)                 | PASS               |
+------------------------------------+--------------------+
| CentOS Stream 9 (ARM)              | PASS               |
+------------------------------------+--------------------+


RHEL9 (ARM)
	Kernel: Depends on container host
	Compiler: gcc 11.4.1 20231218 (Red Hat 11.4.1-3)

Ubuntu 20.04 ARM GCC Cross Compile
	Kernel: Depends on container host
	Compiler: aarch64-linux-gnu-gcc (Ubuntu 9.4.0-1ubuntu1~20.04.2) 9.4.0

Ubuntu 20.04 ARM SVE
	Kernel: Depends on container host
	Compiler: gcc (Ubuntu 10.5.0-1ubuntu1~20.04) 10.5.0

Debian 12 with MUSDK
	Kernel: Depends on container host
	Compiler: gcc (Debian 12.2.0-14) 12.2.0

Fedora 37 (ARM)
	Kernel: Depends on container host
	Compiler: gcc 12.3.1 20230508 (Red Hat 12.3.1-1)

Fedora 38 (ARM)
	Kernel: Depends on container host
	Compiler: gcc 13.2.1 20240316 (Red Hat 13.2.1-7)

Fedora 38 (ARM Clang)
	Kernel: Depends on container host
	Compiler: clang 16.0.6 (Fedora 16.0.6-4.fc38)

Fedora 39 (ARM)
	Kernel: Depends on container host
	Compiler: gcc 13.3.1 20240522 (Red Hat 13.3.1-1)

Fedora 39 (ARM Clang)
	Kernel: Depends on container host
	Compiler: clang 17.0.6 (Fedora 17.0.6-2.fc39)

Fedora 40 (ARM)
	Kernel: Depends on container host
	Compiler: gcc 14.2.1 20240801 (Red Hat 14.2.1-1)

Fedora 40 (ARM Clang)
	Kernel: Depends on container host
	Compiler: clang 18.1.6 (Fedora 18.1.6-3.fc40)

Ubuntu 20.04 (ARM)
	Kernel: Depends on container host
	Compiler: gcc (Ubuntu 9.4.0-1ubuntu1~20.04.2) 9.4.0

Ubuntu 22.04 (ARM)
	Kernel: Depends on container host
	Compiler: gcc (Ubuntu 11.4.0-1ubuntu1~22.04) 11.4.0

Ubuntu 24.04 (ARM)
	Kernel: Depends on container host
	Compiler: gcc (Ubuntu 13.2.0-23ubuntu4) 13.2.0

CentOS Stream 9 (ARM)
	Kernel: Depends on container host
	Compiler: gcc 11.4.1 20231218 (Red Hat 11.4.1-3)

To view detailed results, visit:
https://lab.dpdk.org/results/dashboard/patchsets/31635/

UNH-IOL DPDK Community Lab

To manage your email subscriptions, visit: 
https://lab.dpdk.org/results/dashboard/preferences/subscriptions/