From mboxrd@z Thu Jan  1 00:00:00 1970
Return-Path: <test-report-bounces@dpdk.org>
Received: from mails.dpdk.org (mails.dpdk.org [217.70.189.124])
	by inbox.dpdk.org (Postfix) with ESMTP id 30F2645BF1
	for <public@inbox.dpdk.org>; Sun, 27 Oct 2024 11:23:23 +0100 (CET)
Received: from mails.dpdk.org (localhost [127.0.0.1])
	by mails.dpdk.org (Postfix) with ESMTP id 2D79D4026C;
	Sun, 27 Oct 2024 11:23:23 +0100 (CET)
Received: from mail-yb1-f226.google.com (mail-yb1-f226.google.com
 [209.85.219.226])
 by mails.dpdk.org (Postfix) with ESMTP id B573E40151
 for <test-report@dpdk.org>; Sun, 27 Oct 2024 11:23:21 +0100 (CET)
Received: by mail-yb1-f226.google.com with SMTP id
 3f1490d57ef6-e28fa2807eeso3309657276.1
 for <test-report@dpdk.org>; Sun, 27 Oct 2024 03:23:21 -0700 (PDT)
DKIM-Signature: v=1; a=rsa-sha256; c=relaxed/relaxed;
 d=iol.unh.edu; s=unh-iol; t=1730024601; x=1730629401; darn=dpdk.org;
 h=references:in-reply-to:cc:to:from:subject:message-id:date:from:to
 :cc:subject:date:message-id:reply-to;
 bh=7TPfi5uN0PvxXQ13bRK9eqGEIq1tFIQFg+RHcCfFfwQ=;
 b=WqMG4vY3cLNXVhdsQC20d1r3RlS5leG2MbYqv9RIAJoa9/zc6E9dc7tX8h56jquw0P
 cYRdhb6aOQgETpT4ip1vyIFlnf9gcX3wf54ZShZ3cNOZfu7B2rvUQVUHA4udePnHfBVs
 fNk5W10fkB0+VCehQkAWtk0omaL9Tg2AVywcY=
X-Google-DKIM-Signature: v=1; a=rsa-sha256; c=relaxed/relaxed;
 d=1e100.net; s=20230601; t=1730024601; x=1730629401;
 h=references:in-reply-to:cc:to:from:subject:message-id:date
 :x-gm-message-state:from:to:cc:subject:date:message-id:reply-to;
 bh=7TPfi5uN0PvxXQ13bRK9eqGEIq1tFIQFg+RHcCfFfwQ=;
 b=vbWTmiRRyzlB8sIT6ECWH9BjKM2HtQY7uRGuVNWgY6xqtC30ATATs5QEiqFrCZ0mk+
 XnXQDo3W9LIiK8aGFna59i9fdIFiD7iYE2+M3U/E5aaBlU1EvAyL9c+B7YG1n7uazWC5
 aDeeWq8DxfYCQxCNzKDNYvijmqQmuMP/LrFY/GpNFYPpptO8oWMaV6kGVrlLioU0C6Yy
 s+lG2NsZuHH7ngWHgljKckJsmkbuuDo04zRMHXNYx035JSoijocUS1uaZhc950dk/hVc
 QgOZ89mLzeAiMDuw7ldZm4M0XwEbhwgQSJEVfNmcUdncnAQG0a7XHSfeSIRILWasyEwS
 kPJQ==
X-Gm-Message-State: AOJu0YwwO/cJ2+O7mgp6zOwhqFeVy3RAIsaeXpX7kuFDuHQ4FRtluYkb
 /OwxMJ6Q02jo7zbrQZg3nYLsazl+sOAvQ4pFP2zamQz7hsNN0YozWqo3fRdi3K11iAzdAfddecD
 yurim0xjcpdUNtqBV2o02XRy3RQnodNEmqjkgpsI/HjOmeIfnuTNWkb+g
X-Google-Smtp-Source: AGHT+IFNj7tO1c2eH+UK4f+Tx2MeUImHsSjc3VsfGAJ5P/c2E4Zi2vR+bbavxu7gPSm5joWLk65FK85vlDbj
X-Received: by 2002:a05:6902:188c:b0:e29:48ae:562 with SMTP id
 3f1490d57ef6-e3087a5b026mr4639238276.21.1730024601128; 
 Sun, 27 Oct 2024 03:23:21 -0700 (PDT)
Received: from postal.iol.unh.edu (postal.iol.unh.edu.
 [2606:4100:3880:1234::84]) by smtp-relay.gmail.com with ESMTPS id
 3f1490d57ef6-e307a00818bsm204022276.28.2024.10.27.03.23.21
 (version=TLS1_2 cipher=ECDHE-ECDSA-AES128-GCM-SHA256 bits=128/128);
 Sun, 27 Oct 2024 03:23:21 -0700 (PDT)
X-Relaying-Domain: iol.unh.edu
Date: Sun, 27 Oct 2024 03:23:21 -0700 (PDT)
Message-ID: <671e1499.250a0220.3c3ec7.e4dfSMTPIN_ADDED_MISSING@mx.google.com>
Received: from [172.17.0.2] (unknown [172.18.0.217])
 by postal.iol.unh.edu (Postfix) with ESMTP id C88796052471;
 Sun, 27 Oct 2024 06:23:20 -0400 (EDT)
Subject: |SUCCESS| pw146621-146630 [PATCH] [v13,12/12] crypto/zsda: add zsda 
From: dpdklab@iol.unh.edu
To: Test Report <test-report@dpdk.org>
Cc: dpdk-test-reports@iol.unh.edu
In-Reply-To: <20241022125931.2128534-13-wang.junlong1@zte.com.cn>
References: <20241022125931.2128534-13-wang.junlong1@zte.com.cn>
Content-Type: text/plain
X-BeenThere: test-report@dpdk.org
X-Mailman-Version: 2.1.29
Precedence: list
List-Id: automatic DPDK test reports <test-report.dpdk.org>
List-Unsubscribe: <https://mails.dpdk.org/options/test-report>,
 <mailto:test-report-request@dpdk.org?subject=unsubscribe>
List-Archive: <http://mails.dpdk.org/archives/test-report/>
List-Post: <mailto:test-report@dpdk.org>
List-Help: <mailto:test-report-request@dpdk.org?subject=help>
List-Subscribe: <https://mails.dpdk.org/listinfo/test-report>,
 <mailto:test-report-request@dpdk.org?subject=subscribe>
Errors-To: test-report-bounces@dpdk.org

Test-Label: iol-compile-amd64-testing
Test-Status: SUCCESS
http://dpdk.org/patch/146630

_Testing PASS_

Submitter: Junlong Wang <wang.junlong1@zte.com.cn>
Date: Tuesday, October 22 2024 12:59:18 
DPDK git baseline: Repo:dpdk
  Branch: master
  CommitID:cff6dba7ff8521df410b40399fd8aca5b450a05b

146621-146630 --> testing pass

Upstream job id: Windows-Compile-DPDK-Native#23619

Test environment and result as below:

+---------------------+--------------------+------------------+-------------------+----------------------+-----------------------+
|     Environment     | dpdk_meson_compile | dpdk_compile_ovs | dpdk_compile_spdk | dpdk_mingw64_compile | dpdk_win_llvm_compile |
+=====================+====================+==================+===================+======================+=======================+
| FreeBSD 13.4        | PASS               | SKIPPED          | SKIPPED           | SKIPPED              | SKIPPED               |
+---------------------+--------------------+------------------+-------------------+----------------------+-----------------------+
| FreeBSD 14.1        | PASS               | SKIPPED          | SKIPPED           | SKIPPED              | SKIPPED               |
+---------------------+--------------------+------------------+-------------------+----------------------+-----------------------+
| CentOS Stream 9     | PASS               | PASS             | PASS              | SKIPPED              | SKIPPED               |
+---------------------+--------------------+------------------+-------------------+----------------------+-----------------------+
| Debian Bullseye     | PASS               | PASS             | PASS              | SKIPPED              | SKIPPED               |
+---------------------+--------------------+------------------+-------------------+----------------------+-----------------------+
| Debian 12           | PASS               | PASS             | PASS              | SKIPPED              | SKIPPED               |
+---------------------+--------------------+------------------+-------------------+----------------------+-----------------------+
| Fedora 37           | PASS               | PASS             | PASS              | SKIPPED              | SKIPPED               |
+---------------------+--------------------+------------------+-------------------+----------------------+-----------------------+
| Fedora 38 (Clang)   | PASS               | PASS             | PASS              | SKIPPED              | SKIPPED               |
+---------------------+--------------------+------------------+-------------------+----------------------+-----------------------+
| Fedora 39 (Clang)   | PASS               | PASS             | PASS              | SKIPPED              | SKIPPED               |
+---------------------+--------------------+------------------+-------------------+----------------------+-----------------------+
| Fedora 39           | PASS               | PASS             | PASS              | SKIPPED              | SKIPPED               |
+---------------------+--------------------+------------------+-------------------+----------------------+-----------------------+
| Fedora 40 (Clang)   | PASS               | PASS             | PASS              | SKIPPED              | SKIPPED               |
+---------------------+--------------------+------------------+-------------------+----------------------+-----------------------+
| Fedora 40           | PASS               | PASS             | PASS              | SKIPPED              | SKIPPED               |
+---------------------+--------------------+------------------+-------------------+----------------------+-----------------------+
| openSUSE Leap 15    | PASS               | PASS             | SKIPPED           | SKIPPED              | SKIPPED               |
+---------------------+--------------------+------------------+-------------------+----------------------+-----------------------+
| RHEL8               | PASS               | PASS             | SKIPPED           | SKIPPED              | SKIPPED               |
+---------------------+--------------------+------------------+-------------------+----------------------+-----------------------+
| RHEL9               | PASS               | PASS             | SKIPPED           | SKIPPED              | SKIPPED               |
+---------------------+--------------------+------------------+-------------------+----------------------+-----------------------+
| Ubuntu 20.04        | PASS               | PASS             | SKIPPED           | SKIPPED              | SKIPPED               |
+---------------------+--------------------+------------------+-------------------+----------------------+-----------------------+
| Ubuntu 22.04        | PASS               | PASS             | PASS              | SKIPPED              | SKIPPED               |
+---------------------+--------------------+------------------+-------------------+----------------------+-----------------------+
| Ubuntu 24.04        | PASS               | PASS             | PASS              | SKIPPED              | SKIPPED               |
+---------------------+--------------------+------------------+-------------------+----------------------+-----------------------+
| Alpine              | PASS               | PASS             | SKIPPED           | SKIPPED              | SKIPPED               |
+---------------------+--------------------+------------------+-------------------+----------------------+-----------------------+
| Fedora 38           | PASS               | PASS             | PASS              | SKIPPED              | SKIPPED               |
+---------------------+--------------------+------------------+-------------------+----------------------+-----------------------+
| Windows Server 2022 | SKIPPED            | SKIPPED          | SKIPPED           | PASS                 | PASS                  |
+---------------------+--------------------+------------------+-------------------+----------------------+-----------------------+


FreeBSD 13.4
	Kernel: 13.4-RELEASE-p1
	Compiler: clang 18.1.6

FreeBSD 14.1
	Kernel: 14.1-RELEASE-p3
	Compiler: clang 18.1.5

CentOS Stream 9
	Kernel: Depends on container host
	Compiler: gcc 11.4.1 20231218 (Red Hat 11.4.1-3)

Debian Bullseye
	Kernel: Depends on container host
	Compiler: gcc (Debian 10.2.1-6) 10.2.1 20210110

Debian 12
	Kernel: Depends on container host
	Compiler: gcc (Debian 12.2.0-14) 12.2.0

Fedora 37
	Kernel: Depends on container host system
	Compiler: gcc 12.3.1 20230508 (Red Hat 12.3.1-1)

Fedora 38 (Clang)
	Kernel: Depends on container host
	Compiler: clang 16.0.6 (Fedora 16.0.6-4.fc38)

Fedora 39 (Clang)
	Kernel: Depends on container host
	Compiler: clang 17.0.6 (Fedora 17.0.6-2.fc39)

Fedora 39
	Kernel: Depends on container host
	Compiler: gcc 13.3.1 20240522 (Red Hat 13.3.1-1)

Fedora 40 (Clang)
	Kernel: Depends on container host
	Compiler: clang 18.1.6 (Fedora 18.1.6-3.fc40)

Fedora 40
	Kernel: Depends on container host
	Compiler: gcc 14.2.1 20240801 (Red Hat 14.2.1-1)

openSUSE Leap 15
	Kernel: Depends on container host
	Compiler: gcc (SUSE Linux) 7.5.0

RHEL8
	Kernel: Depends on container host
	Compiler: gcc 8.5.0 20210514 (Red Hat 8.5.0-22)

RHEL9
	Kernel: Depends on container host
	Compiler: gcc 11.4.1 20231218 (Red Hat 11.4.1-3)

Ubuntu 20.04
	Kernel: Depends on container host
	Compiler: gcc (Ubuntu 9.4.0-1ubuntu1~20.04.2) 9.4.0

Ubuntu 22.04
	Kernel: Depends on container host
	Compiler: gcc (Ubuntu 11.4.0-1ubuntu1~22.04) 11.4.0

Ubuntu 24.04
	Kernel: Depends on container host
	Compiler: gcc (Ubuntu 13.2.0-23ubuntu4) 13.2.0

Alpine
	Kernel: Depends on container host
	Compiler: gcc (Alpine 13.2.1_git20240309) 13.2.1 20240309

Fedora 38
	Kernel: Depends on container host
	Compiler: gcc 13.2.1 20240316 (Red Hat 13.2.1-7)

Windows Server 2022
	Kernel: 10.0.20348.2031
	Compiler: clang 15.0.7, gcc 14.1.0 (MinGW), and MSVC VS 19.39.33521

To view detailed results, visit:
https://lab.dpdk.org/results/dashboard/patchsets/31598/

UNH-IOL DPDK Community Lab

To manage your email subscriptions, visit: 
https://lab.dpdk.org/results/dashboard/preferences/subscriptions/