From mboxrd@z Thu Jan  1 00:00:00 1970
Return-Path: <test-report-bounces@dpdk.org>
Received: from mails.dpdk.org (mails.dpdk.org [217.70.189.124])
	by inbox.dpdk.org (Postfix) with ESMTP id 4B76445BF2
	for <public@inbox.dpdk.org>; Sun, 27 Oct 2024 13:08:33 +0100 (CET)
Received: from mails.dpdk.org (localhost [127.0.0.1])
	by mails.dpdk.org (Postfix) with ESMTP id 4676F4026C;
	Sun, 27 Oct 2024 13:08:33 +0100 (CET)
Received: from mail-io1-f97.google.com (mail-io1-f97.google.com
 [209.85.166.97]) by mails.dpdk.org (Postfix) with ESMTP id 62F9140151
 for <test-report@dpdk.org>; Sun, 27 Oct 2024 13:08:32 +0100 (CET)
Received: by mail-io1-f97.google.com with SMTP id
 ca18e2360f4ac-83b2a41b81cso16413039f.0
 for <test-report@dpdk.org>; Sun, 27 Oct 2024 05:08:32 -0700 (PDT)
DKIM-Signature: v=1; a=rsa-sha256; c=relaxed/relaxed;
 d=iol.unh.edu; s=unh-iol; t=1730030911; x=1730635711; darn=dpdk.org;
 h=cc:to:from:subject:message-id:date:from:to:cc:subject:date
 :message-id:reply-to;
 bh=j5KDJZt0Sxb6wlu2rJoBsw57VdM+pffT2PDmbeLO76M=;
 b=FY1BjvJWdS1veVo5MESlytiX1s16vXfAYFsF38rNB0kL7g4pc80REaM0HuPRdy0xm3
 gzd/gxaCsOMnENmf45b/x46DHRFGeYbcwjjvFrYaNkVstr+fF3FvZhUVNohlfZ2PZweH
 MEa/1GwKAH2n1luZ6udJCGcCKuExpz6cxNz/4=
X-Google-DKIM-Signature: v=1; a=rsa-sha256; c=relaxed/relaxed;
 d=1e100.net; s=20230601; t=1730030911; x=1730635711;
 h=cc:to:from:subject:message-id:date:x-gm-message-state:from:to:cc
 :subject:date:message-id:reply-to;
 bh=j5KDJZt0Sxb6wlu2rJoBsw57VdM+pffT2PDmbeLO76M=;
 b=jDsUCOK7or3BiKUsCZpdefNLQxplJyxZhkx4dwZtCGRnlDQV21ZeOreIiT19+nh58P
 yYcULgO730SQWZybFcvhz3B/7EE/s8MSawHvMn3Yig1UaRUTErER6x5VLpUyPwEJl2Qc
 XhLBzBrPnREkmb7CfjgyK++s34TSCcP+qf6Ujnqt9/TtIftUgwv//uEri6Kq0+3ADHbV
 sEvbBLMcJC/aBjkbkWWrlDZlUxM9P4hg3cXsj5lUrI9JohKUbtXkFsrfkIt65fmBDCHo
 wLL+DQODrG0fmp+887Nhx/IvJDyOigZHA1dtAuoBwvw2WfqtkN6zl9tMAKHjGwGUAE+i
 GlTw==
X-Gm-Message-State: AOJu0Yzymg+gtR/Q7SDPPGhzh5aB3XvjYsepkR9RaL3Q8ZasPA9iE9yE
 Dbh2YJrtJr153QnH6Kagd3eN93baWGPTSp7A20n9hN86LYWody+WvQfk0d2d5iSfFFHcn7S74ft
 kU5U0IlF1TlSe0383gmFVM1W03YEr/H6z
X-Google-Smtp-Source: AGHT+IGp28yXiHAeCfICEN9EMO12RuX0M7Euo0A+SHghad0R9YRXXMNYXWlBZ/pMVb80X9kWEhTAvfE50PvF
X-Received: by 2002:a05:6e02:1a02:b0:3a3:ae58:2ef1 with SMTP id
 e9e14a558f8ab-3a4ed27834amr45148525ab.2.1730030911452; 
 Sun, 27 Oct 2024 05:08:31 -0700 (PDT)
Received: from postal.iol.unh.edu (postal.iol.unh.edu. [132.177.123.84])
 by smtp-relay.gmail.com with ESMTPS id
 e9e14a558f8ab-3a4e6dd1ebdsm1577445ab.9.2024.10.27.05.08.31
 (version=TLS1_2 cipher=ECDHE-ECDSA-AES128-GCM-SHA256 bits=128/128);
 Sun, 27 Oct 2024 05:08:31 -0700 (PDT)
X-Relaying-Domain: iol.unh.edu
Date: Sun, 27 Oct 2024 05:08:31 -0700 (PDT)
Message-ID: <671e2d3f.050a0220.221fed.b54cSMTPIN_ADDED_MISSING@mx.google.com>
Received: from [172.17.0.3] (unknown [172.18.0.217])
 by postal.iol.unh.edu (Postfix) with ESMTP id E1EB86052471;
 Sun, 27 Oct 2024 08:08:30 -0400 (EDT)
Subject: |SUCCESS| [GIT MASTER] d20fd65f258afb5b572fe686b7d1032aeb95e079
From: dpdklab@iol.unh.edu
To: Test Report <test-report@dpdk.org>
Cc: dpdk-test-reports@iol.unh.edu, Xueming Li <xuemingl@nvidia.com>,
 Christian Ehrhardt <christian.ehrhardt@canonical.com>,
 Kevin Traynor <ktraynor@redhat.com>, Luca Boccassi <bluca@debian.org>
Content-Type: text/plain
X-BeenThere: test-report@dpdk.org
X-Mailman-Version: 2.1.29
Precedence: list
List-Id: automatic DPDK test reports <test-report.dpdk.org>
List-Unsubscribe: <https://mails.dpdk.org/options/test-report>,
 <mailto:test-report-request@dpdk.org?subject=unsubscribe>
List-Archive: <http://mails.dpdk.org/archives/test-report/>
List-Post: <mailto:test-report@dpdk.org>
List-Help: <mailto:test-report-request@dpdk.org?subject=help>
List-Subscribe: <https://mails.dpdk.org/listinfo/test-report>,
 <mailto:test-report-request@dpdk.org?subject=subscribe>
Errors-To: test-report-bounces@dpdk.org

_Testing PASS_

Branch: tags/v21.11

d20fd65f258afb5b572fe686b7d1032aeb95e079 --> testing pass

Upstream job id: Generic-DPDK-Compile-Meson#324041

Test environment and result as below:

+------------------------------------+--------------------+
|            Environment             | dpdk_meson_compile |
+====================================+====================+
| RHEL9 (ARM)                        | PASS               |
+------------------------------------+--------------------+
| Ubuntu 20.04 ARM GCC Cross Compile | PASS               |
+------------------------------------+--------------------+
| Ubuntu 20.04 ARM SVE               | PASS               |
+------------------------------------+--------------------+
| Debian 12 with MUSDK               | PASS               |
+------------------------------------+--------------------+
| Fedora 37 (ARM)                    | PASS               |
+------------------------------------+--------------------+
| Fedora 38 (ARM)                    | PASS               |
+------------------------------------+--------------------+
| Fedora 38 (ARM Clang)              | PASS               |
+------------------------------------+--------------------+
| Fedora 39 (ARM)                    | PASS               |
+------------------------------------+--------------------+
| Fedora 39 (ARM Clang)              | PASS               |
+------------------------------------+--------------------+
| Fedora 40 (ARM)                    | PASS               |
+------------------------------------+--------------------+
| Fedora 40 (ARM Clang)              | PASS               |
+------------------------------------+--------------------+
| Ubuntu 20.04 (ARM)                 | PASS               |
+------------------------------------+--------------------+
| Ubuntu 22.04 (ARM)                 | PASS               |
+------------------------------------+--------------------+
| Ubuntu 24.04 (ARM)                 | PASS               |
+------------------------------------+--------------------+
| CentOS Stream 9 (ARM)              | PASS               |
+------------------------------------+--------------------+
| Debian 11 (Buster) (ARM)           | PASS               |
+------------------------------------+--------------------+
| Debian 12 (arm)                    | PASS               |
+------------------------------------+--------------------+


RHEL9 (ARM)
	Kernel: Depends on container host
	Compiler: gcc 11.4.1 20231218 (Red Hat 11.4.1-3)

Ubuntu 20.04 ARM GCC Cross Compile
	Kernel: Depends on container host
	Compiler: aarch64-linux-gnu-gcc (Ubuntu 9.4.0-1ubuntu1~20.04.2) 9.4.0

Ubuntu 20.04 ARM SVE
	Kernel: Depends on container host
	Compiler: gcc (Ubuntu 10.5.0-1ubuntu1~20.04) 10.5.0

Debian 12 with MUSDK
	Kernel: Depends on container host
	Compiler: gcc (Debian 12.2.0-14) 12.2.0

Fedora 37 (ARM)
	Kernel: Depends on container host
	Compiler: gcc 12.3.1 20230508 (Red Hat 12.3.1-1)

Fedora 38 (ARM)
	Kernel: Depends on container host
	Compiler: gcc 13.2.1 20240316 (Red Hat 13.2.1-7)

Fedora 38 (ARM Clang)
	Kernel: Depends on container host
	Compiler: clang 16.0.6 (Fedora 16.0.6-4.fc38)

Fedora 39 (ARM)
	Kernel: Depends on container host
	Compiler: gcc 13.3.1 20240522 (Red Hat 13.3.1-1)

Fedora 39 (ARM Clang)
	Kernel: Depends on container host
	Compiler: clang 17.0.6 (Fedora 17.0.6-2.fc39)

Fedora 40 (ARM)
	Kernel: Depends on container host
	Compiler: gcc 14.2.1 20240801 (Red Hat 14.2.1-1)

Fedora 40 (ARM Clang)
	Kernel: Depends on container host
	Compiler: clang 18.1.6 (Fedora 18.1.6-3.fc40)

Ubuntu 20.04 (ARM)
	Kernel: Depends on container host
	Compiler: gcc (Ubuntu 9.4.0-1ubuntu1~20.04.2) 9.4.0

Ubuntu 22.04 (ARM)
	Kernel: Depends on container host
	Compiler: gcc (Ubuntu 11.4.0-1ubuntu1~22.04) 11.4.0

Ubuntu 24.04 (ARM)
	Kernel: Depends on container host
	Compiler: gcc (Ubuntu 13.2.0-23ubuntu4) 13.2.0

CentOS Stream 9 (ARM)
	Kernel: Depends on container host
	Compiler: gcc 11.4.1 20231218 (Red Hat 11.4.1-3)

Debian 11 (Buster) (ARM)
	Kernel: Depends on container host
	Compiler: gcc (Debian 10.2.1-6) 10.2.1 20210110

Debian 12 (arm)
	Kernel: Depends on container host
	Compiler: gcc (Debian 12.2.0-14) 12.2.0

To view detailed results, visit:
https://lab.dpdk.org/results/dashboard/tarballs/31245/

UNH-IOL DPDK Community Lab

To manage your email subscriptions, visit: 
https://lab.dpdk.org/results/dashboard/preferences/subscriptions/