From mboxrd@z Thu Jan  1 00:00:00 1970
Return-Path: <test-report-bounces@dpdk.org>
Received: from mails.dpdk.org (mails.dpdk.org [217.70.189.124])
	by inbox.dpdk.org (Postfix) with ESMTP id 3003345BF2
	for <public@inbox.dpdk.org>; Sun, 27 Oct 2024 13:46:54 +0100 (CET)
Received: from mails.dpdk.org (localhost [127.0.0.1])
	by mails.dpdk.org (Postfix) with ESMTP id 2C0954026C;
	Sun, 27 Oct 2024 13:46:54 +0100 (CET)
Received: from mail-qk1-f225.google.com (mail-qk1-f225.google.com
 [209.85.222.225])
 by mails.dpdk.org (Postfix) with ESMTP id B0F2F40151
 for <test-report@dpdk.org>; Sun, 27 Oct 2024 13:46:52 +0100 (CET)
Received: by mail-qk1-f225.google.com with SMTP id
 af79cd13be357-7b15d330ce1so293132885a.1
 for <test-report@dpdk.org>; Sun, 27 Oct 2024 05:46:52 -0700 (PDT)
DKIM-Signature: v=1; a=rsa-sha256; c=relaxed/relaxed;
 d=iol.unh.edu; s=unh-iol; t=1730033212; x=1730638012; darn=dpdk.org;
 h=references:in-reply-to:cc:to:from:subject:message-id:date:from:to
 :cc:subject:date:message-id:reply-to;
 bh=JwIDOwhG8pfuRjBAJf0X4d5dLuWRhD352dpSSnOFHlo=;
 b=W36y8TWzYPNsKerq9yTIZpoZP3rj0y/zTzf/E6BXFg7BveVwJMRMrcOJ4Mqgx7QS/t
 qVHWz2tDZuDuz8NR59NHlQQqigH4wmtQCN/gWJhJ+LhvXBP8IPg+lwGbf3eGHzhv7ZZM
 Fbb2XGNb/3tzJI7g3h+u6Nx7xl7dH47WNhKRI=
X-Google-DKIM-Signature: v=1; a=rsa-sha256; c=relaxed/relaxed;
 d=1e100.net; s=20230601; t=1730033212; x=1730638012;
 h=references:in-reply-to:cc:to:from:subject:message-id:date
 :x-gm-message-state:from:to:cc:subject:date:message-id:reply-to;
 bh=JwIDOwhG8pfuRjBAJf0X4d5dLuWRhD352dpSSnOFHlo=;
 b=ukV30ijIukydfOI7tGAYWENbXZvM5WZ3JDCxnfSR3miXo7ohVjozNGbjFEfwMVxZn+
 XB8+acSG3QubqQXMHEcefOw3OV0j3x9uhzAy7ZmSkoKSAeYKwQFe9EkvC6xQaQqoYqFj
 YlJ8AcqSLK2FqYY26LrZmQs/+SPI0lwraqabw9DgU1TEZqxuZqGSF4Ywi83sa9bfwY6K
 rSGEifpGztCVRfQ1BmLCjJ/gnI9gkEvcNa24J8mkieYiv36isMvFv/9rJt/IVH0HJKXi
 bBtLiYPTKU/kBBXhD5svWd8ETXJVqaKNeNDFddOeXvNRDqs4H0xnnw5C+Mo1zsh1XTbP
 FvYA==
X-Gm-Message-State: AOJu0YzpyoazTgO3VkZl2PAgRxbA3l5clU3ynKfwu3k9pstQlJIhLZ8t
 6+J3z8FLKlNQDWbXNyZ+6ZwBTE3biF9Gljg/LHXA8/CUQkzT7uxQGsd0NpvNWIizMCJ+1VyOE24
 UCLWS60YFf5dTtxoAkAodDVJxZwbty9Ek1RcHWhIV9Ka6Py2qymBD7ld7
X-Google-Smtp-Source: AGHT+IE1CMhfnP+rEW1prdHrRq++9p7ft5SHRbvDlb6JFSFrr2TQTpsOx9N21Ds+XqmCGHDgvK+jefd0evdM
X-Received: by 2002:ac8:58c5:0:b0:456:8ee8:f5f1 with SMTP id
 d75a77b69052e-4613c047b88mr73777981cf.31.1730033212098; 
 Sun, 27 Oct 2024 05:46:52 -0700 (PDT)
Received: from postal.iol.unh.edu (postal.iol.unh.edu.
 [2606:4100:3880:1234::84]) by smtp-relay.gmail.com with ESMTPS id
 d75a77b69052e-4613211c773sm2006111cf.5.2024.10.27.05.46.52
 (version=TLS1_2 cipher=ECDHE-ECDSA-AES128-GCM-SHA256 bits=128/128);
 Sun, 27 Oct 2024 05:46:52 -0700 (PDT)
X-Relaying-Domain: iol.unh.edu
Date: Sun, 27 Oct 2024 05:46:52 -0700 (PDT)
Message-ID: <671e363c.c80a0220.314087.dc36SMTPIN_ADDED_MISSING@mx.google.com>
Received: from [172.17.0.2] (unknown [172.18.0.217])
 by postal.iol.unh.edu (Postfix) with ESMTP id CC3C16052471;
 Sun, 27 Oct 2024 08:46:51 -0400 (EDT)
Subject: |SUCCESS| pw146611-146616 [PATCH] [v7,9/9] net/zxdh: add zxdh dev co
From: dpdklab@iol.unh.edu
To: Test Report <test-report@dpdk.org>
Cc: dpdk-test-reports@iol.unh.edu
In-Reply-To: <20241022122042.2127065-10-wang.junlong1@zte.com.cn>
References: <20241022122042.2127065-10-wang.junlong1@zte.com.cn>
Content-Type: text/plain
X-BeenThere: test-report@dpdk.org
X-Mailman-Version: 2.1.29
Precedence: list
List-Id: automatic DPDK test reports <test-report.dpdk.org>
List-Unsubscribe: <https://mails.dpdk.org/options/test-report>,
 <mailto:test-report-request@dpdk.org?subject=unsubscribe>
List-Archive: <http://mails.dpdk.org/archives/test-report/>
List-Post: <mailto:test-report@dpdk.org>
List-Help: <mailto:test-report-request@dpdk.org?subject=help>
List-Subscribe: <https://mails.dpdk.org/listinfo/test-report>,
 <mailto:test-report-request@dpdk.org?subject=subscribe>
Errors-To: test-report-bounces@dpdk.org

Test-Label: iol-compile-amd64-testing
Test-Status: SUCCESS
http://dpdk.org/patch/146616

_Testing PASS_

Submitter: Junlong Wang <wang.junlong1@zte.com.cn>
Date: Tuesday, October 22 2024 12:20:42 
DPDK git baseline: Repo:dpdk
  Branch: master
  CommitID:5bb17458f32befba8a2cccd9553ea65cd8b99581

146611-146616 --> testing pass

Upstream job id: Windows-Compile-DPDK-Native#23663

Test environment and result as below:

+---------------------+--------------------+----------------------+-----------------------+------------------+-------------------+
|     Environment     | dpdk_meson_compile | dpdk_mingw64_compile | dpdk_win_llvm_compile | dpdk_compile_ovs | dpdk_compile_spdk |
+=====================+====================+======================+=======================+==================+===================+
| FreeBSD 14.1        | PASS               | SKIPPED              | SKIPPED               | SKIPPED          | SKIPPED           |
+---------------------+--------------------+----------------------+-----------------------+------------------+-------------------+
| CentOS Stream 9     | PASS               | SKIPPED              | SKIPPED               | PASS             | PASS              |
+---------------------+--------------------+----------------------+-----------------------+------------------+-------------------+
| Debian Bullseye     | PASS               | SKIPPED              | SKIPPED               | PASS             | PASS              |
+---------------------+--------------------+----------------------+-----------------------+------------------+-------------------+
| Debian 12           | PASS               | SKIPPED              | SKIPPED               | PASS             | PASS              |
+---------------------+--------------------+----------------------+-----------------------+------------------+-------------------+
| Fedora 37           | PASS               | SKIPPED              | SKIPPED               | PASS             | PASS              |
+---------------------+--------------------+----------------------+-----------------------+------------------+-------------------+
| Fedora 38 (Clang)   | PASS               | SKIPPED              | SKIPPED               | PASS             | PASS              |
+---------------------+--------------------+----------------------+-----------------------+------------------+-------------------+
| Fedora 38           | PASS               | SKIPPED              | SKIPPED               | PASS             | PASS              |
+---------------------+--------------------+----------------------+-----------------------+------------------+-------------------+
| Fedora 39 (Clang)   | PASS               | SKIPPED              | SKIPPED               | PASS             | PASS              |
+---------------------+--------------------+----------------------+-----------------------+------------------+-------------------+
| Fedora 39           | PASS               | SKIPPED              | SKIPPED               | PASS             | PASS              |
+---------------------+--------------------+----------------------+-----------------------+------------------+-------------------+
| Fedora 40 (Clang)   | PASS               | SKIPPED              | SKIPPED               | PASS             | PASS              |
+---------------------+--------------------+----------------------+-----------------------+------------------+-------------------+
| Fedora 40           | PASS               | SKIPPED              | SKIPPED               | PASS             | PASS              |
+---------------------+--------------------+----------------------+-----------------------+------------------+-------------------+
| openSUSE Leap 15    | PASS               | SKIPPED              | SKIPPED               | PASS             | SKIPPED           |
+---------------------+--------------------+----------------------+-----------------------+------------------+-------------------+
| RHEL8               | PASS               | SKIPPED              | SKIPPED               | PASS             | SKIPPED           |
+---------------------+--------------------+----------------------+-----------------------+------------------+-------------------+
| RHEL9               | PASS               | SKIPPED              | SKIPPED               | PASS             | SKIPPED           |
+---------------------+--------------------+----------------------+-----------------------+------------------+-------------------+
| Ubuntu 20.04        | PASS               | SKIPPED              | SKIPPED               | PASS             | SKIPPED           |
+---------------------+--------------------+----------------------+-----------------------+------------------+-------------------+
| Ubuntu 22.04        | PASS               | SKIPPED              | SKIPPED               | PASS             | PASS              |
+---------------------+--------------------+----------------------+-----------------------+------------------+-------------------+
| Ubuntu 24.04        | PASS               | SKIPPED              | SKIPPED               | PASS             | PASS              |
+---------------------+--------------------+----------------------+-----------------------+------------------+-------------------+
| Alpine              | PASS               | SKIPPED              | SKIPPED               | PASS             | SKIPPED           |
+---------------------+--------------------+----------------------+-----------------------+------------------+-------------------+
| Windows Server 2022 | SKIPPED            | PASS                 | PASS                  | SKIPPED          | SKIPPED           |
+---------------------+--------------------+----------------------+-----------------------+------------------+-------------------+


FreeBSD 14.1
	Kernel: 14.1-RELEASE-p3
	Compiler: clang 18.1.5

CentOS Stream 9
	Kernel: Depends on container host
	Compiler: gcc 11.4.1 20231218 (Red Hat 11.4.1-3)

Debian Bullseye
	Kernel: Depends on container host
	Compiler: gcc (Debian 10.2.1-6) 10.2.1 20210110

Debian 12
	Kernel: Depends on container host
	Compiler: gcc (Debian 12.2.0-14) 12.2.0

Fedora 37
	Kernel: Depends on container host system
	Compiler: gcc 12.3.1 20230508 (Red Hat 12.3.1-1)

Fedora 38 (Clang)
	Kernel: Depends on container host
	Compiler: clang 16.0.6 (Fedora 16.0.6-4.fc38)

Fedora 38
	Kernel: Depends on container host
	Compiler: gcc 13.2.1 20240316 (Red Hat 13.2.1-7)

Fedora 39 (Clang)
	Kernel: Depends on container host
	Compiler: clang 17.0.6 (Fedora 17.0.6-2.fc39)

Fedora 39
	Kernel: Depends on container host
	Compiler: gcc 13.3.1 20240522 (Red Hat 13.3.1-1)

Fedora 40 (Clang)
	Kernel: Depends on container host
	Compiler: clang 18.1.6 (Fedora 18.1.6-3.fc40)

Fedora 40
	Kernel: Depends on container host
	Compiler: gcc 14.2.1 20240801 (Red Hat 14.2.1-1)

openSUSE Leap 15
	Kernel: Depends on container host
	Compiler: gcc (SUSE Linux) 7.5.0

RHEL8
	Kernel: Depends on container host
	Compiler: gcc 8.5.0 20210514 (Red Hat 8.5.0-22)

RHEL9
	Kernel: Depends on container host
	Compiler: gcc 11.4.1 20231218 (Red Hat 11.4.1-3)

Ubuntu 20.04
	Kernel: Depends on container host
	Compiler: gcc (Ubuntu 9.4.0-1ubuntu1~20.04.2) 9.4.0

Ubuntu 22.04
	Kernel: Depends on container host
	Compiler: gcc (Ubuntu 11.4.0-1ubuntu1~22.04) 11.4.0

Ubuntu 24.04
	Kernel: Depends on container host
	Compiler: gcc (Ubuntu 13.2.0-23ubuntu4) 13.2.0

Alpine
	Kernel: Depends on container host
	Compiler: gcc (Alpine 13.2.1_git20240309) 13.2.1 20240309

Windows Server 2022
	Kernel: 10.0.20348.2031
	Compiler: clang 15.0.7, gcc 14.1.0 (MinGW), and MSVC VS 19.39.33521

To view detailed results, visit:
https://lab.dpdk.org/results/dashboard/patchsets/31596/

UNH-IOL DPDK Community Lab

To manage your email subscriptions, visit: 
https://lab.dpdk.org/results/dashboard/preferences/subscriptions/