From mboxrd@z Thu Jan  1 00:00:00 1970
Return-Path: <test-report-bounces@dpdk.org>
Received: from mails.dpdk.org (mails.dpdk.org [217.70.189.124])
	by inbox.dpdk.org (Postfix) with ESMTP id 260CE45BF2
	for <public@inbox.dpdk.org>; Sun, 27 Oct 2024 13:56:35 +0100 (CET)
Received: from mails.dpdk.org (localhost [127.0.0.1])
	by mails.dpdk.org (Postfix) with ESMTP id 086DA4026C;
	Sun, 27 Oct 2024 13:56:35 +0100 (CET)
Received: from mail-pl1-f228.google.com (mail-pl1-f228.google.com
 [209.85.214.228])
 by mails.dpdk.org (Postfix) with ESMTP id 1D58C40151
 for <test-report@dpdk.org>; Sun, 27 Oct 2024 13:56:33 +0100 (CET)
Received: by mail-pl1-f228.google.com with SMTP id
 d9443c01a7336-20caccadbeeso36472655ad.2
 for <test-report@dpdk.org>; Sun, 27 Oct 2024 05:56:33 -0700 (PDT)
DKIM-Signature: v=1; a=rsa-sha256; c=relaxed/relaxed;
 d=iol.unh.edu; s=unh-iol; t=1730033792; x=1730638592; darn=dpdk.org;
 h=references:in-reply-to:cc:to:from:subject:message-id:date:from:to
 :cc:subject:date:message-id:reply-to;
 bh=KjhK0b1Y6EkDdtIXJBex9CS+tDfuP2Vq4RFFLWwFzaE=;
 b=i+G6h1/RgygDfzl63FKV1HO8jFDts+b1f0LTIZsnz2eS4iLNiPCdg5od/TFhpdtxQP
 zNSUrxk3P0313KjfcWdNcqYFD1ix0mb6Ig7khj6aF8O1RHnjyxhahbKIuf+br+fCBzDK
 KaLgX6SrDfPDB8brNwVE7L0Lbiu+bCwbAKnzk=
X-Google-DKIM-Signature: v=1; a=rsa-sha256; c=relaxed/relaxed;
 d=1e100.net; s=20230601; t=1730033792; x=1730638592;
 h=references:in-reply-to:cc:to:from:subject:message-id:date
 :x-gm-message-state:from:to:cc:subject:date:message-id:reply-to;
 bh=KjhK0b1Y6EkDdtIXJBex9CS+tDfuP2Vq4RFFLWwFzaE=;
 b=omcvboZFsyz6CV11lQwEj31zBKZ9ZMkrQFnUyl8+a9mBfegjWF0MLeXTMmjA0xYlVd
 ULaQ/giL4rGfH2/nNocIhYCo+o4vMS9tC2zRkbwFjEmTqBDBMUcGPlSOxK8ZocJTX+co
 aoIzwu1mDpZiHC/gqkrBqm48m6ae2SLU7o8fXRkmrNmoLEf4LjgLC5hsSIr1sm/KVJ4r
 RCLGwxKWDggq7KhxMQbfZSngvM4BD+To4o6iO11nLMw5BR3EannOw8kockYwOhIDqAN0
 t8FnDXR6dLN/sJdg58W8/NRHcKez8FVEcHNHsVmESHEixgDL+11jcaxtc4Fp6m9WzJrK
 9EWA==
X-Gm-Message-State: AOJu0YwAboIQ87k8zG1Nz+qbT0ZOOWB7WJ31wmf/SRb3qgnntQCaZ+V0
 B0GdgGuM7yElCLwJbsW4yAu2bVqq4txdp6DdP+WVnp4WtUtmjJ3OEeMYsiiR/fXb217nHY5tDNJ
 qCKI2Nu2mr9WWN1RdMpEB9eAy0EzXE0vWCY2GGw3xd0+V643JRRq7omui
X-Google-Smtp-Source: AGHT+IFYnJ49nPfwvz61bP8FYh59IjN6UPtZYl+HXajeweIINw65ehMea3hiZSODJh9nlPp4R3SbVSZYbQSN
X-Received: by 2002:a17:903:1cf:b0:20b:7ed8:3978 with SMTP id
 d9443c01a7336-210c6c3ac64mr70779115ad.26.1730033792185; 
 Sun, 27 Oct 2024 05:56:32 -0700 (PDT)
Received: from postal.iol.unh.edu (postal.iol.unh.edu.
 [2606:4100:3880:1234::84]) by smtp-relay.gmail.com with ESMTPS id
 d9443c01a7336-210bbfdcc6fsm2254785ad.108.2024.10.27.05.56.32
 (version=TLS1_2 cipher=ECDHE-ECDSA-AES128-GCM-SHA256 bits=128/128);
 Sun, 27 Oct 2024 05:56:32 -0700 (PDT)
X-Relaying-Domain: iol.unh.edu
Date: Sun, 27 Oct 2024 05:56:32 -0700 (PDT)
Message-ID: <671e3880.170a0220.3d08d7.fbccSMTPIN_ADDED_MISSING@mx.google.com>
Received: from [172.17.0.2] (unknown [172.18.0.217])
 by postal.iol.unh.edu (Postfix) with ESMTP id DA8AE6052471;
 Sun, 27 Oct 2024 08:56:30 -0400 (EDT)
Subject: |SUCCESS| pw146854 [PATCH] [v2,1/1] event/octeontx: resolve possible
From: dpdklab@iol.unh.edu
To: Test Report <test-report@dpdk.org>
Cc: dpdk-test-reports@iol.unh.edu
In-Reply-To: <20241023071546.865609-1-hpothula@marvell.com>
References: <20241023071546.865609-1-hpothula@marvell.com>
Content-Type: text/plain
X-BeenThere: test-report@dpdk.org
X-Mailman-Version: 2.1.29
Precedence: list
List-Id: automatic DPDK test reports <test-report.dpdk.org>
List-Unsubscribe: <https://mails.dpdk.org/options/test-report>,
 <mailto:test-report-request@dpdk.org?subject=unsubscribe>
List-Archive: <http://mails.dpdk.org/archives/test-report/>
List-Post: <mailto:test-report@dpdk.org>
List-Help: <mailto:test-report-request@dpdk.org?subject=help>
List-Subscribe: <https://mails.dpdk.org/listinfo/test-report>,
 <mailto:test-report-request@dpdk.org?subject=subscribe>
Errors-To: test-report-bounces@dpdk.org

Test-Label: iol-compile-amd64-testing
Test-Status: SUCCESS
http://dpdk.org/patch/146854

_Testing PASS_

Submitter: Hanumanth Pothula <hpothula@marvell.com>
Date: Wednesday, October 23 2024 07:15:46 
DPDK git baseline: Repo:dpdk
  Branch: master
  CommitID:920fc013f4264b9d231f64fc934e6633e6ac4fb8

146854 --> testing pass

Upstream job id: Windows-Compile-DPDK-Native#23667

Test environment and result as below:

+---------------------+--------------------+-----------------------+------------------+-------------------+
|     Environment     | dpdk_meson_compile | dpdk_win_llvm_compile | dpdk_compile_ovs | dpdk_compile_spdk |
+=====================+====================+=======================+==================+===================+
| FreeBSD 14.1        | PASS               | SKIPPED               | SKIPPED          | SKIPPED           |
+---------------------+--------------------+-----------------------+------------------+-------------------+
| CentOS Stream 9     | PASS               | SKIPPED               | PASS             | PASS              |
+---------------------+--------------------+-----------------------+------------------+-------------------+
| Debian Bullseye     | PASS               | SKIPPED               | PASS             | PASS              |
+---------------------+--------------------+-----------------------+------------------+-------------------+
| Debian 12           | PASS               | SKIPPED               | PASS             | PASS              |
+---------------------+--------------------+-----------------------+------------------+-------------------+
| Fedora 37           | PASS               | SKIPPED               | PASS             | PASS              |
+---------------------+--------------------+-----------------------+------------------+-------------------+
| Fedora 38 (Clang)   | PASS               | SKIPPED               | PASS             | PASS              |
+---------------------+--------------------+-----------------------+------------------+-------------------+
| Fedora 38           | PASS               | SKIPPED               | PASS             | PASS              |
+---------------------+--------------------+-----------------------+------------------+-------------------+
| Fedora 39 (Clang)   | PASS               | SKIPPED               | PASS             | PASS              |
+---------------------+--------------------+-----------------------+------------------+-------------------+
| Fedora 39           | PASS               | SKIPPED               | PASS             | PASS              |
+---------------------+--------------------+-----------------------+------------------+-------------------+
| Fedora 40 (Clang)   | PASS               | SKIPPED               | PASS             | PASS              |
+---------------------+--------------------+-----------------------+------------------+-------------------+
| Fedora 40           | PASS               | SKIPPED               | PASS             | PASS              |
+---------------------+--------------------+-----------------------+------------------+-------------------+
| openSUSE Leap 15    | PASS               | SKIPPED               | PASS             | SKIPPED           |
+---------------------+--------------------+-----------------------+------------------+-------------------+
| RHEL9               | PASS               | SKIPPED               | PASS             | SKIPPED           |
+---------------------+--------------------+-----------------------+------------------+-------------------+
| Ubuntu 20.04        | PASS               | SKIPPED               | PASS             | SKIPPED           |
+---------------------+--------------------+-----------------------+------------------+-------------------+
| Ubuntu 22.04        | PASS               | SKIPPED               | PASS             | PASS              |
+---------------------+--------------------+-----------------------+------------------+-------------------+
| Ubuntu 24.04        | PASS               | SKIPPED               | PASS             | PASS              |
+---------------------+--------------------+-----------------------+------------------+-------------------+
| Alpine              | PASS               | SKIPPED               | PASS             | SKIPPED           |
+---------------------+--------------------+-----------------------+------------------+-------------------+
| RHEL8               | PASS               | SKIPPED               | PASS             | SKIPPED           |
+---------------------+--------------------+-----------------------+------------------+-------------------+
| Windows Server 2022 | SKIPPED            | PASS                  | SKIPPED          | SKIPPED           |
+---------------------+--------------------+-----------------------+------------------+-------------------+


FreeBSD 14.1
	Kernel: 14.1-RELEASE-p3
	Compiler: clang 18.1.5

CentOS Stream 9
	Kernel: Depends on container host
	Compiler: gcc 11.4.1 20231218 (Red Hat 11.4.1-3)

Debian Bullseye
	Kernel: Depends on container host
	Compiler: gcc (Debian 10.2.1-6) 10.2.1 20210110

Debian 12
	Kernel: Depends on container host
	Compiler: gcc (Debian 12.2.0-14) 12.2.0

Fedora 37
	Kernel: Depends on container host system
	Compiler: gcc 12.3.1 20230508 (Red Hat 12.3.1-1)

Fedora 38 (Clang)
	Kernel: Depends on container host
	Compiler: clang 16.0.6 (Fedora 16.0.6-4.fc38)

Fedora 38
	Kernel: Depends on container host
	Compiler: gcc 13.2.1 20240316 (Red Hat 13.2.1-7)

Fedora 39 (Clang)
	Kernel: Depends on container host
	Compiler: clang 17.0.6 (Fedora 17.0.6-2.fc39)

Fedora 39
	Kernel: Depends on container host
	Compiler: gcc 13.3.1 20240522 (Red Hat 13.3.1-1)

Fedora 40 (Clang)
	Kernel: Depends on container host
	Compiler: clang 18.1.6 (Fedora 18.1.6-3.fc40)

Fedora 40
	Kernel: Depends on container host
	Compiler: gcc 14.2.1 20240801 (Red Hat 14.2.1-1)

openSUSE Leap 15
	Kernel: Depends on container host
	Compiler: gcc (SUSE Linux) 7.5.0

RHEL9
	Kernel: Depends on container host
	Compiler: gcc 11.4.1 20231218 (Red Hat 11.4.1-3)

Ubuntu 20.04
	Kernel: Depends on container host
	Compiler: gcc (Ubuntu 9.4.0-1ubuntu1~20.04.2) 9.4.0

Ubuntu 22.04
	Kernel: Depends on container host
	Compiler: gcc (Ubuntu 11.4.0-1ubuntu1~22.04) 11.4.0

Ubuntu 24.04
	Kernel: Depends on container host
	Compiler: gcc (Ubuntu 13.2.0-23ubuntu4) 13.2.0

Alpine
	Kernel: Depends on container host
	Compiler: gcc (Alpine 13.2.1_git20240309) 13.2.1 20240309

RHEL8
	Kernel: Depends on container host
	Compiler: gcc 8.5.0 20210514 (Red Hat 8.5.0-22)

Windows Server 2022
	Kernel: 10.0.20348.2031
	Compiler: clang 15.0.7, gcc 14.1.0 (MinGW), and MSVC VS 19.39.33521

To view detailed results, visit:
https://lab.dpdk.org/results/dashboard/patchsets/31617/

UNH-IOL DPDK Community Lab

To manage your email subscriptions, visit: 
https://lab.dpdk.org/results/dashboard/preferences/subscriptions/