From mboxrd@z Thu Jan  1 00:00:00 1970
Return-Path: <test-report-bounces@dpdk.org>
Received: from mails.dpdk.org (mails.dpdk.org [217.70.189.124])
	by inbox.dpdk.org (Postfix) with ESMTP id 5564445BFB
	for <public@inbox.dpdk.org>; Mon, 28 Oct 2024 08:38:57 +0100 (CET)
Received: from mails.dpdk.org (localhost [127.0.0.1])
	by mails.dpdk.org (Postfix) with ESMTP id 50C2440678;
	Mon, 28 Oct 2024 08:38:57 +0100 (CET)
Received: from mail-qv1-f97.google.com (mail-qv1-f97.google.com
 [209.85.219.97]) by mails.dpdk.org (Postfix) with ESMTP id 49BF14066C
 for <test-report@dpdk.org>; Mon, 28 Oct 2024 08:38:56 +0100 (CET)
Received: by mail-qv1-f97.google.com with SMTP id
 6a1803df08f44-6cbe9914487so25546566d6.1
 for <test-report@dpdk.org>; Mon, 28 Oct 2024 00:38:56 -0700 (PDT)
DKIM-Signature: v=1; a=rsa-sha256; c=relaxed/relaxed;
 d=iol.unh.edu; s=unh-iol; t=1730101135; x=1730705935; darn=dpdk.org;
 h=references:in-reply-to:cc:to:from:subject:message-id:date:from:to
 :cc:subject:date:message-id:reply-to;
 bh=NS2FTMMGHNc8Tf3qqm1H9lLz3Pnt5ZkjhsjJ95T7To4=;
 b=Wo05po2f8KWkdt2JDNEjADkX9/dFknFeJW28b807yHXU+BAySh5j3piXTVBldZtMRm
 E9ckUSX62dLJ9srW6k1ZEC4ug8dYLuzcHL3aZJKk/ZjyQgn8q/TOrsxZppGsKJOrlT5B
 DS9EKGHkFBmoYmX8YCRrlK6dG+nc2i5/DJ6Ro=
X-Google-DKIM-Signature: v=1; a=rsa-sha256; c=relaxed/relaxed;
 d=1e100.net; s=20230601; t=1730101135; x=1730705935;
 h=references:in-reply-to:cc:to:from:subject:message-id:date
 :x-gm-message-state:from:to:cc:subject:date:message-id:reply-to;
 bh=NS2FTMMGHNc8Tf3qqm1H9lLz3Pnt5ZkjhsjJ95T7To4=;
 b=Yi3yn8kwU+625OB++4cnGEau+3ElnZlCeRcJaaBwReaNL2O14E3LwYF2/9c5EwF4Jw
 JgBEqhdIl14nzivD+CGV4SiJRaa7e7FK1c39q/sQSXP+vXevc0rS2MZDez4fydYI1x4I
 zrEsm3PoOVAvo2o+OnTcGc8ODes7T9li6rfbJnVst3XenT9w25JyWOKmOvgPIYvWgYhM
 LQIjRV0ulZB7YG9l9zPURmwjLTHyc2ADJ8o9RE0RfG7PI062a3+pMUGP0WV8wHn2ZbJG
 JwwTWgGPzYONRooRap9KaObYRARH2gZ9/Pr2OSfGxkv7zCLWH5vP6ZhPAcjC7L87fnNR
 VAJg==
X-Gm-Message-State: AOJu0YzLYfonjrxIfXYlOF/sqx1wKmSQhIQgOr9VRCT9F9RnK9nVlp0P
 fJ/tlOM59oGeKRKZXboKgU0KwGVEuo1aRQ3shjTBuiGf9guBWyWB9nJKM6IATS5GFoFQERFTFDy
 nPoGPIjYCfouI7K+z9KzPnz55SCguH69kKl/P22Jt
X-Google-Smtp-Source: AGHT+IGlR+ZYjpCZy1i22eN3yOjZtCZgvAMu6ziTLGfwB10h0G0DYFEhNamaKP9GRhYJw1kJP+kGmr9aapZD
X-Received: by 2002:a05:6214:2e06:b0:6d1:87d7:c69c with SMTP id
 6a1803df08f44-6d187d7c6edmr117490836d6.47.1730101135627; 
 Mon, 28 Oct 2024 00:38:55 -0700 (PDT)
Received: from postal.iol.unh.edu (postal.iol.unh.edu. [132.177.123.84])
 by smtp-relay.gmail.com with ESMTPS id
 6a1803df08f44-6d17994282dsm1517446d6.17.2024.10.28.00.38.55
 (version=TLS1_2 cipher=ECDHE-ECDSA-AES128-GCM-SHA256 bits=128/128);
 Mon, 28 Oct 2024 00:38:55 -0700 (PDT)
X-Relaying-Domain: iol.unh.edu
Date: Mon, 28 Oct 2024 00:38:55 -0700 (PDT)
Message-ID: <671f3f8f.050a0220.292a53.a782SMTPIN_ADDED_MISSING@mx.google.com>
Received: from [172.17.0.4] (unknown [172.18.0.217])
 by postal.iol.unh.edu (Postfix) with ESMTP id 56AE36052471;
 Mon, 28 Oct 2024 03:38:55 -0400 (EDT)
Subject: |SUCCESS| pw147438 [PATCH] dumpcap: check return value from adding i
From: dpdklab@iol.unh.edu
To: Test Report <test-report@dpdk.org>
Cc: dpdk-test-reports@iol.unh.edu
In-Reply-To: <20241027182903.209391-1-stephen@networkplumber.org>
References: <20241027182903.209391-1-stephen@networkplumber.org>
Content-Type: text/plain
X-BeenThere: test-report@dpdk.org
X-Mailman-Version: 2.1.29
Precedence: list
List-Id: automatic DPDK test reports <test-report.dpdk.org>
List-Unsubscribe: <https://mails.dpdk.org/options/test-report>,
 <mailto:test-report-request@dpdk.org?subject=unsubscribe>
List-Archive: <http://mails.dpdk.org/archives/test-report/>
List-Post: <mailto:test-report@dpdk.org>
List-Help: <mailto:test-report-request@dpdk.org?subject=help>
List-Subscribe: <https://mails.dpdk.org/listinfo/test-report>,
 <mailto:test-report-request@dpdk.org?subject=subscribe>
Errors-To: test-report-bounces@dpdk.org

Test-Label: iol-unit-amd64-testing
Test-Status: SUCCESS
http://dpdk.org/patch/147438

_Testing PASS_

Submitter: Stephen Hemminger <stephen@networkplumber.org>
Date: Sunday, October 27 2024 18:28:48 
DPDK git baseline: Repo:dpdk
  Branch: master
  CommitID:6dad0bb5c8621644beca86ff5f4910a943ba604d

147438 --> testing pass

Upstream job id: Generic-Unit-Test-DPDK#283859

Test environment and result as below:

+-------------------+----------------+
|    Environment    | dpdk_unit_test |
+===================+================+
| Ubuntu 24.04      | PASS           |
+-------------------+----------------+
| Ubuntu 22.04      | PASS           |
+-------------------+----------------+
| Ubuntu 20.04      | PASS           |
+-------------------+----------------+
| RHEL8             | PASS           |
+-------------------+----------------+
| RHEL9             | PASS           |
+-------------------+----------------+
| Fedora 40 (Clang) | PASS           |
+-------------------+----------------+
| Fedora 40         | PASS           |
+-------------------+----------------+
| Fedora 39 (Clang) | PASS           |
+-------------------+----------------+
| Debian Bullseye   | PASS           |
+-------------------+----------------+
| CentOS Stream 9   | PASS           |
+-------------------+----------------+
| Fedora 39         | PASS           |
+-------------------+----------------+
| Debian 12         | PASS           |
+-------------------+----------------+
| Fedora 37         | PASS           |
+-------------------+----------------+
| Fedora 38 (Clang) | PASS           |
+-------------------+----------------+
| Fedora 38         | PASS           |
+-------------------+----------------+


Ubuntu 24.04
	Kernel: Depends on container host
	Compiler: gcc (Ubuntu 13.2.0-23ubuntu4) 13.2.0

Ubuntu 22.04
	Kernel: Depends on container host
	Compiler: gcc (Ubuntu 11.4.0-1ubuntu1~22.04) 11.4.0

Ubuntu 20.04
	Kernel: Depends on container host
	Compiler: gcc (Ubuntu 9.4.0-1ubuntu1~20.04.2) 9.4.0

RHEL8
	Kernel: Depends on container host
	Compiler: gcc 8.5.0 20210514 (Red Hat 8.5.0-22)

RHEL9
	Kernel: Depends on container host
	Compiler: gcc 11.4.1 20231218 (Red Hat 11.4.1-3)

Fedora 40 (Clang)
	Kernel: Depends on container host
	Compiler: clang 18.1.6 (Fedora 18.1.6-3.fc40)

Fedora 40
	Kernel: Depends on container host
	Compiler: gcc 14.2.1 20240801 (Red Hat 14.2.1-1)

Fedora 39 (Clang)
	Kernel: Depends on container host
	Compiler: clang 17.0.6 (Fedora 17.0.6-2.fc39)

Debian Bullseye
	Kernel: Depends on container host
	Compiler: gcc (Debian 10.2.1-6) 10.2.1 20210110

CentOS Stream 9
	Kernel: Depends on container host
	Compiler: gcc 11.4.1 20231218 (Red Hat 11.4.1-3)

Fedora 39
	Kernel: Depends on container host
	Compiler: gcc 13.3.1 20240522 (Red Hat 13.3.1-1)

Debian 12
	Kernel: Depends on container host
	Compiler: gcc (Debian 12.2.0-14) 12.2.0

Fedora 37
	Kernel: Depends on container host system
	Compiler: gcc 12.3.1 20230508 (Red Hat 12.3.1-1)

Fedora 38 (Clang)
	Kernel: Depends on container host
	Compiler: clang 16.0.6 (Fedora 16.0.6-4.fc38)

Fedora 38
	Kernel: Depends on container host
	Compiler: gcc 13.2.1 20240316 (Red Hat 13.2.1-7)

To view detailed results, visit:
https://lab.dpdk.org/results/dashboard/patchsets/31711/

UNH-IOL DPDK Community Lab

To manage your email subscriptions, visit: 
https://lab.dpdk.org/results/dashboard/preferences/subscriptions/