From mboxrd@z Thu Jan  1 00:00:00 1970
Return-Path: <test-report-bounces@dpdk.org>
Received: from mails.dpdk.org (mails.dpdk.org [217.70.189.124])
	by inbox.dpdk.org (Postfix) with ESMTP id 2586945BFB
	for <public@inbox.dpdk.org>; Mon, 28 Oct 2024 08:54:38 +0100 (CET)
Received: from mails.dpdk.org (localhost [127.0.0.1])
	by mails.dpdk.org (Postfix) with ESMTP id 02FA540678;
	Mon, 28 Oct 2024 08:54:38 +0100 (CET)
Received: from mail-pj1-f97.google.com (mail-pj1-f97.google.com
 [209.85.216.97]) by mails.dpdk.org (Postfix) with ESMTP id 7AA8A4066C
 for <test-report@dpdk.org>; Mon, 28 Oct 2024 08:54:36 +0100 (CET)
Received: by mail-pj1-f97.google.com with SMTP id
 98e67ed59e1d1-2e2e050b1c3so3457162a91.0
 for <test-report@dpdk.org>; Mon, 28 Oct 2024 00:54:36 -0700 (PDT)
DKIM-Signature: v=1; a=rsa-sha256; c=relaxed/relaxed;
 d=iol.unh.edu; s=unh-iol; t=1730102075; x=1730706875; darn=dpdk.org;
 h=references:in-reply-to:cc:to:from:subject:message-id:date:from:to
 :cc:subject:date:message-id:reply-to;
 bh=aIiKGTt1sc8+qE9YRJiCvDwltJ0pknSPjEtOdbohg1I=;
 b=GCC36epVVURmAzJ0gZxNonFGyglMTMVliRLJtvzRq1le7bJtvC+JjeOtH1+D0xuEbW
 45GOiMon5N/b/S/4E2mGmKkxnHHWo5GXbUuuOzwG2cSs+HMvruKAWX4JueYGq2y93+7Y
 Ojc3eJrjDTsCRjMw+aYnN6ABTeOLNTPiWvyOs=
X-Google-DKIM-Signature: v=1; a=rsa-sha256; c=relaxed/relaxed;
 d=1e100.net; s=20230601; t=1730102075; x=1730706875;
 h=references:in-reply-to:cc:to:from:subject:message-id:date
 :x-gm-message-state:from:to:cc:subject:date:message-id:reply-to;
 bh=aIiKGTt1sc8+qE9YRJiCvDwltJ0pknSPjEtOdbohg1I=;
 b=C6oArEfQhIgqfMBvQWDp3fsPCUf333kHhkKCrcQMDhdnHGGVkYGb3LS8IVidUxlBu7
 +47wXVHQdlWspiaaZ92Rl6BbqachyuIVKWeiVoeUkiA/tj61BRxVgMgLt8J8/lzlFAL/
 4m7r2rEohaWRbksLltVjtvo5cmoRt8j/G7Gl9QBQ+i/PSBHWp0USCwFDWstZ1SMQVJvV
 rhtPIhuOnxTI7X/ccoZdFJwRWZst0ImTLUyQVZ/67vc67ciNDNT88GORLaB1T33i64h5
 AclBz6L229WoTyesg+R3iE9+gO6GHvUmYAm3IgFGaVDtORdfOxRdgAM0btt94l/T6+c4
 6mGg==
X-Gm-Message-State: AOJu0Yyx5pLHshqNx60LUhPv1v0rqilRVfTwT3/G1WNJ4HDHh8ch5spz
 2SCDewkCx0tk77D/jqXMYF3nS2SCcya01rvnx5Z9MlZbzXVLiAKk0bZVt+uTF9t8U4X++KOo69F
 qGri74Ezd2stPEIRbw4XG6dNyLYoVLUHsFtDIQuSO0YHxDxcLfqiC2D/u
X-Google-Smtp-Source: AGHT+IFjirW2zTtqFwuU3xafOHcxPYIhVW+oc3HrBp8smYUpBqlPhego4n4wNTJGke13Z7R/zMatnMpBGdAN
X-Received: by 2002:a17:90b:1b0d:b0:2e0:8780:ecb with SMTP id
 98e67ed59e1d1-2e8f076f593mr10385162a91.12.1730102075520; 
 Mon, 28 Oct 2024 00:54:35 -0700 (PDT)
Received: from postal.iol.unh.edu (postal.iol.unh.edu.
 [2606:4100:3880:1234::84]) by smtp-relay.gmail.com with ESMTPS id
 98e67ed59e1d1-2e77e48ebaasm459199a91.3.2024.10.28.00.54.35
 (version=TLS1_2 cipher=ECDHE-ECDSA-AES128-GCM-SHA256 bits=128/128);
 Mon, 28 Oct 2024 00:54:35 -0700 (PDT)
X-Relaying-Domain: iol.unh.edu
Date: Mon, 28 Oct 2024 00:54:35 -0700 (PDT)
Message-ID: <671f433b.170a0220.2b9e49.f2f5SMTPIN_ADDED_MISSING@mx.google.com>
Received: from [172.21.0.7] (unknown [172.18.0.240])
 by postal.iol.unh.edu (Postfix) with ESMTP id 914146052471;
 Mon, 28 Oct 2024 03:54:34 -0400 (EDT)
Subject: |SUCCESS| pw146430-146428 [PATCH] [10/10] eventdev: remove single ev
From: dpdklab@iol.unh.edu
To: Test Report <test-report@dpdk.org>
Cc: dpdk-test-reports@iol.unh.edu
In-Reply-To: <20241021090653.864237-11-mattias.ronnblom@ericsson.com>
References: <20241021090653.864237-11-mattias.ronnblom@ericsson.com>
Content-Type: text/plain
X-BeenThere: test-report@dpdk.org
X-Mailman-Version: 2.1.29
Precedence: list
List-Id: automatic DPDK test reports <test-report.dpdk.org>
List-Unsubscribe: <https://mails.dpdk.org/options/test-report>,
 <mailto:test-report-request@dpdk.org?subject=unsubscribe>
List-Archive: <http://mails.dpdk.org/archives/test-report/>
List-Post: <mailto:test-report@dpdk.org>
List-Help: <mailto:test-report-request@dpdk.org?subject=help>
List-Subscribe: <https://mails.dpdk.org/listinfo/test-report>,
 <mailto:test-report-request@dpdk.org?subject=subscribe>
Errors-To: test-report-bounces@dpdk.org

Test-Label: iol-sample-apps-testing
Test-Status: SUCCESS
http://dpdk.org/patch/146428

_Testing PASS_

Submitter: Mattias Ronnblom <mattias.ronnblom@ericsson.com>
Date: Monday, October 21 2024 09:06:53 
DPDK git baseline: Repo:dpdk
  Branch: master
  CommitID:e609858b480ca0d646e5f05f2c7fd6bbf35a4140

146430-146428 --> testing pass

Upstream job id: ACVP-FIPS-testing#7452

Test environment and result as below:

+--------------------+----------------------+----------------------+
|    Environment     | compressdev_zlib_pmd | dpdk_fips_validation |
+====================+======================+======================+
| Ubuntu 22.04 (ARM) | PASS                 | SKIPPED              |
+--------------------+----------------------+----------------------+
| Ubuntu 22.04       | PASS                 | SKIPPED              |
+--------------------+----------------------+----------------------+
| Ubuntu 20.04       | SKIPPED              | PASS                 |
+--------------------+----------------------+----------------------+


Ubuntu 22.04 (ARM)
	Kernel: 5.15.0-97-generic
	Compiler: gcc gcc (Ubuntu 11.4.0-1ubuntu1~22.04) 11.4.0

Ubuntu 22.04
	Kernel: 5.15.0-100-generic
	Compiler: gcc gcc (Ubuntu 11.4.0-1ubuntu1~22.04) 11.4.0

Ubuntu 20.04
	Kernel: Depends on container host
	Compiler: gcc (Ubuntu 9.4.0-1ubuntu1~20.04.2) 9.4.0

To view detailed results, visit:
https://lab.dpdk.org/results/dashboard/patchsets/31573/

UNH-IOL DPDK Community Lab

To manage your email subscriptions, visit: 
https://lab.dpdk.org/results/dashboard/preferences/subscriptions/