From mboxrd@z Thu Jan  1 00:00:00 1970
Return-Path: <test-report-bounces@dpdk.org>
Received: from mails.dpdk.org (mails.dpdk.org [217.70.189.124])
	by inbox.dpdk.org (Postfix) with ESMTP id E4AF545BFD
	for <public@inbox.dpdk.org>; Mon, 28 Oct 2024 11:04:54 +0100 (CET)
Received: from mails.dpdk.org (localhost [127.0.0.1])
	by mails.dpdk.org (Postfix) with ESMTP id E1DA8402A3;
	Mon, 28 Oct 2024 11:04:54 +0100 (CET)
Received: from mail-vs1-f100.google.com (mail-vs1-f100.google.com
 [209.85.217.100])
 by mails.dpdk.org (Postfix) with ESMTP id 98C4B400D7
 for <test-report@dpdk.org>; Mon, 28 Oct 2024 11:04:48 +0100 (CET)
Received: by mail-vs1-f100.google.com with SMTP id
 ada2fe7eead31-4a470d330a5so1477095137.3
 for <test-report@dpdk.org>; Mon, 28 Oct 2024 03:04:48 -0700 (PDT)
DKIM-Signature: v=1; a=rsa-sha256; c=relaxed/relaxed;
 d=iol.unh.edu; s=unh-iol; t=1730109888; x=1730714688; darn=dpdk.org;
 h=references:in-reply-to:cc:to:from:subject:message-id:date:from:to
 :cc:subject:date:message-id:reply-to;
 bh=pnW1kLGytUx6gN0xgEUHlsKlbcYsuIKs0AIhEro9pMc=;
 b=TiICUv/ybSbtGbkUKBYPFcbhQRN7UD48ulv6+X5rxCqGkkWdPEFauMk2HqHAw8Mgwk
 W5Kn6PXuLtD2NZrVt/yXMAQMpD83m5myVkzovdOXNY8n6uJ40YbDjDlcDMR4Vapd1vbW
 0QTcY533EUlIW+RTG2Z7d1jNhhkRMWAky5hFQ=
X-Google-DKIM-Signature: v=1; a=rsa-sha256; c=relaxed/relaxed;
 d=1e100.net; s=20230601; t=1730109888; x=1730714688;
 h=references:in-reply-to:cc:to:from:subject:message-id:date
 :x-gm-message-state:from:to:cc:subject:date:message-id:reply-to;
 bh=pnW1kLGytUx6gN0xgEUHlsKlbcYsuIKs0AIhEro9pMc=;
 b=nCKt7aO4BwWn9KpsRiG/DbPjDl1YhFMQqjX5uZ9DJWl8N1ITbKFBqORZV+DEWdYpPf
 d5lQ9dxA8rfSTNCzXLCupbNMBepCGuSbNIBiHaHKtGgMQmZlC02riOnZiyZG7fbByVw1
 ojvK5x6f4u0dOFldFR8JfkHYcYqUIOFO8Dgi5WMyBg3MrxyTmPZGsCgvv3egv+tVyJgO
 lC4C9qO2Esus9IT8FHSzdCDNAwVEy3Fnq+9jyy4GJ5KKUccaah49YUhGVCp8es66zCWp
 CfZE5DG/B4CkTrJUZ5yP6bNFPGTorPElOAn0OUwTPL7whszFSgT+9aK9+sR0qW7mEJfv
 ZBiw==
X-Gm-Message-State: AOJu0YwqeDHFjoJFhQYbZDt1W+YfwMRBOSV+6N0ajTO5CUiVVMcnLhMD
 fil9vS+81BwfVdbjGPhm6TKmP+0uzM10ztXh0SeJt34LhW4WzVs4jze9EJHB/OOLTpixnv7tqX4
 z10N+CfqyZ8ksQZY5UmYEfABjy+CUMHzARqfYwFy+7BrY6Sz7xLVeGtQv
X-Google-Smtp-Source: AGHT+IEB2p7Z2hbi1O14uQ3J4i0JavT2ibuhg1J6OFX29SimTllpO1M8Ba7cj8E+W49kb1J5J7cWpaP6E/+p
X-Received: by 2002:a05:6102:cc6:b0:4a5:b712:2c94 with SMTP id
 ada2fe7eead31-4a8cfb7e823mr4460226137.14.1730109887856; 
 Mon, 28 Oct 2024 03:04:47 -0700 (PDT)
Received: from postal.iol.unh.edu (postal.iol.unh.edu.
 [2606:4100:3880:1234::84]) by smtp-relay.gmail.com with ESMTPS id
 ada2fe7eead31-4a8c51fc820sm120417137.1.2024.10.28.03.04.47
 (version=TLS1_2 cipher=ECDHE-ECDSA-AES128-GCM-SHA256 bits=128/128);
 Mon, 28 Oct 2024 03:04:47 -0700 (PDT)
X-Relaying-Domain: iol.unh.edu
Date: Mon, 28 Oct 2024 03:04:47 -0700 (PDT)
Message-ID: <671f61bf.050a0220.87d9a.79f0SMTPIN_ADDED_MISSING@mx.google.com>
Received: from [172.17.0.3] (unknown [172.18.0.217])
 by postal.iol.unh.edu (Postfix) with ESMTP id 596946052471;
 Mon, 28 Oct 2024 06:04:47 -0400 (EDT)
Subject: |SUCCESS| pw146443-146446 [PATCH] [v3,4/4] buildtools/chkincs: check
From: dpdklab@iol.unh.edu
To: Test Report <test-report@dpdk.org>
Cc: dpdk-test-reports@iol.unh.edu
In-Reply-To: <20241021160447.3538245-5-david.marchand@redhat.com>
References: <20241021160447.3538245-5-david.marchand@redhat.com>
Content-Type: text/plain
X-BeenThere: test-report@dpdk.org
X-Mailman-Version: 2.1.29
Precedence: list
List-Id: automatic DPDK test reports <test-report.dpdk.org>
List-Unsubscribe: <https://mails.dpdk.org/options/test-report>,
 <mailto:test-report-request@dpdk.org?subject=unsubscribe>
List-Archive: <http://mails.dpdk.org/archives/test-report/>
List-Post: <mailto:test-report@dpdk.org>
List-Help: <mailto:test-report-request@dpdk.org?subject=help>
List-Subscribe: <https://mails.dpdk.org/listinfo/test-report>,
 <mailto:test-report-request@dpdk.org?subject=subscribe>
Errors-To: test-report-bounces@dpdk.org

Test-Label: iol-sample-apps-testing
Test-Status: SUCCESS
http://dpdk.org/patch/146446

_Testing PASS_

Submitter: David Marchand <david.marchand@redhat.com>
Date: Monday, October 21 2024 16:04:47 
DPDK git baseline: Repo:dpdk
  Branch: master
  CommitID:cff6dba7ff8521df410b40399fd8aca5b450a05b

146443-146446 --> testing pass

Upstream job id: ACVP-FIPS-testing#7454

Test environment and result as below:

+--------------------+----------------------+----------------------+
|    Environment     | compressdev_zlib_pmd | dpdk_fips_validation |
+====================+======================+======================+
| Ubuntu 22.04 (ARM) | PASS                 | SKIPPED              |
+--------------------+----------------------+----------------------+
| Ubuntu 22.04       | PASS                 | SKIPPED              |
+--------------------+----------------------+----------------------+
| Ubuntu 20.04       | SKIPPED              | PASS                 |
+--------------------+----------------------+----------------------+


Ubuntu 22.04 (ARM)
	Kernel: 5.15.0-97-generic
	Compiler: gcc gcc (Ubuntu 11.4.0-1ubuntu1~22.04) 11.4.0

Ubuntu 22.04
	Kernel: 5.15.0-100-generic
	Compiler: gcc gcc (Ubuntu 11.4.0-1ubuntu1~22.04) 11.4.0

Ubuntu 20.04
	Kernel: Depends on container host
	Compiler: gcc (Ubuntu 9.4.0-1ubuntu1~20.04.2) 9.4.0

To view detailed results, visit:
https://lab.dpdk.org/results/dashboard/patchsets/31578/

UNH-IOL DPDK Community Lab

To manage your email subscriptions, visit: 
https://lab.dpdk.org/results/dashboard/preferences/subscriptions/