From mboxrd@z Thu Jan  1 00:00:00 1970
Return-Path: <test-report-bounces@dpdk.org>
Received: from mails.dpdk.org (mails.dpdk.org [217.70.189.124])
	by inbox.dpdk.org (Postfix) with ESMTP id B842845BFE
	for <public@inbox.dpdk.org>; Mon, 28 Oct 2024 12:11:36 +0100 (CET)
Received: from mails.dpdk.org (localhost [127.0.0.1])
	by mails.dpdk.org (Postfix) with ESMTP id 9BD30402A3;
	Mon, 28 Oct 2024 12:11:36 +0100 (CET)
Received: from mail-il1-f226.google.com (mail-il1-f226.google.com
 [209.85.166.226])
 by mails.dpdk.org (Postfix) with ESMTP id CE442400D7
 for <test-report@dpdk.org>; Mon, 28 Oct 2024 12:11:34 +0100 (CET)
Received: by mail-il1-f226.google.com with SMTP id
 e9e14a558f8ab-3a4d2d028b3so15392735ab.1
 for <test-report@dpdk.org>; Mon, 28 Oct 2024 04:11:34 -0700 (PDT)
DKIM-Signature: v=1; a=rsa-sha256; c=relaxed/relaxed;
 d=iol.unh.edu; s=unh-iol; t=1730113894; x=1730718694; darn=dpdk.org;
 h=references:in-reply-to:cc:to:from:subject:message-id:date:from:to
 :cc:subject:date:message-id:reply-to;
 bh=vbF+e9ULnTAAIK3kRvuES6wGDpnn7Ggc7QkLmY8hqT4=;
 b=WAXWD+zBjaeVFRUdO1mdXxIl7MF92sGcL6Aqpme7LE44V+VBilLnhdt/FYRmlo+mn2
 o4MdvzeT537cDbnsZUdv40/R8Lj65oBhE0OgA1WrG5utrc5vkQXAUtSsUfV5tuVrnMkd
 PSI0ukI3y8uepzLvzFrB4KYJ7RfoaNd5dNMVo=
X-Google-DKIM-Signature: v=1; a=rsa-sha256; c=relaxed/relaxed;
 d=1e100.net; s=20230601; t=1730113894; x=1730718694;
 h=references:in-reply-to:cc:to:from:subject:message-id:date
 :x-gm-message-state:from:to:cc:subject:date:message-id:reply-to;
 bh=vbF+e9ULnTAAIK3kRvuES6wGDpnn7Ggc7QkLmY8hqT4=;
 b=ZvbAYlVXzQvEe7/Ieb1a+hIVNeJxlF61Y7TIxywc5u+hS0Yc+aHywVxJjSFuZntGx3
 MBO1PwC1GyK2zKw8+ErMaynL3BOj+Z2/QRmGqErEEpI/TR2RDNkZWnsHHK/n0VQudsq0
 g5V69TSTY80j+KerswiXrPBbjn51s4Svs8nd0ET0qAvKC/ofk93izk8aH4wX+vmM2nmj
 eo/4lk/soHGUgbzjfOuGVrs46GH5wPTcylbbOGuWDWffiaHFKQvD4mwVA2PkQUW5WiR4
 xUA3PbAYR7KTpNpPQysLAmIx0rPDgPL75VZQjynW659zU2lSQ9ccEPmBLREDE0c4Cdlv
 oO5g==
X-Gm-Message-State: AOJu0Yw4ivgKjb540+tySvBMxg7ggH8YnbWTHnqe6kjc4+R2qQZWnPGj
 y2PXE9sSOqH4oFVCjsDI7hT5imJ+qSYC8bfD1MH0LlOJXKd08lDsR4i2gHPdJjqG0mg6197prmb
 P9OBu2E7bcUK4SShXicWMNCXKEqG9Z3K++n8CNqEgDaSTLE1PyNXGWxnm
X-Google-Smtp-Source: AGHT+IExafl2iRWwZS4Z509VTspeTR6vog8ONK9gi6g+/cD9WMWvGJo8949jasZEP/sPxpJG+KtRS/e0wD93
X-Received: by 2002:a05:6e02:1fe5:b0:3a3:9792:e9f5 with SMTP id
 e9e14a558f8ab-3a4ed2bea0cmr62529195ab.5.1730113894071; 
 Mon, 28 Oct 2024 04:11:34 -0700 (PDT)
Received: from postal.iol.unh.edu (postal.iol.unh.edu.
 [2606:4100:3880:1234::84]) by smtp-relay.gmail.com with ESMTPS id
 e9e14a558f8ab-3a4e6e5579fsm2432335ab.47.2024.10.28.04.11.33
 (version=TLS1_2 cipher=ECDHE-ECDSA-AES128-GCM-SHA256 bits=128/128);
 Mon, 28 Oct 2024 04:11:34 -0700 (PDT)
X-Relaying-Domain: iol.unh.edu
Date: Mon, 28 Oct 2024 04:11:34 -0700 (PDT)
Message-ID: <671f7166.920a0220.1cd406.0bceSMTPIN_ADDED_MISSING@mx.google.com>
Received: from [172.17.0.5] (unknown [172.18.0.217])
 by postal.iol.unh.edu (Postfix) with ESMTP id 94FD26052471;
 Mon, 28 Oct 2024 07:11:33 -0400 (EDT)
Subject: |WARNING| pw147438 [PATCH] dumpcap: check return value from adding i
From: dpdklab@iol.unh.edu
To: Test Report <test-report@dpdk.org>
Cc: dpdk-test-reports@iol.unh.edu
In-Reply-To: <20241027182903.209391-1-stephen@networkplumber.org>
References: <20241027182903.209391-1-stephen@networkplumber.org>
Content-Type: text/plain
X-BeenThere: test-report@dpdk.org
X-Mailman-Version: 2.1.29
Precedence: list
List-Id: automatic DPDK test reports <test-report.dpdk.org>
List-Unsubscribe: <https://mails.dpdk.org/options/test-report>,
 <mailto:test-report-request@dpdk.org?subject=unsubscribe>
List-Archive: <http://mails.dpdk.org/archives/test-report/>
List-Post: <mailto:test-report@dpdk.org>
List-Help: <mailto:test-report-request@dpdk.org?subject=help>
List-Subscribe: <https://mails.dpdk.org/listinfo/test-report>,
 <mailto:test-report-request@dpdk.org?subject=subscribe>
Errors-To: test-report-bounces@dpdk.org

Test-Label: iol-unit-arm64-testing
Test-Status: WARNING
http://dpdk.org/patch/147438

_Testing issues_

Submitter: Stephen Hemminger <stephen@networkplumber.org>
Date: Sunday, October 27 2024 18:28:48 
DPDK git baseline: Repo:dpdk
  Branch: master
  CommitID:6dad0bb5c8621644beca86ff5f4910a943ba604d

147438 --> testing issues

Upstream job id: Generic-Unit-Test-DPDK#283850

Test environment and result as below:

+-----------------------------+----------------+--------------+---------------------------+------------------------------+
|         Environment         | dpdk_unit_test | lpm_autotest | cryptodev_sw_zuc_autotest | cryptodev_sw_snow3g_autotest |
+=============================+================+==============+===========================+==============================+
| 32-bit Ubuntu 22.04.4 (ARM) | PASS           | SKIPPED      | SKIPPED                   | SKIPPED                      |
+-----------------------------+----------------+--------------+---------------------------+------------------------------+
| Ubuntu 24.04 (ARM)          | PASS           | SKIPPED      | SKIPPED                   | SKIPPED                      |
+-----------------------------+----------------+--------------+---------------------------+------------------------------+
| Ubuntu 20.04 (ARM)          | PASS           | SKIPPED      | SKIPPED                   | SKIPPED                      |
+-----------------------------+----------------+--------------+---------------------------+------------------------------+
| Ubuntu 22.04 (ARM)          | PASS           | SKIPPED      | SKIPPED                   | SKIPPED                      |
+-----------------------------+----------------+--------------+---------------------------+------------------------------+
| Fedora 40 (ARM Clang)       | PASS           | SKIPPED      | SKIPPED                   | SKIPPED                      |
+-----------------------------+----------------+--------------+---------------------------+------------------------------+
| Fedora 39 (ARM Clang)       | PASS           | SKIPPED      | SKIPPED                   | SKIPPED                      |
+-----------------------------+----------------+--------------+---------------------------+------------------------------+
| Fedora 40 (ARM)             | PASS           | SKIPPED      | SKIPPED                   | SKIPPED                      |
+-----------------------------+----------------+--------------+---------------------------+------------------------------+
| Fedora 37 (ARM)             | PEND           | SKIPPED      | SKIPPED                   | SKIPPED                      |
+-----------------------------+----------------+--------------+---------------------------+------------------------------+
| RHEL9 (ARM)                 | PEND           | SKIPPED      | SKIPPED                   | SKIPPED                      |
+-----------------------------+----------------+--------------+---------------------------+------------------------------+
| CentOS Stream 9 (ARM)       | PEND           | SKIPPED      | SKIPPED                   | SKIPPED                      |
+-----------------------------+----------------+--------------+---------------------------+------------------------------+
| Debian 12 (arm)             | PEND           | SKIPPED      | WARN                      | PEND                         |
+-----------------------------+----------------+--------------+---------------------------+------------------------------+
| Fedora 39 (ARM)             | PEND           | SKIPPED      | SKIPPED                   | SKIPPED                      |
+-----------------------------+----------------+--------------+---------------------------+------------------------------+
| Fedora 38 (ARM Clang)       | PEND           | SKIPPED      | SKIPPED                   | SKIPPED                      |
+-----------------------------+----------------+--------------+---------------------------+------------------------------+
| Debian 11 (Buster) (ARM)    | PEND           | SKIPPED      | SKIPPED                   | SKIPPED                      |
+-----------------------------+----------------+--------------+---------------------------+------------------------------+
| Fedora 38 (ARM)             | PEND           | SKIPPED      | SKIPPED                   | SKIPPED                      |
+-----------------------------+----------------+--------------+---------------------------+------------------------------+
| Ubuntu 20.04 ARM SVE        | SKIPPED        | PASS         | SKIPPED                   | SKIPPED                      |
+-----------------------------+----------------+--------------+---------------------------+------------------------------+

==== 20 line log output for Debian 12 (arm) (cryptodev_sw_zuc_autotest): ====
 --- Failed to get log output --- 
==== End log output ====

32-bit Ubuntu 22.04.4 (ARM)
	Kernel: 5.15.83+ aarch64
	Compiler: gcc (Ubuntu 11.4.0-1ubuntu1~22.04) 11.4.0

Ubuntu 24.04 (ARM)
	Kernel: Depends on container host
	Compiler: gcc (Ubuntu 13.2.0-23ubuntu4) 13.2.0

Ubuntu 20.04 (ARM)
	Kernel: Depends on container host
	Compiler: gcc (Ubuntu 9.4.0-1ubuntu1~20.04.2) 9.4.0

Ubuntu 22.04 (ARM)
	Kernel: Depends on container host
	Compiler: gcc (Ubuntu 11.4.0-1ubuntu1~22.04) 11.4.0

Fedora 40 (ARM Clang)
	Kernel: Depends on container host
	Compiler: clang 18.1.6 (Fedora 18.1.6-3.fc40)

Fedora 39 (ARM Clang)
	Kernel: Depends on container host
	Compiler: clang 17.0.6 (Fedora 17.0.6-2.fc39)

Fedora 40 (ARM)
	Kernel: Depends on container host
	Compiler: gcc 14.2.1 20240801 (Red Hat 14.2.1-1)

Fedora 37 (ARM)
	Kernel: Depends on container host
	Compiler: gcc 12.3.1 20230508 (Red Hat 12.3.1-1)

RHEL9 (ARM)
	Kernel: Depends on container host
	Compiler: gcc 11.4.1 20231218 (Red Hat 11.4.1-3)

CentOS Stream 9 (ARM)
	Kernel: Depends on container host
	Compiler: gcc 11.4.1 20231218 (Red Hat 11.4.1-3)

Debian 12 (arm)
	Kernel: Depends on container host
	Compiler: gcc (Debian 12.2.0-14) 12.2.0

Fedora 39 (ARM)
	Kernel: Depends on container host
	Compiler: gcc 13.3.1 20240522 (Red Hat 13.3.1-1)

Fedora 38 (ARM Clang)
	Kernel: Depends on container host
	Compiler: clang 16.0.6 (Fedora 16.0.6-4.fc38)

Debian 11 (Buster) (ARM)
	Kernel: Depends on container host
	Compiler: gcc (Debian 10.2.1-6) 10.2.1 20210110

Fedora 38 (ARM)
	Kernel: Depends on container host
	Compiler: gcc 13.2.1 20240316 (Red Hat 13.2.1-7)

Ubuntu 20.04 ARM SVE
	Kernel: Depends on container host
	Compiler: gcc (Ubuntu 10.5.0-1ubuntu1~20.04) 10.5.0

To view detailed results, visit:
https://lab.dpdk.org/results/dashboard/patchsets/31711/

UNH-IOL DPDK Community Lab

To manage your email subscriptions, visit: 
https://lab.dpdk.org/results/dashboard/preferences/subscriptions/