From mboxrd@z Thu Jan  1 00:00:00 1970
Return-Path: <test-report-bounces@dpdk.org>
Received: from mails.dpdk.org (mails.dpdk.org [217.70.189.124])
	by inbox.dpdk.org (Postfix) with ESMTP id B355845BFE
	for <public@inbox.dpdk.org>; Mon, 28 Oct 2024 16:24:38 +0100 (CET)
Received: from mails.dpdk.org (localhost [127.0.0.1])
	by mails.dpdk.org (Postfix) with ESMTP id AEB2640E0B;
	Mon, 28 Oct 2024 16:24:38 +0100 (CET)
Received: from mail-io1-f97.google.com (mail-io1-f97.google.com
 [209.85.166.97]) by mails.dpdk.org (Postfix) with ESMTP id 56A1F400D7
 for <test-report@dpdk.org>; Mon, 28 Oct 2024 16:24:37 +0100 (CET)
Received: by mail-io1-f97.google.com with SMTP id
 ca18e2360f4ac-83a9ca86049so164101639f.0
 for <test-report@dpdk.org>; Mon, 28 Oct 2024 08:24:37 -0700 (PDT)
DKIM-Signature: v=1; a=rsa-sha256; c=relaxed/relaxed;
 d=iol.unh.edu; s=unh-iol; t=1730129076; x=1730733876; darn=dpdk.org;
 h=references:in-reply-to:cc:to:from:subject:message-id:date:from:to
 :cc:subject:date:message-id:reply-to;
 bh=ROlSMQNIVnUVwBddKfV5AkqWiVxmLfM0GMOiud9IXIw=;
 b=SuVZVb4ugKnnNbL6lC1p8e4wezAxcKHJUcBkDtUcu6sffYT5NvTUGDWCzysgRxe2Ar
 2gDMqUXzUczgqhGWMm6DUohZjgIJTetnK7A5wzXBRLcJZs0jCsWgh0rUfAEFbOMus7z3
 HpQfVyzhXlAoUnmuRxlGTc4HjIGmsfzyUWrHY=
X-Google-DKIM-Signature: v=1; a=rsa-sha256; c=relaxed/relaxed;
 d=1e100.net; s=20230601; t=1730129076; x=1730733876;
 h=references:in-reply-to:cc:to:from:subject:message-id:date
 :x-gm-message-state:from:to:cc:subject:date:message-id:reply-to;
 bh=ROlSMQNIVnUVwBddKfV5AkqWiVxmLfM0GMOiud9IXIw=;
 b=t/pyC4pTxEWUfhx6ZIs0ffjPBtSONCQ/Yaxc04Q94vVD1/J9JypyPbwzU6/9iUENYk
 iNTQpVHT0oG5AnzUlPPfTxw7pkFDTgi0QKkq/LsZ+cMCJnWzgE/O8IbKdAJ3l6bUKAVc
 fC64WeQD/pTgL9LfwEalHALWrHHnGXywXHQG4+cMG7fm5G2DsCIl8j09O4HkE7rYwr+X
 MjSD022zbaA9jP+POXm3TPcgcZCt29VwkWXBUZZdm3+MNIZgQImA4H+iJbhMnksjvH/L
 kU3jF5ivFjrTq5OsQSHNdr8QNSuedF+ECuutKLQ6m3MGqmnOoUIWUU5B2ovPPFDPLJTP
 +lug==
X-Gm-Message-State: AOJu0Yw4Yd4+QVsBnAWHROKaXEp9UIxwpns/IskuIceCgsfowJ59I+v9
 aLIu7LRG44L3yqRU2vyAgBBSR+8LyfnPuQvpgGmZm5/9VCdxUknlPmw+P+p4NUtSRVBl/ER2agk
 EOcFk7fFyb9BHu9OjjA2x1HaHn9Ew4ehIOL9KPwh90qJqQom6eRBOmedj
X-Google-Smtp-Source: AGHT+IGVG6VTGicvnr0ngdh+Q8hSXupLmEb8K1rznMoKxOf8OYqS3UhGdkPg0nUk+x/jbYLTpvmFVsHkeTVP
X-Received: by 2002:a05:6602:2b0c:b0:81f:75bf:6570 with SMTP id
 ca18e2360f4ac-83b1c3eab66mr936414539f.5.1730129076576; 
 Mon, 28 Oct 2024 08:24:36 -0700 (PDT)
Received: from postal.iol.unh.edu (postal.iol.unh.edu.
 [2606:4100:3880:1234::84]) by smtp-relay.gmail.com with ESMTPS id
 ca18e2360f4ac-83b137ce0dcsm7460039f.4.2024.10.28.08.24.36
 (version=TLS1_2 cipher=ECDHE-ECDSA-AES128-GCM-SHA256 bits=128/128);
 Mon, 28 Oct 2024 08:24:36 -0700 (PDT)
X-Relaying-Domain: iol.unh.edu
Date: Mon, 28 Oct 2024 08:24:36 -0700 (PDT)
Message-ID: <671facb4.6b0a0220.10289c.4d44SMTPIN_ADDED_MISSING@mx.google.com>
Received: from [172.17.0.4] (unknown [172.18.0.214])
 by postal.iol.unh.edu (Postfix) with ESMTP id E02CB6052471;
 Mon, 28 Oct 2024 11:24:35 -0400 (EDT)
Subject: |SUCCESS| pw147438 [PATCH] dumpcap: check return value from adding i
From: dpdklab@iol.unh.edu
To: Test Report <test-report@dpdk.org>
Cc: dpdk-test-reports@iol.unh.edu
In-Reply-To: <20241027182903.209391-1-stephen@networkplumber.org>
References: <20241027182903.209391-1-stephen@networkplumber.org>
Content-Type: text/plain
X-BeenThere: test-report@dpdk.org
X-Mailman-Version: 2.1.29
Precedence: list
List-Id: automatic DPDK test reports <test-report.dpdk.org>
List-Unsubscribe: <https://mails.dpdk.org/options/test-report>,
 <mailto:test-report-request@dpdk.org?subject=unsubscribe>
List-Archive: <http://mails.dpdk.org/archives/test-report/>
List-Post: <mailto:test-report@dpdk.org>
List-Help: <mailto:test-report-request@dpdk.org?subject=help>
List-Subscribe: <https://mails.dpdk.org/listinfo/test-report>,
 <mailto:test-report-request@dpdk.org?subject=subscribe>
Errors-To: test-report-bounces@dpdk.org

Test-Label: iol-compile-amd64-testing
Test-Status: SUCCESS
http://dpdk.org/patch/147438

_Testing PASS_

Submitter: Stephen Hemminger <stephen@networkplumber.org>
Date: Sunday, October 27 2024 18:28:48 
DPDK git baseline: Repo:dpdk
  Branch: master
  CommitID:6dad0bb5c8621644beca86ff5f4910a943ba604d

147438 --> testing pass

Upstream job id: Windows-Compile-DPDK-Native#23805

Test environment and result as below:

+---------------------+--------------------+-----------------------+----------------------+
|     Environment     | dpdk_meson_compile | dpdk_win_llvm_compile | dpdk_mingw64_compile |
+=====================+====================+=======================+======================+
| FreeBSD 13.4        | PASS               | SKIPPED               | SKIPPED              |
+---------------------+--------------------+-----------------------+----------------------+
| FreeBSD 14.1        | PASS               | SKIPPED               | SKIPPED              |
+---------------------+--------------------+-----------------------+----------------------+
| Windows Server 2022 | SKIPPED            | PASS                  | PASS                 |
+---------------------+--------------------+-----------------------+----------------------+


FreeBSD 13.4
	Kernel: 13.4-RELEASE-p1
	Compiler: clang 18.1.6

FreeBSD 14.1
	Kernel: 14.1-RELEASE-p3
	Compiler: clang 18.1.5

Windows Server 2022
	Kernel: 10.0.20348.2031
	Compiler: clang 15.0.7, gcc 14.1.0 (MinGW), and MSVC VS 19.39.33521

To view detailed results, visit:
https://lab.dpdk.org/results/dashboard/patchsets/31711/

UNH-IOL DPDK Community Lab

To manage your email subscriptions, visit: 
https://lab.dpdk.org/results/dashboard/preferences/subscriptions/