From mboxrd@z Thu Jan  1 00:00:00 1970
Return-Path: <test-report-bounces@dpdk.org>
Received: from mails.dpdk.org (mails.dpdk.org [217.70.189.124])
	by inbox.dpdk.org (Postfix) with ESMTP id 8D8D045BFE
	for <public@inbox.dpdk.org>; Mon, 28 Oct 2024 16:50:04 +0100 (CET)
Received: from mails.dpdk.org (localhost [127.0.0.1])
	by mails.dpdk.org (Postfix) with ESMTP id 898BE4113C;
	Mon, 28 Oct 2024 16:50:04 +0100 (CET)
Received: from mail-qv1-f100.google.com (mail-qv1-f100.google.com
 [209.85.219.100])
 by mails.dpdk.org (Postfix) with ESMTP id BB3E641133
 for <test-report@dpdk.org>; Mon, 28 Oct 2024 16:50:02 +0100 (CET)
Received: by mail-qv1-f100.google.com with SMTP id
 6a1803df08f44-6cbe3e99680so23826966d6.3
 for <test-report@dpdk.org>; Mon, 28 Oct 2024 08:50:02 -0700 (PDT)
DKIM-Signature: v=1; a=rsa-sha256; c=relaxed/relaxed;
 d=iol.unh.edu; s=unh-iol; t=1730130602; x=1730735402; darn=dpdk.org;
 h=references:in-reply-to:cc:to:from:subject:message-id:date:from:to
 :cc:subject:date:message-id:reply-to;
 bh=QNrhreCXMXBmC+KA/k8A4B7MD70+gKR9XDRxN/1EpaQ=;
 b=h2x5pZLEu9v92Vcu3FfeDJ8EYeUrtulLwYrPqxCXf21wzeZZlh7g0361W0LlsPzieq
 HWkDSnPRe9ZE4qxqLJCidjQCGlKQhVb7nJ2yNnGOgL8QStmDR+G/Jyh8SQqPF+v9Hfx+
 U86/nPMBzMlnoOdGWUEub/CVqIz8u311vZPe4=
X-Google-DKIM-Signature: v=1; a=rsa-sha256; c=relaxed/relaxed;
 d=1e100.net; s=20230601; t=1730130602; x=1730735402;
 h=references:in-reply-to:cc:to:from:subject:message-id:date
 :x-gm-message-state:from:to:cc:subject:date:message-id:reply-to;
 bh=QNrhreCXMXBmC+KA/k8A4B7MD70+gKR9XDRxN/1EpaQ=;
 b=TCPkbsLG+mFfKmsmnxQgITziY2MQEtkNU9IgOWJj4kDVVK4SJN1CQfzzSmxTdvYqk0
 RNn5EbDkndMhp+Dlp7BXGtPDepDSZANc9BpwSKlzmL9OjGx2YYb3EWYZMaIYEhLpcDpg
 oC4uhRTdILz0797v1y/3LI/zXEy5FDm6BwByoMUiSMtlbhMTI84bcx5HvFQL5wYniUvc
 FIpv3J5SN9Lv2p42llf+vubzRtzhl8TDrQdat6IA9Rutv5HQtQ/1nYgbMN4iLdxrDcBC
 YDkfG/zXzKtbE9nf43ENasJbNcNaxP/kfsvgytbdfB2WPQmEGddfErO1UTUhG7B4QWia
 kung==
X-Gm-Message-State: AOJu0Yxc+pMEUUA7ejnl6cQcDnzXx1sClHK0ATj/PXuTcV5WsWKZXl6L
 VXZa8ccr0rZNB33307Lm4GrNqvXZmMmuPogBs2GtNVI1bQ7WkPzDRkXVBXgPlDSTQmvzTXyeXai
 jq6PlFLYS+R/B+Vo9k1lNxg4GFPCaW+YwS+GZS3v8GNDh9tXKQ0Iu+7Is
X-Google-Smtp-Source: AGHT+IHTYioHhjP+b+1PNX1Cb/e5mg4Y6qx0yZ4PAGcn+Y6qncaT/3J5cm5Ypglc68QldC8faEhZsJzePcGG
X-Received: by 2002:a05:6214:5c09:b0:6cb:f7f1:4643 with SMTP id
 6a1803df08f44-6d1858575e0mr142943726d6.45.1730130602027; 
 Mon, 28 Oct 2024 08:50:02 -0700 (PDT)
Received: from postal.iol.unh.edu (postal.iol.unh.edu.
 [2606:4100:3880:1234::84]) by smtp-relay.gmail.com with ESMTPS id
 6a1803df08f44-6d17994477asm1552656d6.25.2024.10.28.08.50.01
 (version=TLS1_2 cipher=ECDHE-ECDSA-AES128-GCM-SHA256 bits=128/128);
 Mon, 28 Oct 2024 08:50:02 -0700 (PDT)
X-Relaying-Domain: iol.unh.edu
Date: Mon, 28 Oct 2024 08:50:02 -0700 (PDT)
Message-ID: <671fb2aa.d40a0220.1b4bcb.aa0fSMTPIN_ADDED_MISSING@mx.google.com>
Received: from [172.17.0.5] (unknown [172.18.0.217])
 by postal.iol.unh.edu (Postfix) with ESMTP id B7C5D6052471;
 Mon, 28 Oct 2024 11:50:01 -0400 (EDT)
Subject: |WARNING| pw146453-146459 [PATCH] [v6,7/7] test: add stress test sui
From: dpdklab@iol.unh.edu
To: Test Report <test-report@dpdk.org>
Cc: dpdk-test-reports@iol.unh.edu
In-Reply-To: <20241021174745.1843-8-konstantin.ananyev@huawei.com>
References: <20241021174745.1843-8-konstantin.ananyev@huawei.com>
Content-Type: text/plain
X-BeenThere: test-report@dpdk.org
X-Mailman-Version: 2.1.29
Precedence: list
List-Id: automatic DPDK test reports <test-report.dpdk.org>
List-Unsubscribe: <https://mails.dpdk.org/options/test-report>,
 <mailto:test-report-request@dpdk.org?subject=unsubscribe>
List-Archive: <http://mails.dpdk.org/archives/test-report/>
List-Post: <mailto:test-report@dpdk.org>
List-Help: <mailto:test-report-request@dpdk.org?subject=help>
List-Subscribe: <https://mails.dpdk.org/listinfo/test-report>,
 <mailto:test-report-request@dpdk.org?subject=subscribe>
Errors-To: test-report-bounces@dpdk.org

Test-Label: iol-sample-apps-testing
Test-Status: WARNING
http://dpdk.org/patch/146459

_Testing issues_

Submitter: Konstantin Ananyev <konstantin.ananyev@huawei.com>
Date: Monday, October 21 2024 17:47:45 
DPDK git baseline: Repo:dpdk
  Branch: master
  CommitID:cff6dba7ff8521df410b40399fd8aca5b450a05b

146453-146459 --> testing issues

Upstream job id: ACVP-FIPS-testing#7458

Test environment and result as below:

+--------------------+----------------------+----------------------+
|    Environment     | compressdev_zlib_pmd | dpdk_fips_validation |
+====================+======================+======================+
| Ubuntu 22.04 (ARM) | PASS                 | SKIPPED              |
+--------------------+----------------------+----------------------+
| Ubuntu 22.04       | PASS                 | SKIPPED              |
+--------------------+----------------------+----------------------+
| Ubuntu 20.04       | SKIPPED              | WARN                 |
+--------------------+----------------------+----------------------+

==== 20 line log output for Ubuntu 20.04 (dpdk_fips_validation): ====
[3003/3016] Compiling C object examples/dpdk-fips_validation.p/fips_validation_fips_validation_ecdsa.c.o
[3004/3016] Compiling C object examples/dpdk-fips_validation.p/fips_validation_fips_validation_ccm.c.o
[3005/3016] Compiling C object app/dpdk-test.p/test_test_table_combined.c.o
[3006/3016] Compiling C object examples/dpdk-fips_validation.p/fips_validation_fips_validation_eddsa.c.o
[3007/3016] Compiling C object examples/dpdk-fips_validation.p/fips_validation_fips_validation_sha.c.o
[3008/3016] Compiling C object examples/dpdk-fips_validation.p/fips_validation_fips_validation_rsa.c.o
[3009/3016] Compiling C object examples/dpdk-fips_validation.p/fips_validation_fips_dev_self_test.c.o
[3010/3016] Compiling C object app/dpdk-test.p/test_virtual_pmd.c.o
[3011/3016] Compiling C object examples/dpdk-fips_validation.p/fips_validation_main.c.o
[3012/3016] Linking target examples/dpdk-fips_validation
[3013/3016] Compiling C object app/dpdk-test.p/test_test_trace_perf.c.o
[3014/3016] Compiling C object app/dpdk-test.p/test_test_ring_perf.c.o
[3015/3016] Compiling C object app/dpdk-test.p/test_test_ring.c.o
[3016/3016] Linking target app/dpdk-test
Processing file ../out/acvp-aes-cbc-vectors.json... Done
Processing file ../out/cmac-aes-vectors.json... Done
Processing file ../out/acvp-aes-gmac-vectors.json... Done
Processing file ../out/hmac-sha-1-vectors.json... Done
Processing file ../out/acvp-tdes-cbc-vectors.json... Done
Processing file ../out/acvp-aes-ctr-vectors.json... Done
==== End log output ====

Ubuntu 22.04 (ARM)
	Kernel: 5.15.0-97-generic
	Compiler: gcc gcc (Ubuntu 11.4.0-1ubuntu1~22.04) 11.4.0

Ubuntu 22.04
	Kernel: 5.15.0-100-generic
	Compiler: gcc gcc (Ubuntu 11.4.0-1ubuntu1~22.04) 11.4.0

Ubuntu 20.04
	Kernel: Depends on container host
	Compiler: gcc (Ubuntu 9.4.0-1ubuntu1~20.04.2) 9.4.0

To view detailed results, visit:
https://lab.dpdk.org/results/dashboard/patchsets/31580/

UNH-IOL DPDK Community Lab

To manage your email subscriptions, visit: 
https://lab.dpdk.org/results/dashboard/preferences/subscriptions/