From mboxrd@z Thu Jan  1 00:00:00 1970
Return-Path: <test-report-bounces@dpdk.org>
Received: from mails.dpdk.org (mails.dpdk.org [217.70.189.124])
	by inbox.dpdk.org (Postfix) with ESMTP id 419B045C06
	for <public@inbox.dpdk.org>; Tue, 29 Oct 2024 05:55:56 +0100 (CET)
Received: from mails.dpdk.org (localhost [127.0.0.1])
	by mails.dpdk.org (Postfix) with ESMTP id 234954014F;
	Tue, 29 Oct 2024 05:55:56 +0100 (CET)
Received: from mail-pg1-f226.google.com (mail-pg1-f226.google.com
 [209.85.215.226])
 by mails.dpdk.org (Postfix) with ESMTP id 0955740144
 for <test-report@dpdk.org>; Tue, 29 Oct 2024 05:55:55 +0100 (CET)
Received: by mail-pg1-f226.google.com with SMTP id
 41be03b00d2f7-7ee020ec76dso1128658a12.3
 for <test-report@dpdk.org>; Mon, 28 Oct 2024 21:55:54 -0700 (PDT)
DKIM-Signature: v=1; a=rsa-sha256; c=relaxed/relaxed;
 d=iol.unh.edu; s=unh-iol; t=1730177754; x=1730782554; darn=dpdk.org;
 h=references:in-reply-to:cc:to:from:subject:message-id:date:from:to
 :cc:subject:date:message-id:reply-to;
 bh=arc27aAOBzfZGZjrCy83qkKLo/Udv5GX6w6EbXa58og=;
 b=ZULgka8sM4/Gk2eMXY8z0VojuDpMKXDh6Z75jwda4ip88evfmm+TPt1d+jxjs+KNrp
 eAJt1kBztuCq98Oko9an8SMgXgkmf044E88IvL2Y6fOPWxK5BA6KnZaXGeS7eOA6yGx2
 my1QA9ULOmcLjkoWGd+eH/FoiGkGw0jYws6mk=
X-Google-DKIM-Signature: v=1; a=rsa-sha256; c=relaxed/relaxed;
 d=1e100.net; s=20230601; t=1730177754; x=1730782554;
 h=references:in-reply-to:cc:to:from:subject:message-id:date
 :x-gm-message-state:from:to:cc:subject:date:message-id:reply-to;
 bh=arc27aAOBzfZGZjrCy83qkKLo/Udv5GX6w6EbXa58og=;
 b=Pi5+zeDLTt180tPZF06HyN4qvyx8VKUvdlXM9OOOpBTgFpAarWlqeqpHPhvwLUZN6O
 WUSLi4/OJ3X1T+gcwDZcbZSKriSTegpe25/X+53YcSQqh5NfTUm+e44LqSb7V2VA5g+c
 QD/7QgL2sEghg2OJC2AUVXvLL5OzE9uHa/6+mAKcLUEqMoq+E7yvibbqwqeeoUD+5Xd2
 YPyI77ix67brWHlMCD7fsnbq330gmUt64/J70MahTbBCD/shD1RmJOjx94YuEnnMQ2vI
 9eTMW5Faj92X3HRohLBi1i1REjwggfgMlD21OvvXGjGQ6lgdmVzYwTunreuTTIDRc0qQ
 vYaA==
X-Gm-Message-State: AOJu0Yz1ncEtjhjKlG3v9Js+/hHF/D4D95ssqTsf11wkwnyUVj5G0uwc
 3pF8rXFVUkcSx5kIECxlj04pNcxDPBGR8wcKVWSYx0NnSpJLWmYl8y1pnnus+oNQhIegTufDshv
 vBR1p7KBqxdyILZAtPuSBgmuP8Z18mgyW0lx/3lEkQ2jOFoj2xyH6PB8i
X-Google-Smtp-Source: AGHT+IGZAum6EPOxr3kcurht3hE9VcDMj/Hcl2jlhe2E06Wdr3pRFwI6PbbJ9OsvoLPcy4LR7AVk2jlIXIdd
X-Received: by 2002:a05:6a21:e8a:b0:1cf:4fd9:61db with SMTP id
 adf61e73a8af0-1d9a83a9b6dmr12836359637.8.1730177754012; 
 Mon, 28 Oct 2024 21:55:54 -0700 (PDT)
Received: from postal.iol.unh.edu (postal.iol.unh.edu.
 [2606:4100:3880:1234::84]) by smtp-relay.gmail.com with ESMTPS id
 98e67ed59e1d1-2e77e48fafesm550070a91.2.2024.10.28.21.55.53
 (version=TLS1_2 cipher=ECDHE-ECDSA-AES128-GCM-SHA256 bits=128/128);
 Mon, 28 Oct 2024 21:55:54 -0700 (PDT)
X-Relaying-Domain: iol.unh.edu
Date: Mon, 28 Oct 2024 21:55:54 -0700 (PDT)
Message-ID: <67206ada.170a0220.421c0.498bSMTPIN_ADDED_MISSING@mx.google.com>
Received: from [172.17.0.4] (unknown [172.18.0.57])
 by postal.iol.unh.edu (Postfix) with ESMTP id 3C00B6052471;
 Tue, 29 Oct 2024 00:55:53 -0400 (EDT)
Subject: |SUCCESS| pw146587-146578 [PATCH] [v3,22/22] event/cnxk: add CN20K t
From: dpdklab@iol.unh.edu
To: Test Report <test-report@dpdk.org>
Cc: dpdk-test-reports@iol.unh.edu
In-Reply-To: <20241022084641.14497-22-pbhagavatula@marvell.com>
References: <20241022084641.14497-22-pbhagavatula@marvell.com>
Content-Type: text/plain
X-BeenThere: test-report@dpdk.org
X-Mailman-Version: 2.1.29
Precedence: list
List-Id: automatic DPDK test reports <test-report.dpdk.org>
List-Unsubscribe: <https://mails.dpdk.org/options/test-report>,
 <mailto:test-report-request@dpdk.org?subject=unsubscribe>
List-Archive: <http://mails.dpdk.org/archives/test-report/>
List-Post: <mailto:test-report@dpdk.org>
List-Help: <mailto:test-report-request@dpdk.org?subject=help>
List-Subscribe: <https://mails.dpdk.org/listinfo/test-report>,
 <mailto:test-report-request@dpdk.org?subject=subscribe>
Errors-To: test-report-bounces@dpdk.org

Test-Label: iol-sample-apps-testing
Test-Status: SUCCESS
http://dpdk.org/patch/146578

_Testing PASS_

Submitter: Pavan Nikhilesh Bhagavatula <pbhagavatula@marvell.com>
Date: Tuesday, October 22 2024 08:46:40 
DPDK git baseline: Repo:dpdk
  Branch: master
  CommitID:cff6dba7ff8521df410b40399fd8aca5b450a05b

146587-146578 --> testing pass

Upstream job id: ACVP-FIPS-testing#7467

Test environment and result as below:

+--------------------+----------------------+----------------------+
|    Environment     | compressdev_zlib_pmd | dpdk_fips_validation |
+====================+======================+======================+
| Ubuntu 22.04 (ARM) | PASS                 | SKIPPED              |
+--------------------+----------------------+----------------------+
| Ubuntu 22.04       | PASS                 | SKIPPED              |
+--------------------+----------------------+----------------------+
| Ubuntu 20.04       | SKIPPED              | PASS                 |
+--------------------+----------------------+----------------------+


Ubuntu 22.04 (ARM)
	Kernel: 5.15.0-97-generic
	Compiler: gcc gcc (Ubuntu 11.4.0-1ubuntu1~22.04) 11.4.0

Ubuntu 22.04
	Kernel: 5.15.0-100-generic
	Compiler: gcc gcc (Ubuntu 11.4.0-1ubuntu1~22.04) 11.4.0

Ubuntu 20.04
	Kernel: Depends on container host
	Compiler: gcc (Ubuntu 9.4.0-1ubuntu1~20.04.2) 9.4.0

To view detailed results, visit:
https://lab.dpdk.org/results/dashboard/patchsets/31591/

UNH-IOL DPDK Community Lab

To manage your email subscriptions, visit: 
https://lab.dpdk.org/results/dashboard/preferences/subscriptions/