From mboxrd@z Thu Jan  1 00:00:00 1970
Return-Path: <test-report-bounces@dpdk.org>
Received: from mails.dpdk.org (mails.dpdk.org [217.70.189.124])
	by inbox.dpdk.org (Postfix) with ESMTP id 5FD9945C07
	for <public@inbox.dpdk.org>; Tue, 29 Oct 2024 06:37:39 +0100 (CET)
Received: from mails.dpdk.org (localhost [127.0.0.1])
	by mails.dpdk.org (Postfix) with ESMTP id 3B34C4014F;
	Tue, 29 Oct 2024 06:37:39 +0100 (CET)
Received: from mail-pl1-f228.google.com (mail-pl1-f228.google.com
 [209.85.214.228])
 by mails.dpdk.org (Postfix) with ESMTP id B6FA140144
 for <test-report@dpdk.org>; Tue, 29 Oct 2024 06:37:37 +0100 (CET)
Received: by mail-pl1-f228.google.com with SMTP id
 d9443c01a7336-20cdbe608b3so39996385ad.1
 for <test-report@dpdk.org>; Mon, 28 Oct 2024 22:37:37 -0700 (PDT)
DKIM-Signature: v=1; a=rsa-sha256; c=relaxed/relaxed;
 d=iol.unh.edu; s=unh-iol; t=1730180257; x=1730785057; darn=dpdk.org;
 h=references:in-reply-to:cc:to:from:subject:message-id:date:from:to
 :cc:subject:date:message-id:reply-to;
 bh=2hiHzOPcX+UgHK4ayOtqHk47zBsRDDVsNo07GvMF4+A=;
 b=TBTG667Gjxbr1uGvv8xU7RQm2jXrDo+2SqphoYHcapnE0EkoRjhSk6ut3/Y+/5X6Gr
 L2t8h5rfai9aFhFWQE9rlOIjugtPYpFcqbzphnkTJB84w42zgW95P0OAPw4wLMusZmat
 YjWVb9MW8yrnvym7Ec5gIPiLGvOfiRf5w5vTE=
X-Google-DKIM-Signature: v=1; a=rsa-sha256; c=relaxed/relaxed;
 d=1e100.net; s=20230601; t=1730180257; x=1730785057;
 h=references:in-reply-to:cc:to:from:subject:message-id:date
 :x-gm-message-state:from:to:cc:subject:date:message-id:reply-to;
 bh=2hiHzOPcX+UgHK4ayOtqHk47zBsRDDVsNo07GvMF4+A=;
 b=i9L7tdfFWXFynbKZU1Sjg1Iko1yTSvqCCWUk/dVH4XvS3yno39At0sRvXIOrK7wZ+l
 dgP3GcxRrBOdj2I/dY2DLy7S19bJ6lCpFxvjQ0EUvFr1yo4EafQKte0w9CpvzLRGWKzw
 8Dr6fybSrz8gWsBwwYakm8qUyZkljfbesDMtA9/qBITFdOrgvk1XH6qwR0J8AzxOrlf1
 IYC8tvVVcmrCmL7kEZzGd65mXYgjOkOXwLzBEBXkHHLyiuhMT9GjJJJVUVj9X1r29JJO
 2vkG/UozzVEddXlYpZ7HZKlnXxav1fpbg9j8VeHixco8S7FLlZcH+ROOvyuAJkEkIlLx
 0sPA==
X-Gm-Message-State: AOJu0YzlH/ujY96KXN6j9GG56//jXQIJ2e5h/y+5EcTTlP/okyRg0jPT
 iY/yJefcXbPttVsadZzUh25JI2RSd1s985eclhF6OQ1DKmesZuHu3rR0xS7HXEEpJ/nKc5f4Co6
 hnQ6KUdHowc7x/TQVtXDSpkgT/eF/m6a/XXxIdzcl
X-Google-Smtp-Source: AGHT+IE8RL2NYy/3ah8D09RiQIJSqG2LOjI6nmenCM30+vkTqauCV0tC/+gxht0mZiFpLJuLSazO6fW+ZB95
X-Received: by 2002:a17:902:e54f:b0:20b:7731:e3df with SMTP id
 d9443c01a7336-210c6c6a143mr174345935ad.43.1730180256685; 
 Mon, 28 Oct 2024 22:37:36 -0700 (PDT)
Received: from postal.iol.unh.edu (postal.iol.unh.edu. [132.177.123.84])
 by smtp-relay.gmail.com with ESMTPS id
 d9443c01a7336-210bbeff3f3sm3892165ad.48.2024.10.28.22.37.36
 (version=TLS1_2 cipher=ECDHE-ECDSA-AES128-GCM-SHA256 bits=128/128);
 Mon, 28 Oct 2024 22:37:36 -0700 (PDT)
X-Relaying-Domain: iol.unh.edu
Date: Mon, 28 Oct 2024 22:37:36 -0700 (PDT)
Message-ID: <672074a0.170a0220.2b6447.a23fSMTPIN_ADDED_MISSING@mx.google.com>
Received: from [172.17.0.4] (unknown [172.18.0.217])
 by postal.iol.unh.edu (Postfix) with ESMTP id BF17F6052471;
 Tue, 29 Oct 2024 01:37:35 -0400 (EDT)
Subject: |SUCCESS| pw146563-146564 [PATCH] [v2,2/2] net/hns3: fix pointer off
From: dpdklab@iol.unh.edu
To: Test Report <test-report@dpdk.org>
Cc: dpdk-test-reports@iol.unh.edu
In-Reply-To: <20241022040113.2746-3-haijie1@huawei.com>
References: <20241022040113.2746-3-haijie1@huawei.com>
Content-Type: text/plain
X-BeenThere: test-report@dpdk.org
X-Mailman-Version: 2.1.29
Precedence: list
List-Id: automatic DPDK test reports <test-report.dpdk.org>
List-Unsubscribe: <https://mails.dpdk.org/options/test-report>,
 <mailto:test-report-request@dpdk.org?subject=unsubscribe>
List-Archive: <http://mails.dpdk.org/archives/test-report/>
List-Post: <mailto:test-report@dpdk.org>
List-Help: <mailto:test-report-request@dpdk.org?subject=help>
List-Subscribe: <https://mails.dpdk.org/listinfo/test-report>,
 <mailto:test-report-request@dpdk.org?subject=subscribe>
Errors-To: test-report-bounces@dpdk.org

Test-Label: iol-compile-amd64-testing
Test-Status: SUCCESS
http://dpdk.org/patch/146564

_Testing PASS_

Submitter: Jie Hai <haijie1@huawei.com>
Date: Tuesday, October 22 2024 04:01:13 
DPDK git baseline: Repo:dpdk
  Branch: master
  CommitID:5bb17458f32befba8a2cccd9553ea65cd8b99581

146563-146564 --> testing pass

Upstream job id: Windows-Compile-DPDK-VS#3612

Test environment and result as below:

+---------------------+-----------------------+----------------------+--------------------+------------------+-------------------+-------------------+
|     Environment     | dpdk_win_llvm_compile | dpdk_mingw64_compile | dpdk_meson_compile | dpdk_compile_ovs | dpdk_compile_spdk | dpdk_msvc_compile |
+=====================+=======================+======================+====================+==================+===================+===================+
| Windows Server 2022 | PASS                  | PASS                 | SKIPPED            | SKIPPED          | SKIPPED           | PASS              |
+---------------------+-----------------------+----------------------+--------------------+------------------+-------------------+-------------------+
| FreeBSD 13.4        | SKIPPED               | SKIPPED              | PASS               | SKIPPED          | SKIPPED           | SKIPPED           |
+---------------------+-----------------------+----------------------+--------------------+------------------+-------------------+-------------------+
| FreeBSD 14.1        | SKIPPED               | SKIPPED              | PASS               | SKIPPED          | SKIPPED           | SKIPPED           |
+---------------------+-----------------------+----------------------+--------------------+------------------+-------------------+-------------------+
| CentOS Stream 9     | SKIPPED               | SKIPPED              | PASS               | PASS             | PASS              | SKIPPED           |
+---------------------+-----------------------+----------------------+--------------------+------------------+-------------------+-------------------+
| Debian Bullseye     | SKIPPED               | SKIPPED              | PASS               | PASS             | PASS              | SKIPPED           |
+---------------------+-----------------------+----------------------+--------------------+------------------+-------------------+-------------------+
| Debian 12           | SKIPPED               | SKIPPED              | PASS               | PASS             | PASS              | SKIPPED           |
+---------------------+-----------------------+----------------------+--------------------+------------------+-------------------+-------------------+
| Fedora 37           | SKIPPED               | SKIPPED              | PASS               | PASS             | PASS              | SKIPPED           |
+---------------------+-----------------------+----------------------+--------------------+------------------+-------------------+-------------------+
| Fedora 38 (Clang)   | SKIPPED               | SKIPPED              | PASS               | PASS             | PASS              | SKIPPED           |
+---------------------+-----------------------+----------------------+--------------------+------------------+-------------------+-------------------+
| Fedora 38           | SKIPPED               | SKIPPED              | PASS               | PASS             | PASS              | SKIPPED           |
+---------------------+-----------------------+----------------------+--------------------+------------------+-------------------+-------------------+
| Fedora 39 (Clang)   | SKIPPED               | SKIPPED              | PASS               | PASS             | PASS              | SKIPPED           |
+---------------------+-----------------------+----------------------+--------------------+------------------+-------------------+-------------------+
| Fedora 39           | SKIPPED               | SKIPPED              | PASS               | PASS             | PASS              | SKIPPED           |
+---------------------+-----------------------+----------------------+--------------------+------------------+-------------------+-------------------+
| Fedora 40 (Clang)   | SKIPPED               | SKIPPED              | PASS               | PASS             | PASS              | SKIPPED           |
+---------------------+-----------------------+----------------------+--------------------+------------------+-------------------+-------------------+
| Fedora 40           | SKIPPED               | SKIPPED              | PASS               | PASS             | PASS              | SKIPPED           |
+---------------------+-----------------------+----------------------+--------------------+------------------+-------------------+-------------------+
| openSUSE Leap 15    | SKIPPED               | SKIPPED              | PASS               | PASS             | SKIPPED           | SKIPPED           |
+---------------------+-----------------------+----------------------+--------------------+------------------+-------------------+-------------------+
| RHEL8               | SKIPPED               | SKIPPED              | PASS               | PASS             | SKIPPED           | SKIPPED           |
+---------------------+-----------------------+----------------------+--------------------+------------------+-------------------+-------------------+
| RHEL9               | SKIPPED               | SKIPPED              | PASS               | PASS             | SKIPPED           | SKIPPED           |
+---------------------+-----------------------+----------------------+--------------------+------------------+-------------------+-------------------+
| Ubuntu 20.04        | SKIPPED               | SKIPPED              | PASS               | PASS             | SKIPPED           | SKIPPED           |
+---------------------+-----------------------+----------------------+--------------------+------------------+-------------------+-------------------+
| Ubuntu 22.04        | SKIPPED               | SKIPPED              | PASS               | PASS             | PASS              | SKIPPED           |
+---------------------+-----------------------+----------------------+--------------------+------------------+-------------------+-------------------+
| Ubuntu 24.04        | SKIPPED               | SKIPPED              | PASS               | PASS             | PASS              | SKIPPED           |
+---------------------+-----------------------+----------------------+--------------------+------------------+-------------------+-------------------+
| Alpine              | SKIPPED               | SKIPPED              | PASS               | PASS             | SKIPPED           | SKIPPED           |
+---------------------+-----------------------+----------------------+--------------------+------------------+-------------------+-------------------+


Windows Server 2022
	Kernel: 10.0.20348.2031
	Compiler: clang 15.0.7, gcc 14.1.0 (MinGW), and MSVC VS 19.39.33521

FreeBSD 13.4
	Kernel: 13.4-RELEASE-p1
	Compiler: clang 18.1.6

FreeBSD 14.1
	Kernel: 14.1-RELEASE-p3
	Compiler: clang 18.1.5

CentOS Stream 9
	Kernel: Depends on container host
	Compiler: gcc 11.4.1 20231218 (Red Hat 11.4.1-3)

Debian Bullseye
	Kernel: Depends on container host
	Compiler: gcc (Debian 10.2.1-6) 10.2.1 20210110

Debian 12
	Kernel: Depends on container host
	Compiler: gcc (Debian 12.2.0-14) 12.2.0

Fedora 37
	Kernel: Depends on container host system
	Compiler: gcc 12.3.1 20230508 (Red Hat 12.3.1-1)

Fedora 38 (Clang)
	Kernel: Depends on container host
	Compiler: clang 16.0.6 (Fedora 16.0.6-4.fc38)

Fedora 38
	Kernel: Depends on container host
	Compiler: gcc 13.2.1 20240316 (Red Hat 13.2.1-7)

Fedora 39 (Clang)
	Kernel: Depends on container host
	Compiler: clang 17.0.6 (Fedora 17.0.6-2.fc39)

Fedora 39
	Kernel: Depends on container host
	Compiler: gcc 13.3.1 20240522 (Red Hat 13.3.1-1)

Fedora 40 (Clang)
	Kernel: Depends on container host
	Compiler: clang 18.1.6 (Fedora 18.1.6-3.fc40)

Fedora 40
	Kernel: Depends on container host
	Compiler: gcc 14.2.1 20240801 (Red Hat 14.2.1-1)

openSUSE Leap 15
	Kernel: Depends on container host
	Compiler: gcc (SUSE Linux) 7.5.0

RHEL8
	Kernel: Depends on container host
	Compiler: gcc 8.5.0 20210514 (Red Hat 8.5.0-22)

RHEL9
	Kernel: Depends on container host
	Compiler: gcc 11.4.1 20231218 (Red Hat 11.4.1-3)

Ubuntu 20.04
	Kernel: Depends on container host
	Compiler: gcc (Ubuntu 9.4.0-1ubuntu1~20.04.2) 9.4.0

Ubuntu 22.04
	Kernel: Depends on container host
	Compiler: gcc (Ubuntu 11.4.0-1ubuntu1~22.04) 11.4.0

Ubuntu 24.04
	Kernel: Depends on container host
	Compiler: gcc (Ubuntu 13.2.0-23ubuntu4) 13.2.0

Alpine
	Kernel: Depends on container host
	Compiler: gcc (Alpine 13.2.1_git20240309) 13.2.1 20240309

To view detailed results, visit:
https://lab.dpdk.org/results/dashboard/patchsets/31586/

UNH-IOL DPDK Community Lab

To manage your email subscriptions, visit: 
https://lab.dpdk.org/results/dashboard/preferences/subscriptions/