From mboxrd@z Thu Jan  1 00:00:00 1970
Return-Path: <test-report-bounces@dpdk.org>
Received: from mails.dpdk.org (mails.dpdk.org [217.70.189.124])
	by inbox.dpdk.org (Postfix) with ESMTP id 8C2B745C0A
	for <public@inbox.dpdk.org>; Tue, 29 Oct 2024 12:58:31 +0100 (CET)
Received: from mails.dpdk.org (localhost [127.0.0.1])
	by mails.dpdk.org (Postfix) with ESMTP id 687FC4014F;
	Tue, 29 Oct 2024 12:58:31 +0100 (CET)
Received: from mail-pl1-f225.google.com (mail-pl1-f225.google.com
 [209.85.214.225])
 by mails.dpdk.org (Postfix) with ESMTP id 4F02640144
 for <test-report@dpdk.org>; Tue, 29 Oct 2024 12:58:30 +0100 (CET)
Received: by mail-pl1-f225.google.com with SMTP id
 d9443c01a7336-20c714cd9c8so54445125ad.0
 for <test-report@dpdk.org>; Tue, 29 Oct 2024 04:58:30 -0700 (PDT)
DKIM-Signature: v=1; a=rsa-sha256; c=relaxed/relaxed;
 d=iol.unh.edu; s=unh-iol; t=1730203109; x=1730807909; darn=dpdk.org;
 h=references:in-reply-to:cc:to:from:subject:message-id:date:from:to
 :cc:subject:date:message-id:reply-to;
 bh=tz4Ll6W1cRqrYMZz9BWFGsIf73eHuW3Cbe34ZWhtXN8=;
 b=Gb9gMjjS2XfcqCPLTir38EjciJv3PrM2FbWO7JDpSMVUWiH4dp2DreoHsFuxeyuzt/
 TooJE5b4SqWOPZpyaTmuiXezW/pO/c1Sy0+eA0v1mAAKhT4gb2h1kAawknwmkb21M5gg
 L+bOCAlXljF3roX9YAfj9+/VnPEIs5YTU8Kns=
X-Google-DKIM-Signature: v=1; a=rsa-sha256; c=relaxed/relaxed;
 d=1e100.net; s=20230601; t=1730203109; x=1730807909;
 h=references:in-reply-to:cc:to:from:subject:message-id:date
 :x-gm-message-state:from:to:cc:subject:date:message-id:reply-to;
 bh=tz4Ll6W1cRqrYMZz9BWFGsIf73eHuW3Cbe34ZWhtXN8=;
 b=Q5JEfiJDKkSNTGljOdk+DjTGYxcwijsaplG1016WVIHVDp+9iwN3Uq1WrLAv4grbIU
 V3SaqU72S9OKjxNbI6uGqT2iuYFpk5dYlb3XWlMs6G9KWARi+QJSq/YbnnYLmSeIg0ha
 TAOUYYgahgoxE3s1foWVII9a8QaozPOdIZRf1M9C2sQYW/jAFNod/cdEM2MaSekL8zMk
 uw7uBErOP479l2zozh9qRiEbR7bbPv+K1lPEv+jibl90E4DK3FsoJ/Ne/u6oU+30KsA5
 tpU8oO9vtIYT8jpSVB0b0PHZ+jPNGD5BU+e44KeIlukSLM6xfeqTCvsh0z6ytFd6M62k
 vJpg==
X-Gm-Message-State: AOJu0YwTWCBneA5mQrRCDwCSo1ryHVDOuuDr3uiMh1NPoJqcbDq+AcaO
 I74vgoAQaLzjI0i3gR4Himlug9D7P0CZWv60SG2X2/eH3JUk/alfg6fghnNy5RlyS14xFTKB4Qw
 OzWhNqrbbrBI1Puu0QniwNFayuHVnMqAJtaI7gC3zR3UUf16jyMB9TZc+
X-Google-Smtp-Source: AGHT+IFQr3G+kTKgSiHrURUyc2M8NtLO+DPKyUIaTC6dhcC32o1AV7ZuSz0zL6WcF5A4iaXr90mCgZ9yG1jJ
X-Received: by 2002:a17:903:2282:b0:206:96bf:b0cf with SMTP id
 d9443c01a7336-210c672bd09mr145412945ad.0.1730203109376; 
 Tue, 29 Oct 2024 04:58:29 -0700 (PDT)
Received: from postal.iol.unh.edu (postal.iol.unh.edu.
 [2606:4100:3880:1234::84]) by smtp-relay.gmail.com with ESMTPS id
 d9443c01a7336-210bbec1b6asm3916555ad.14.2024.10.29.04.58.29
 (version=TLS1_2 cipher=ECDHE-ECDSA-AES128-GCM-SHA256 bits=128/128);
 Tue, 29 Oct 2024 04:58:29 -0700 (PDT)
X-Relaying-Domain: iol.unh.edu
Date: Tue, 29 Oct 2024 04:58:29 -0700 (PDT)
Message-ID: <6720cde5.170a0220.2160ad.9c14SMTPIN_ADDED_MISSING@mx.google.com>
Received: from [172.21.0.5] (unknown [172.18.0.240])
 by postal.iol.unh.edu (Postfix) with ESMTP id 8219A6052471;
 Tue, 29 Oct 2024 07:58:28 -0400 (EDT)
Subject: |SUCCESS| pw147329-147341 [PATCH] [13/13] net/bnxt: remove unnecessa
From: dpdklab@iol.unh.edu
To: Test Report <test-report@dpdk.org>
Cc: dpdk-test-reports@iol.unh.edu
In-Reply-To: <20241025175738.99564-14-ajit.khaparde@broadcom.com>
References: <20241025175738.99564-14-ajit.khaparde@broadcom.com>
Content-Type: text/plain
X-BeenThere: test-report@dpdk.org
X-Mailman-Version: 2.1.29
Precedence: list
List-Id: automatic DPDK test reports <test-report.dpdk.org>
List-Unsubscribe: <https://mails.dpdk.org/options/test-report>,
 <mailto:test-report-request@dpdk.org?subject=unsubscribe>
List-Archive: <http://mails.dpdk.org/archives/test-report/>
List-Post: <mailto:test-report@dpdk.org>
List-Help: <mailto:test-report-request@dpdk.org?subject=help>
List-Subscribe: <https://mails.dpdk.org/listinfo/test-report>,
 <mailto:test-report-request@dpdk.org?subject=subscribe>
Errors-To: test-report-bounces@dpdk.org

Test-Label: iol-compile-arm64-testing
Test-Status: SUCCESS
http://dpdk.org/patch/147341

_Testing PASS_

Submitter: Ajit Khaparde <ajit.khaparde@broadcom.com>
Date: Friday, October 25 2024 17:57:38 
DPDK git baseline: Repo:dpdk
  Branch: master
  CommitID:a3786a4341c051f5a7e47041c34408804ff7fa31

147329-147341 --> testing pass

Upstream job id: Generic-DPDK-Compile-Meson#325254

Test environment and result as below:

+----------------------------------------+--------------------+
|              Environment               | dpdk_meson_compile |
+========================================+====================+
| RHEL9 (ARM)                            | PASS               |
+----------------------------------------+--------------------+
| Ubuntu 20.04 ARM GCC Cross Compile     | PASS               |
+----------------------------------------+--------------------+
| Debian 12 with MUSDK                   | PASS               |
+----------------------------------------+--------------------+
| Ubuntu 20.04 ARM SVE                   | PASS               |
+----------------------------------------+--------------------+
| Fedora 38 (ARM)                        | PASS               |
+----------------------------------------+--------------------+
| Fedora 39 (ARM)                        | PASS               |
+----------------------------------------+--------------------+
| Ubuntu 20.04 (ARM)                     | PASS               |
+----------------------------------------+--------------------+
| Fedora 40 (ARM Clang)                  | PASS               |
+----------------------------------------+--------------------+
| Ubuntu 24.04 (ARM)                     | PASS               |
+----------------------------------------+--------------------+
| Ubuntu 22.04 (ARM)                     | PASS               |
+----------------------------------------+--------------------+
| Ubuntu 20.04 aarch32 GCC Cross Compile | PASS               |
+----------------------------------------+--------------------+
| Debian 12 (arm)                        | PASS               |
+----------------------------------------+--------------------+
| Debian 11 (Buster) (ARM)               | PASS               |
+----------------------------------------+--------------------+
| Ubuntu 20.04 ARM Clang Cross Compile   | PASS               |
+----------------------------------------+--------------------+


RHEL9 (ARM)
	Kernel: Depends on container host
	Compiler: gcc 11.4.1 20231218 (Red Hat 11.4.1-3)

Ubuntu 20.04 ARM GCC Cross Compile
	Kernel: Depends on container host
	Compiler: aarch64-linux-gnu-gcc (Ubuntu 9.4.0-1ubuntu1~20.04.2) 9.4.0

Debian 12 with MUSDK
	Kernel: Depends on container host
	Compiler: gcc (Debian 12.2.0-14) 12.2.0

Ubuntu 20.04 ARM SVE
	Kernel: Depends on container host
	Compiler: gcc (Ubuntu 10.5.0-1ubuntu1~20.04) 10.5.0

Fedora 38 (ARM)
	Kernel: Depends on container host
	Compiler: gcc 13.2.1 20240316 (Red Hat 13.2.1-7)

Fedora 39 (ARM)
	Kernel: Depends on container host
	Compiler: gcc 13.3.1 20240522 (Red Hat 13.3.1-1)

Ubuntu 20.04 (ARM)
	Kernel: Depends on container host
	Compiler: gcc (Ubuntu 9.4.0-1ubuntu1~20.04.2) 9.4.0

Fedora 40 (ARM Clang)
	Kernel: Depends on container host
	Compiler: clang 18.1.6 (Fedora 18.1.6-3.fc40)

Ubuntu 24.04 (ARM)
	Kernel: Depends on container host
	Compiler: gcc (Ubuntu 13.2.0-23ubuntu4) 13.2.0

Ubuntu 22.04 (ARM)
	Kernel: Depends on container host
	Compiler: gcc (Ubuntu 11.4.0-1ubuntu1~22.04) 11.4.0

Ubuntu 20.04 aarch32 GCC Cross Compile
	Kernel: Depends on container host
	Compiler: gcc 9.4.0

Debian 12 (arm)
	Kernel: Depends on container host
	Compiler: gcc (Debian 12.2.0-14) 12.2.0

Debian 11 (Buster) (ARM)
	Kernel: Depends on container host
	Compiler: gcc (Debian 10.2.1-6) 10.2.1 20210110

Ubuntu 20.04 ARM Clang Cross Compile
	Kernel: Depends on container host
	Compiler: clang 10.0.0-4ubuntu1

To view detailed results, visit:
https://lab.dpdk.org/results/dashboard/patchsets/31690/

UNH-IOL DPDK Community Lab

To manage your email subscriptions, visit: 
https://lab.dpdk.org/results/dashboard/preferences/subscriptions/