From mboxrd@z Thu Jan 1 00:00:00 1970 Return-Path: Received: from mails.dpdk.org (mails.dpdk.org [217.70.189.124]) by inbox.dpdk.org (Postfix) with ESMTP id 7329645C0A for ; Tue, 29 Oct 2024 13:49:55 +0100 (CET) Received: from mails.dpdk.org (localhost [127.0.0.1]) by mails.dpdk.org (Postfix) with ESMTP id 6EBF942E50; Tue, 29 Oct 2024 13:49:55 +0100 (CET) Received: from mail-vk1-f226.google.com (mail-vk1-f226.google.com [209.85.221.226]) by mails.dpdk.org (Postfix) with ESMTP id BFA0B40144 for ; Tue, 29 Oct 2024 13:49:53 +0100 (CET) Received: by mail-vk1-f226.google.com with SMTP id 71dfb90a1353d-50d5d6f9fdaso1681558e0c.2 for ; Tue, 29 Oct 2024 05:49:53 -0700 (PDT) DKIM-Signature: v=1; a=rsa-sha256; c=relaxed/relaxed; d=iol.unh.edu; s=unh-iol; t=1730206193; x=1730810993; darn=dpdk.org; h=cc:to:from:subject:message-id:date:from:to:cc:subject:date :message-id:reply-to; bh=FKt4MQGpdHOrX1xoKJh13oaYejfuELNTVNTVWWGZYWI=; b=GEYFdUl7FmcxWVZqDO78oX0WfBIqatsQNEsndTop3DRs67ULkB3AdByMN3vlr1V8A2 mTZ5kIuOtqei7VxupAZ7OvDsxPPVfAcpqx9dfieNZ1pATnU2P28XpfNO7oKPO7nDlR0t LfTQ3YuyMZKCfBgiy/TrPPAvuqiEwa94CTq3I= X-Google-DKIM-Signature: v=1; a=rsa-sha256; c=relaxed/relaxed; d=1e100.net; s=20230601; t=1730206193; x=1730810993; h=cc:to:from:subject:message-id:date:x-gm-message-state:from:to:cc :subject:date:message-id:reply-to; bh=FKt4MQGpdHOrX1xoKJh13oaYejfuELNTVNTVWWGZYWI=; b=ccMrtW5t7vSMogIBlCeT5hPv623/7I4bxLANL3XBicgJqyV8e26kSIhwrYgZmOG9L6 JtOuCMSnXIz4t/+liUB12++VBb43eWP1YcIDWVkWT16qUWmiFe5vzhezh5G3SLYudUhz 1plq8Qu91ZzoTVqZ3OgvALrE0tU8QQhomvnuBNP+qnhgWllJwfI5q/rpRNAhBqIiDCTB lH7UtfzHCi+lPM9OMv5KURyOB9H10dhyK4KWSEvIvUaniktCeKGwOFDp5vAK6sWhWBLy 5mgFZ1gK+UBy6nJ6iCvcWwiFsf0ieR8ZLvcYMiKDfueuMI1c2OxVTIDm5tnCXA0Mn++k DN+w== X-Gm-Message-State: AOJu0YzjdT6sNx5fLth94+19R3ZvND2ympW2Rq5J50M88gjr3/i1UsLa Jllb8DXx+PGMKlvYIEJbed9LGV32S/8EK88jjBabGfdI+WbMqDXLpDgwNwIz58xSXyFkjjNWGy+ Q5T7v8lzqqPbupO6qeNNAtQeEPGvu1BNk2dCnVrh9sDap/bPq X-Google-Smtp-Source: AGHT+IHk/T/OdrMzbM2gmc806Ryot2JujxLF/qiOYJsZZVZhXCn3V8pmoBkrzDF7oagBlTlm6hw0RJutDWxD X-Received: by 2002:a05:6122:459c:b0:50d:2dd4:e62a with SMTP id 71dfb90a1353d-5101535c53fmr9584887e0c.13.1730206193107; Tue, 29 Oct 2024 05:49:53 -0700 (PDT) Received: from postal.iol.unh.edu (postal.iol.unh.edu. [2606:4100:3880:1234::84]) by smtp-relay.gmail.com with ESMTPS id 71dfb90a1353d-51004361fd0sm398167e0c.6.2024.10.29.05.49.53 (version=TLS1_2 cipher=ECDHE-ECDSA-AES128-GCM-SHA256 bits=128/128); Tue, 29 Oct 2024 05:49:53 -0700 (PDT) X-Relaying-Domain: iol.unh.edu Date: Tue, 29 Oct 2024 05:49:53 -0700 (PDT) Message-ID: <6720d9f1.050a0220.379a01.ab8eSMTPIN_ADDED_MISSING@mx.google.com> Received: from [172.21.0.7] (unknown [172.18.0.240]) by postal.iol.unh.edu (Postfix) with ESMTP id B94CC6052471; Tue, 29 Oct 2024 08:49:52 -0400 (EDT) Subject: |WARNING| [GIT MASTER] ff4d4839f9c2a6d05dca0a25ed6b1549402e1682 From: dpdklab@iol.unh.edu To: Test Report Cc: dpdk-test-reports@iol.unh.edu, Xueming Li , Christian Ehrhardt , Kevin Traynor , Luca Boccassi Content-Type: text/plain X-BeenThere: test-report@dpdk.org X-Mailman-Version: 2.1.29 Precedence: list List-Id: automatic DPDK test reports List-Unsubscribe: , List-Archive: List-Post: List-Help: List-Subscribe: , Errors-To: test-report-bounces@dpdk.org _Testing issues_ Branch: tags/v22.11 ff4d4839f9c2a6d05dca0a25ed6b1549402e1682 --> testing issues Upstream job id: Generic-Unit-Test-DPDK#284991 Test environment and result as below: +-----------------------------+--------------+---------------------------+------------------------------+----------------+ | Environment | lpm_autotest | cryptodev_sw_zuc_autotest | cryptodev_sw_snow3g_autotest | dpdk_unit_test | +=============================+==============+===========================+==============================+================+ | Ubuntu 20.04 ARM SVE | PASS | SKIPPED | SKIPPED | SKIPPED | +-----------------------------+--------------+---------------------------+------------------------------+----------------+ | Debian 12 (arm) | SKIPPED | WARN | WARN | SKIPPED | +-----------------------------+--------------+---------------------------+------------------------------+----------------+ | 32-bit Ubuntu 22.04.4 (ARM) | SKIPPED | SKIPPED | SKIPPED | PASS | +-----------------------------+--------------+---------------------------+------------------------------+----------------+ ==== 20 line log output for Debian 12 (arm) (cryptodev_sw_snow3g_autotest): ==== --- Failed to get log output --- ==== End log output ==== Ubuntu 20.04 ARM SVE Kernel: Depends on container host Compiler: gcc (Ubuntu 10.5.0-1ubuntu1~20.04) 10.5.0 Debian 12 (arm) Kernel: Depends on container host Compiler: gcc (Debian 12.2.0-14) 12.2.0 32-bit Ubuntu 22.04.4 (ARM) Kernel: 5.15.83+ aarch64 Compiler: gcc (Ubuntu 11.4.0-1ubuntu1~22.04) 11.4.0 To view detailed results, visit: https://lab.dpdk.org/results/dashboard/tarballs/31247/ UNH-IOL DPDK Community Lab To manage your email subscriptions, visit: https://lab.dpdk.org/results/dashboard/preferences/subscriptions/