From mboxrd@z Thu Jan 1 00:00:00 1970 Return-Path: Received: from mails.dpdk.org (mails.dpdk.org [217.70.189.124]) by inbox.dpdk.org (Postfix) with ESMTP id 7CABB45BC0 for ; Tue, 29 Oct 2024 16:04:52 +0100 (CET) Received: from mails.dpdk.org (localhost [127.0.0.1]) by mails.dpdk.org (Postfix) with ESMTP id 77D0D42E10; Tue, 29 Oct 2024 16:04:52 +0100 (CET) Received: from mail-ot1-f99.google.com (mail-ot1-f99.google.com [209.85.210.99]) by mails.dpdk.org (Postfix) with ESMTP id 0D2F640144 for ; Tue, 29 Oct 2024 16:04:48 +0100 (CET) Received: by mail-ot1-f99.google.com with SMTP id 46e09a7af769-718066adb47so3195823a34.0 for ; Tue, 29 Oct 2024 08:04:47 -0700 (PDT) DKIM-Signature: v=1; a=rsa-sha256; c=relaxed/relaxed; d=iol.unh.edu; s=unh-iol; t=1730214287; x=1730819087; darn=dpdk.org; h=cc:to:from:subject:message-id:date:from:to:cc:subject:date :message-id:reply-to; bh=byeDi1s+T7WwDum73faEMaaoQXcl6S3sCvubU1jon2A=; b=h6xlL+i56uj1NDzbaoY3ckok/bX6zGLk0Qv9vw8tPY6UsmfuOd7JCDidMOQ27DR377 0juclUCdkmKVX2cCEJWT/8m2xJNDfr+a4AFV6ZQtONLUA9IEYLHnqz5INMi2yZcnBQNh 6/OnQboqCVeTIKU4DCzjXH+6yPv8iel6QB/TY= X-Google-DKIM-Signature: v=1; a=rsa-sha256; c=relaxed/relaxed; d=1e100.net; s=20230601; t=1730214287; x=1730819087; h=cc:to:from:subject:message-id:date:x-gm-message-state:from:to:cc :subject:date:message-id:reply-to; bh=byeDi1s+T7WwDum73faEMaaoQXcl6S3sCvubU1jon2A=; b=hQqblqiKOgX60kAGO+J6H3Vo4bBX8iYEnSAlm//PLg2jbRKKwXJDaCpihOq3fsYclp z4qHeL7UpscwWM/0abDD1efyecaGoGXMqCv4/UTHpiG0oKYmnjiYnV8Fz8mA4jJOSc9F NFc2BJDN1W2H9fseT3HKjUu87y3v5SB8sOeNAxQjj4WywgoQ799UpvP4K8xqm8MoxQKF z5o8fxRZ4DgkWnM8es0KNs02oojaq6Cl8Akc/Z61t4a2PG2SgpWxfkoNh32bq0iGXXcp VKmZzx2gMO27+mmF3p3lLvCFkRNc0qI7Azjzcjpd8eI/s4rzzvv1419/yQa/I2WDwYbg VZxQ== X-Gm-Message-State: AOJu0YzjgYdOsm+8tC32VddWjaK5azIiuZxJupPq3pUuQOCcLOqWS18v 6U2kGp9/ujzvai38boNx5DjpQKIuObthEHfjxIHrHi+oHGozrz1zVykdmQ5unr5p3Vwma8M/yR/ WS84C6I/aY79XVwgMp+bbsoVTNNC+w5vs X-Google-Smtp-Source: AGHT+IEw/7YTxDV8Z7iMtexOdAZd7z7R8ymQ+ESpQ2VFLvvhe8QKeM6KTEX39ryL0y2eMb5KEfosTwdr2B3E X-Received: by 2002:a05:6830:6c84:b0:718:83f7:977c with SMTP id 46e09a7af769-71883f79af4mr5146500a34.4.1730214287122; Tue, 29 Oct 2024 08:04:47 -0700 (PDT) Received: from postal.iol.unh.edu (postal.iol.unh.edu. [132.177.123.84]) by smtp-relay.gmail.com with ESMTPS id 8926c6da1cb9f-4dc725eb64csm345068173.7.2024.10.29.08.04.46 (version=TLS1_2 cipher=ECDHE-ECDSA-AES128-GCM-SHA256 bits=128/128); Tue, 29 Oct 2024 08:04:47 -0700 (PDT) X-Relaying-Domain: iol.unh.edu Date: Tue, 29 Oct 2024 08:04:47 -0700 (PDT) Message-ID: <6720f98f.050a0220.10f5a2.6bc3SMTPIN_ADDED_MISSING@mx.google.com> Received: from [172.21.0.5] (unknown [172.18.0.240]) by postal.iol.unh.edu (Postfix) with ESMTP id 951636052471; Tue, 29 Oct 2024 11:04:46 -0400 (EDT) Subject: |WARNING| [GIT MASTER] ff4d4839f9c2a6d05dca0a25ed6b1549402e1682 From: dpdklab@iol.unh.edu To: Test Report Cc: dpdk-test-reports@iol.unh.edu, Xueming Li , Christian Ehrhardt , Kevin Traynor , Luca Boccassi Content-Type: text/plain X-BeenThere: test-report@dpdk.org X-Mailman-Version: 2.1.29 Precedence: list List-Id: automatic DPDK test reports List-Unsubscribe: , List-Archive: List-Post: List-Help: List-Subscribe: , Errors-To: test-report-bounces@dpdk.org _Testing issues_ Branch: tags/v22.11 ff4d4839f9c2a6d05dca0a25ed6b1549402e1682 --> testing issues Upstream job id: Generic-Unit-Test-DPDK#285133 Test environment and result as below: +-----------------------------+--------------+------------------------------+---------------------------+----------------+ | Environment | lpm_autotest | cryptodev_sw_snow3g_autotest | cryptodev_sw_zuc_autotest | dpdk_unit_test | +=============================+==============+==============================+===========================+================+ | Ubuntu 20.04 ARM SVE | PASS | SKIPPED | SKIPPED | SKIPPED | +-----------------------------+--------------+------------------------------+---------------------------+----------------+ | Debian 12 (arm) | SKIPPED | WARN | WARN | SKIPPED | +-----------------------------+--------------+------------------------------+---------------------------+----------------+ | 32-bit Ubuntu 22.04.4 (ARM) | SKIPPED | SKIPPED | SKIPPED | PASS | +-----------------------------+--------------+------------------------------+---------------------------+----------------+ ==== 20 line log output for Debian 12 (arm) (cryptodev_sw_zuc_autotest): ==== --- Failed to get log output --- ==== End log output ==== Ubuntu 20.04 ARM SVE Kernel: Depends on container host Compiler: gcc (Ubuntu 10.5.0-1ubuntu1~20.04) 10.5.0 Debian 12 (arm) Kernel: Depends on container host Compiler: gcc (Debian 12.2.0-14) 12.2.0 32-bit Ubuntu 22.04.4 (ARM) Kernel: 5.15.83+ aarch64 Compiler: gcc (Ubuntu 11.4.0-1ubuntu1~22.04) 11.4.0 To view detailed results, visit: https://lab.dpdk.org/results/dashboard/tarballs/31217/ UNH-IOL DPDK Community Lab To manage your email subscriptions, visit: https://lab.dpdk.org/results/dashboard/preferences/subscriptions/