From mboxrd@z Thu Jan  1 00:00:00 1970
Return-Path: <test-report-bounces@dpdk.org>
Received: from mails.dpdk.org (mails.dpdk.org [217.70.189.124])
	by inbox.dpdk.org (Postfix) with ESMTP id 3BDFD45BC0
	for <public@inbox.dpdk.org>; Tue, 29 Oct 2024 17:07:50 +0100 (CET)
Received: from mails.dpdk.org (localhost [127.0.0.1])
	by mails.dpdk.org (Postfix) with ESMTP id 3844442E9C;
	Tue, 29 Oct 2024 17:07:50 +0100 (CET)
Received: from mail-yb1-f227.google.com (mail-yb1-f227.google.com
 [209.85.219.227])
 by mails.dpdk.org (Postfix) with ESMTP id 865B240261
 for <test-report@dpdk.org>; Tue, 29 Oct 2024 17:07:49 +0100 (CET)
Received: by mail-yb1-f227.google.com with SMTP id
 3f1490d57ef6-e28fea0f5b8so5296609276.1
 for <test-report@dpdk.org>; Tue, 29 Oct 2024 09:07:49 -0700 (PDT)
DKIM-Signature: v=1; a=rsa-sha256; c=relaxed/relaxed;
 d=iol.unh.edu; s=unh-iol; t=1730218069; x=1730822869; darn=dpdk.org;
 h=references:in-reply-to:cc:to:from:subject:message-id:date:from:to
 :cc:subject:date:message-id:reply-to;
 bh=ywaf7M1wFzgfC48QWXG8JUYEdo3KMCaYMGLZP3hOFjk=;
 b=DdkVIRl5w/7gxGppuTAY9ASQ4R6j39ihNwKpiW23q/V8r77uZmV5OC4E20eWepf2Ul
 w9Y7fB8sgNu8dTky54p+7qqf67+QegErBKooGAA/CqG/a6LFQvunKNKXkCdqGMFcqB/N
 V8UbaWSeSVhVLZuXVz7RjeAv7cJHdue4s+Jh8=
X-Google-DKIM-Signature: v=1; a=rsa-sha256; c=relaxed/relaxed;
 d=1e100.net; s=20230601; t=1730218069; x=1730822869;
 h=references:in-reply-to:cc:to:from:subject:message-id:date
 :x-gm-message-state:from:to:cc:subject:date:message-id:reply-to;
 bh=ywaf7M1wFzgfC48QWXG8JUYEdo3KMCaYMGLZP3hOFjk=;
 b=f76Zjvm133PS02F++w6AjLDsNj0oCZ09mpxdLhBiKv2AzW1woKXn7ooCckNp5HSaZd
 Ly4k+63YvU5BqKxKEq/1+cTYkrBKaLiew0aAva/1LkT98687TmR2gDDHsj5HsoLKFWNN
 AThDgrH3nqVoNR7f370fZ7aaNBzdidxpuymd4LmlcIMjTHMVOZAP6MTsWJippotE4lCu
 MQWU025ln1X7gSPayoJ9fhcTRGU+OeaKgtWWSgNiA93fK2pk+InMBmrM8DDmEx8Bi3QC
 DesBv8RVztMpXgl7AJKhcN7t5nW260toBHHoyuXj0ItlfdaQPmsHdhrvkxQW/ofgdj6w
 LgJw==
X-Gm-Message-State: AOJu0YxKXZSFeLNT0oqTy8x1tzxiCciK4RGTWXZZPKEgkC15JTFufaEW
 L3SnS1nOm3qxmCpEat35QU83z4cdoyXFlGtlKqo49dDI48m2EHsShJ1r/2vg6/LqHKMzuSHM9JD
 kBg/NRfQ7sY9Qpv0M6V+gbpApNhxpsMiN1lkrx3JGmdrBfhYitf7u/0Zb
X-Google-Smtp-Source: AGHT+IHBIX+lUMbu6FvRoF5NhlCOyBsjM6UPNu5iZPX8/PRr0ik2Zjrbvcep8OLnnriDToGkp2av1I1NFOUk
X-Received: by 2002:a05:6902:20c9:b0:e29:566d:c30 with SMTP id
 3f1490d57ef6-e3087a6b87fmr10587177276.16.1730218068786; 
 Tue, 29 Oct 2024 09:07:48 -0700 (PDT)
Received: from postal.iol.unh.edu (postal.iol.unh.edu.
 [2606:4100:3880:1234::84]) by smtp-relay.gmail.com with ESMTPS id
 3f1490d57ef6-e307a0237a3sm445137276.31.2024.10.29.09.07.48
 (version=TLS1_2 cipher=ECDHE-ECDSA-AES128-GCM-SHA256 bits=128/128);
 Tue, 29 Oct 2024 09:07:48 -0700 (PDT)
X-Relaying-Domain: iol.unh.edu
Date: Tue, 29 Oct 2024 09:07:48 -0700 (PDT)
Message-ID: <67210854.250a0220.e19af.185bSMTPIN_ADDED_MISSING@mx.google.com>
Received: from [172.17.0.4] (unknown [172.18.0.217])
 by postal.iol.unh.edu (Postfix) with ESMTP id 62F1D6052471;
 Tue, 29 Oct 2024 12:07:48 -0400 (EDT)
Subject: |SUCCESS| pw146955-146962 [PATCH] [8/8] net/cnxk: handle RSS action 
From: dpdklab@iol.unh.edu
To: Test Report <test-report@dpdk.org>
Cc: dpdk-test-reports@iol.unh.edu
In-Reply-To: <20241023150143.113877-8-hkalra@marvell.com>
References: <20241023150143.113877-8-hkalra@marvell.com>
Content-Type: text/plain
X-BeenThere: test-report@dpdk.org
X-Mailman-Version: 2.1.29
Precedence: list
List-Id: automatic DPDK test reports <test-report.dpdk.org>
List-Unsubscribe: <https://mails.dpdk.org/options/test-report>,
 <mailto:test-report-request@dpdk.org?subject=unsubscribe>
List-Archive: <http://mails.dpdk.org/archives/test-report/>
List-Post: <mailto:test-report@dpdk.org>
List-Help: <mailto:test-report-request@dpdk.org?subject=help>
List-Subscribe: <https://mails.dpdk.org/listinfo/test-report>,
 <mailto:test-report-request@dpdk.org?subject=subscribe>
Errors-To: test-report-bounces@dpdk.org

Test-Label: iol-sample-apps-testing
Test-Status: SUCCESS
http://dpdk.org/patch/146962

_Testing PASS_

Submitter: Harman Kalra <hkalra@marvell.com>
Date: Wednesday, October 23 2024 15:01:42 
DPDK git baseline: Repo:dpdk
  Branch: master
  CommitID:3ee7a3e0e0e0f5a81a4b102a834697bc488fb32f

146955-146962 --> testing pass

Upstream job id: ACVP-FIPS-testing#7473

Test environment and result as below:

+--------------------+----------------------+----------------------+
|    Environment     | compressdev_zlib_pmd | dpdk_fips_validation |
+====================+======================+======================+
| Ubuntu 22.04 (ARM) | PASS                 | SKIPPED              |
+--------------------+----------------------+----------------------+
| Ubuntu 22.04       | PASS                 | SKIPPED              |
+--------------------+----------------------+----------------------+
| Ubuntu 20.04       | SKIPPED              | PASS                 |
+--------------------+----------------------+----------------------+


Ubuntu 22.04 (ARM)
	Kernel: 5.15.0-97-generic
	Compiler: gcc gcc (Ubuntu 11.4.0-1ubuntu1~22.04) 11.4.0

Ubuntu 22.04
	Kernel: 5.15.0-100-generic
	Compiler: gcc gcc (Ubuntu 11.4.0-1ubuntu1~22.04) 11.4.0

Ubuntu 20.04
	Kernel: Depends on container host
	Compiler: gcc (Ubuntu 9.4.0-1ubuntu1~20.04.2) 9.4.0

To view detailed results, visit:
https://lab.dpdk.org/results/dashboard/patchsets/31625/

UNH-IOL DPDK Community Lab

To manage your email subscriptions, visit: 
https://lab.dpdk.org/results/dashboard/preferences/subscriptions/