From mboxrd@z Thu Jan  1 00:00:00 1970
Return-Path: <test-report-bounces@dpdk.org>
Received: from mails.dpdk.org (mails.dpdk.org [217.70.189.124])
	by inbox.dpdk.org (Postfix) with ESMTP id AD88D45BC0
	for <public@inbox.dpdk.org>; Tue, 29 Oct 2024 17:47:11 +0100 (CET)
Received: from mails.dpdk.org (localhost [127.0.0.1])
	by mails.dpdk.org (Postfix) with ESMTP id 7BAA842F65;
	Tue, 29 Oct 2024 17:47:11 +0100 (CET)
Received: from mail-yb1-f225.google.com (mail-yb1-f225.google.com
 [209.85.219.225])
 by mails.dpdk.org (Postfix) with ESMTP id 7BA2B42F04
 for <test-report@dpdk.org>; Tue, 29 Oct 2024 17:46:49 +0100 (CET)
Received: by mail-yb1-f225.google.com with SMTP id
 3f1490d57ef6-e2972abc807so5589762276.3
 for <test-report@dpdk.org>; Tue, 29 Oct 2024 09:46:49 -0700 (PDT)
DKIM-Signature: v=1; a=rsa-sha256; c=relaxed/relaxed;
 d=iol.unh.edu; s=unh-iol; t=1730220409; x=1730825209; darn=dpdk.org;
 h=references:in-reply-to:cc:to:from:subject:message-id:date:from:to
 :cc:subject:date:message-id:reply-to;
 bh=njCB2FzhxFxVpg8F1102f21mc+83gbqQeusRkYmag+I=;
 b=fU2FvCPZmK4N0E3+MgKfoqdUgi4QNHPrllQ8lazOUsdK6Zk4hTS1JrP7ZPr0O2I5AL
 auClU+fQaVBOHuqA+75+LVENyEA/Vady0oZZPqOA78UCbS/m+kbFcBCa0mwS5AF7ofVO
 E8Y4WImFQczKRdopshhZrmWgb1hvju+C2ZfjE=
X-Google-DKIM-Signature: v=1; a=rsa-sha256; c=relaxed/relaxed;
 d=1e100.net; s=20230601; t=1730220409; x=1730825209;
 h=references:in-reply-to:cc:to:from:subject:message-id:date
 :x-gm-message-state:from:to:cc:subject:date:message-id:reply-to;
 bh=njCB2FzhxFxVpg8F1102f21mc+83gbqQeusRkYmag+I=;
 b=pRA9vrhIBbUJ7lEh6DIocI1GIP/gtjfWLKyrBALflARbx+qs2ydRSVbaZiMHSzYpFF
 FHzpjmjto19fk2eOh2YNSbaNx81M6dXSiUTGzLiDv6I1w7H/zOnqkqFWcwM2CIQ5+5vB
 3YhmX2GwIu+NfTKEJyY9cSMrc26UoahqBM8ozk7c334immoFaK1O01Anm5jtz+2WFHmq
 rogSGXdc4MpS3Nhic55/WgL6cShiPG9CaisiEYddK/HJmzRw1bjW+ySqlNix0wS61LkJ
 P/4qIOCCVMMIOzeHKy4hYJlRx3a96cpajlAMal/Dk07QpQHuyPzps5Bb2pxHD0jubwVX
 vlPg==
X-Gm-Message-State: AOJu0YwviGKy4DJjV4cIF6DoQ2IvqyJajp1yvvd5H0Nge4xOKYOm5j5B
 6AFmaIx4mmXR+Z+xkcQoCQewV0v9H+QHul2HDzgCbi6WjV63lWV2QfZKxXPRD6OE0VO0ZP+XHFb
 iRNWuU+huU69A2zt+Z/nVSqnqZbD0W6P+bDKDTONZQ6rbGr1GQRJyugxP
X-Google-Smtp-Source: AGHT+IHFJdlnKoQ5MLna+VlVoKw3sA6NYf7T21ueefvvZy2UmovtPT408Lg4N/tA9pmgxwJvuHsio9BfbXDD
X-Received: by 2002:a05:6902:c08:b0:e28:f3e7:d92b with SMTP id
 3f1490d57ef6-e3087b66629mr10660614276.24.1730220408799; 
 Tue, 29 Oct 2024 09:46:48 -0700 (PDT)
Received: from postal.iol.unh.edu (postal.iol.unh.edu.
 [2606:4100:3880:1234::84]) by smtp-relay.gmail.com with ESMTPS id
 00721157ae682-6ea384fed2dsm188487b3.53.2024.10.29.09.46.48
 (version=TLS1_2 cipher=ECDHE-ECDSA-AES128-GCM-SHA256 bits=128/128);
 Tue, 29 Oct 2024 09:46:48 -0700 (PDT)
X-Relaying-Domain: iol.unh.edu
Date: Tue, 29 Oct 2024 09:46:48 -0700 (PDT)
Message-ID: <67211178.050a0220.1367a6.112bSMTPIN_ADDED_MISSING@mx.google.com>
Received: from [172.17.0.3] (unknown [172.18.0.217])
 by postal.iol.unh.edu (Postfix) with ESMTP id 723F76052471;
 Tue, 29 Oct 2024 12:46:48 -0400 (EDT)
Subject: |SUCCESS| pw147329-147341 [PATCH] [13/13] net/bnxt: remove unnecessa
From: dpdklab@iol.unh.edu
To: Test Report <test-report@dpdk.org>
Cc: dpdk-test-reports@iol.unh.edu
In-Reply-To: <20241025175738.99564-14-ajit.khaparde@broadcom.com>
References: <20241025175738.99564-14-ajit.khaparde@broadcom.com>
Content-Type: text/plain
X-BeenThere: test-report@dpdk.org
X-Mailman-Version: 2.1.29
Precedence: list
List-Id: automatic DPDK test reports <test-report.dpdk.org>
List-Unsubscribe: <https://mails.dpdk.org/options/test-report>,
 <mailto:test-report-request@dpdk.org?subject=unsubscribe>
List-Archive: <http://mails.dpdk.org/archives/test-report/>
List-Post: <mailto:test-report@dpdk.org>
List-Help: <mailto:test-report-request@dpdk.org?subject=help>
List-Subscribe: <https://mails.dpdk.org/listinfo/test-report>,
 <mailto:test-report-request@dpdk.org?subject=subscribe>
Errors-To: test-report-bounces@dpdk.org

Test-Label: iol-compile-arm64-testing
Test-Status: SUCCESS
http://dpdk.org/patch/147341

_Testing PASS_

Submitter: Ajit Khaparde <ajit.khaparde@broadcom.com>
Date: Friday, October 25 2024 17:57:38 
DPDK git baseline: Repo:dpdk
  Branch: master
  CommitID:a3786a4341c051f5a7e47041c34408804ff7fa31

147329-147341 --> testing pass

Upstream job id: Generic-DPDK-Compile-Meson#325264

Test environment and result as below:

+----------------------------------------+--------------------+
|              Environment               | dpdk_meson_compile |
+========================================+====================+
| RHEL9 (ARM)                            | PASS               |
+----------------------------------------+--------------------+
| Ubuntu 20.04 ARM GCC Cross Compile     | PASS               |
+----------------------------------------+--------------------+
| Debian 12 with MUSDK                   | PASS               |
+----------------------------------------+--------------------+
| Ubuntu 20.04 ARM SVE                   | PASS               |
+----------------------------------------+--------------------+
| Fedora 38 (ARM)                        | PASS               |
+----------------------------------------+--------------------+
| Fedora 39 (ARM)                        | PASS               |
+----------------------------------------+--------------------+
| Ubuntu 20.04 (ARM)                     | PASS               |
+----------------------------------------+--------------------+
| Fedora 40 (ARM Clang)                  | PASS               |
+----------------------------------------+--------------------+
| Ubuntu 24.04 (ARM)                     | PASS               |
+----------------------------------------+--------------------+
| Ubuntu 22.04 (ARM)                     | PASS               |
+----------------------------------------+--------------------+
| Ubuntu 20.04 aarch32 GCC Cross Compile | PASS               |
+----------------------------------------+--------------------+
| Debian 12 (arm)                        | PASS               |
+----------------------------------------+--------------------+
| Debian 11 (Buster) (ARM)               | PASS               |
+----------------------------------------+--------------------+
| Ubuntu 20.04 ARM Clang Cross Compile   | PASS               |
+----------------------------------------+--------------------+
| Fedora 40 (ARM)                        | PASS               |
+----------------------------------------+--------------------+
| CentOS Stream 9 (ARM)                  | PASS               |
+----------------------------------------+--------------------+


RHEL9 (ARM)
	Kernel: Depends on container host
	Compiler: gcc 11.4.1 20231218 (Red Hat 11.4.1-3)

Ubuntu 20.04 ARM GCC Cross Compile
	Kernel: Depends on container host
	Compiler: aarch64-linux-gnu-gcc (Ubuntu 9.4.0-1ubuntu1~20.04.2) 9.4.0

Debian 12 with MUSDK
	Kernel: Depends on container host
	Compiler: gcc (Debian 12.2.0-14) 12.2.0

Ubuntu 20.04 ARM SVE
	Kernel: Depends on container host
	Compiler: gcc (Ubuntu 10.5.0-1ubuntu1~20.04) 10.5.0

Fedora 38 (ARM)
	Kernel: Depends on container host
	Compiler: gcc 13.2.1 20240316 (Red Hat 13.2.1-7)

Fedora 39 (ARM)
	Kernel: Depends on container host
	Compiler: gcc 13.3.1 20240522 (Red Hat 13.3.1-1)

Ubuntu 20.04 (ARM)
	Kernel: Depends on container host
	Compiler: gcc (Ubuntu 9.4.0-1ubuntu1~20.04.2) 9.4.0

Fedora 40 (ARM Clang)
	Kernel: Depends on container host
	Compiler: clang 18.1.6 (Fedora 18.1.6-3.fc40)

Ubuntu 24.04 (ARM)
	Kernel: Depends on container host
	Compiler: gcc (Ubuntu 13.2.0-23ubuntu4) 13.2.0

Ubuntu 22.04 (ARM)
	Kernel: Depends on container host
	Compiler: gcc (Ubuntu 11.4.0-1ubuntu1~22.04) 11.4.0

Ubuntu 20.04 aarch32 GCC Cross Compile
	Kernel: Depends on container host
	Compiler: gcc 9.4.0

Debian 12 (arm)
	Kernel: Depends on container host
	Compiler: gcc (Debian 12.2.0-14) 12.2.0

Debian 11 (Buster) (ARM)
	Kernel: Depends on container host
	Compiler: gcc (Debian 10.2.1-6) 10.2.1 20210110

Ubuntu 20.04 ARM Clang Cross Compile
	Kernel: Depends on container host
	Compiler: clang 10.0.0-4ubuntu1

Fedora 40 (ARM)
	Kernel: Depends on container host
	Compiler: gcc 14.2.1 20240801 (Red Hat 14.2.1-1)

CentOS Stream 9 (ARM)
	Kernel: Depends on container host
	Compiler: gcc 11.4.1 20231218 (Red Hat 11.4.1-3)

To view detailed results, visit:
https://lab.dpdk.org/results/dashboard/patchsets/31690/

UNH-IOL DPDK Community Lab

To manage your email subscriptions, visit: 
https://lab.dpdk.org/results/dashboard/preferences/subscriptions/