From mboxrd@z Thu Jan  1 00:00:00 1970
Return-Path: <test-report-bounces@dpdk.org>
Received: from mails.dpdk.org (mails.dpdk.org [217.70.189.124])
	by inbox.dpdk.org (Postfix) with ESMTP id CE3F045C0F
	for <public@inbox.dpdk.org>; Tue, 29 Oct 2024 23:01:35 +0100 (CET)
Received: from mails.dpdk.org (localhost [127.0.0.1])
	by mails.dpdk.org (Postfix) with ESMTP id CA59242EE8;
	Tue, 29 Oct 2024 23:01:35 +0100 (CET)
Received: from mail-oo1-f99.google.com (mail-oo1-f99.google.com
 [209.85.161.99]) by mails.dpdk.org (Postfix) with ESMTP id 8DC4D4060F
 for <test-report@dpdk.org>; Tue, 29 Oct 2024 23:01:19 +0100 (CET)
Received: by mail-oo1-f99.google.com with SMTP id
 006d021491bc7-5ebc04d495aso3427001eaf.2
 for <test-report@dpdk.org>; Tue, 29 Oct 2024 15:01:19 -0700 (PDT)
DKIM-Signature: v=1; a=rsa-sha256; c=relaxed/relaxed;
 d=iol.unh.edu; s=unh-iol; t=1730239278; x=1730844078; darn=dpdk.org;
 h=references:in-reply-to:cc:to:from:subject:message-id:date:from:to
 :cc:subject:date:message-id:reply-to;
 bh=+AkaFAKezOOV4CYo+6L0xjSSx8yBlxYBdXcbVjH34oU=;
 b=jb6gcg0EqSFBvXyWLuP6P4Vlq9Ok4yOCnIzKnS2TwQW5DcEZdUORmr+zJIWiTVEdfR
 IJ7A0gwXCaie0B/bOR7PmNrtL7k3NQt9LNkDBJRAzYYwPzmlipP20Ca6l2ub6TULCTz4
 0anbDkXMryoHXAYOs8OsUeeOX0BzKExW1NkgI=
X-Google-DKIM-Signature: v=1; a=rsa-sha256; c=relaxed/relaxed;
 d=1e100.net; s=20230601; t=1730239278; x=1730844078;
 h=references:in-reply-to:cc:to:from:subject:message-id:date
 :x-gm-message-state:from:to:cc:subject:date:message-id:reply-to;
 bh=+AkaFAKezOOV4CYo+6L0xjSSx8yBlxYBdXcbVjH34oU=;
 b=Py2UBmcFQD023qO9Su7mPR3HdIx18REl13kEHIVLG71oWML8JB5QJH1K9Po/UACOGY
 87R+l0A3yFQjl2ktwB1P1mfnmGO6hn5e42zGfwdfsddlgIIqcH4srHaiYkFIiG6CPQJa
 amswIOm294fjQ5ONNHjOdUM1tZ9zGeNs7HxJAI9zITaKOkYHy1viIQsEhPMp4AhyKHTA
 SZaGzCJn8TGNixVMohqLNbByX8QsCEbzV5mPldPz6jwqn2yw5vwEd5ngd1nVewilzKFI
 6LH5bTY3fRZxEMI5WvPeRvX5ESuYPQ7NLWK98mKMZ//cNM9Q7jnLn/e5JwJv4gI1l9rr
 /flA==
X-Gm-Message-State: AOJu0Yx9yyIW6IqFsQJTdnHvpvE1guciEQZfvpfW7R4keHAEI1+LKNwy
 T9GCzD9YMrwnL5fLizDchmqLVdVER7H8W1TBuerRm71ixBXLO1E7b+CfEmjFwPuFt2wgbWFGYYt
 3IAVG+zLe4FC0XRECN5ekck3N6mzFN9ndVwSTH/ld1XQd9+RpltjXZRd1
X-Google-Smtp-Source: AGHT+IHQ7se9q3uv9ZHzy72YYoB0ucjaJCwkkE7aqPNOXSGA2dZaDxdkxOSjKXSxiSJlmRF6HLSgtZIcLLwq
X-Received: by 2002:a05:6358:281a:b0:1bc:2e87:f1a3 with SMTP id
 e5c5f4694b2df-1c3f9ebe39fmr685800655d.16.1730239278490; 
 Tue, 29 Oct 2024 15:01:18 -0700 (PDT)
Received: from postal.iol.unh.edu (postal.iol.unh.edu.
 [2606:4100:3880:1234::84]) by smtp-relay.gmail.com with ESMTPS id
 d75a77b69052e-46132298d17sm4264421cf.13.2024.10.29.15.01.18
 (version=TLS1_2 cipher=ECDHE-ECDSA-AES128-GCM-SHA256 bits=128/128);
 Tue, 29 Oct 2024 15:01:18 -0700 (PDT)
X-Relaying-Domain: iol.unh.edu
Date: Tue, 29 Oct 2024 15:01:18 -0700 (PDT)
Message-ID: <67215b2e.c80a0220.14587.d05aSMTPIN_ADDED_MISSING@mx.google.com>
Received: from [172.21.0.6] (unknown [172.18.0.240])
 by postal.iol.unh.edu (Postfix) with ESMTP id 23C2C6052471;
 Tue, 29 Oct 2024 18:01:18 -0400 (EDT)
Subject: |WARNING| pw146600-146607 [PATCH] [v2,10/10] net/mlx5: optimize MAC 
From: dpdklab@iol.unh.edu
To: Test Report <test-report@dpdk.org>
Cc: dpdk-test-reports@iol.unh.edu
In-Reply-To: <20241022120618.512091-11-dsosnowski@nvidia.com>
References: <20241022120618.512091-11-dsosnowski@nvidia.com>
Content-Type: text/plain
X-BeenThere: test-report@dpdk.org
X-Mailman-Version: 2.1.29
Precedence: list
List-Id: automatic DPDK test reports <test-report.dpdk.org>
List-Unsubscribe: <https://mails.dpdk.org/options/test-report>,
 <mailto:test-report-request@dpdk.org?subject=unsubscribe>
List-Archive: <http://mails.dpdk.org/archives/test-report/>
List-Post: <mailto:test-report@dpdk.org>
List-Help: <mailto:test-report-request@dpdk.org?subject=help>
List-Subscribe: <https://mails.dpdk.org/listinfo/test-report>,
 <mailto:test-report-request@dpdk.org?subject=subscribe>
Errors-To: test-report-bounces@dpdk.org

Test-Label: iol-unit-arm64-testing
Test-Status: WARNING
http://dpdk.org/patch/146607

_Testing issues_

Submitter: Dariusz Sosnowski <dsosnowski@nvidia.com>
Date: Tuesday, October 22 2024 12:06:18 
DPDK git baseline: Repo:dpdk
  Branch: master
  CommitID:c4f029602e46450a0c51953c4607e53488244071

146600-146607 --> testing issues

Upstream job id: Generic-Unit-Test-DPDK#285619

Test environment and result as below:

+-----------------------------+----------------+--------------+---------------------------+------------------------------+
|         Environment         | dpdk_unit_test | lpm_autotest | cryptodev_sw_zuc_autotest | cryptodev_sw_snow3g_autotest |
+=============================+================+==============+===========================+==============================+
| 32-bit Ubuntu 22.04.4 (ARM) | PASS           | SKIPPED      | SKIPPED                   | SKIPPED                      |
+-----------------------------+----------------+--------------+---------------------------+------------------------------+
| CentOS Stream 9 (ARM)       | PASS           | SKIPPED      | SKIPPED                   | SKIPPED                      |
+-----------------------------+----------------+--------------+---------------------------+------------------------------+
| Debian 11 (Buster) (ARM)    | PASS           | SKIPPED      | SKIPPED                   | SKIPPED                      |
+-----------------------------+----------------+--------------+---------------------------+------------------------------+
| Debian 12 (arm)             | PASS           | SKIPPED      | WARN                      | WARN                         |
+-----------------------------+----------------+--------------+---------------------------+------------------------------+
| Fedora 37 (ARM)             | PASS           | SKIPPED      | SKIPPED                   | SKIPPED                      |
+-----------------------------+----------------+--------------+---------------------------+------------------------------+
| Fedora 38 (ARM)             | PASS           | SKIPPED      | SKIPPED                   | SKIPPED                      |
+-----------------------------+----------------+--------------+---------------------------+------------------------------+
| Fedora 38 (ARM Clang)       | PASS           | SKIPPED      | SKIPPED                   | SKIPPED                      |
+-----------------------------+----------------+--------------+---------------------------+------------------------------+
| Fedora 39 (ARM Clang)       | PASS           | SKIPPED      | SKIPPED                   | SKIPPED                      |
+-----------------------------+----------------+--------------+---------------------------+------------------------------+
| Fedora 40 (ARM)             | PASS           | SKIPPED      | SKIPPED                   | SKIPPED                      |
+-----------------------------+----------------+--------------+---------------------------+------------------------------+
| Fedora 40 (ARM Clang)       | PASS           | SKIPPED      | SKIPPED                   | SKIPPED                      |
+-----------------------------+----------------+--------------+---------------------------+------------------------------+
| RHEL9 (ARM)                 | PASS           | SKIPPED      | SKIPPED                   | SKIPPED                      |
+-----------------------------+----------------+--------------+---------------------------+------------------------------+
| Ubuntu 22.04 (ARM)          | PASS           | SKIPPED      | SKIPPED                   | SKIPPED                      |
+-----------------------------+----------------+--------------+---------------------------+------------------------------+
| Ubuntu 24.04 (ARM)          | PASS           | SKIPPED      | SKIPPED                   | SKIPPED                      |
+-----------------------------+----------------+--------------+---------------------------+------------------------------+
| Ubuntu 20.04 (ARM)          | PASS           | SKIPPED      | SKIPPED                   | SKIPPED                      |
+-----------------------------+----------------+--------------+---------------------------+------------------------------+
| Fedora 39 (ARM)             | PASS           | SKIPPED      | SKIPPED                   | SKIPPED                      |
+-----------------------------+----------------+--------------+---------------------------+------------------------------+
| Ubuntu 20.04 ARM SVE        | SKIPPED        | PASS         | SKIPPED                   | SKIPPED                      |
+-----------------------------+----------------+--------------+---------------------------+------------------------------+

==== 20 line log output for Debian 12 (arm) (cryptodev_sw_snow3g_autotest): ====
 --- Failed to get log output --- 
==== End log output ====

32-bit Ubuntu 22.04.4 (ARM)
	Kernel: 5.15.83+ aarch64
	Compiler: gcc (Ubuntu 11.4.0-1ubuntu1~22.04) 11.4.0

CentOS Stream 9 (ARM)
	Kernel: Depends on container host
	Compiler: gcc 11.4.1 20231218 (Red Hat 11.4.1-3)

Debian 11 (Buster) (ARM)
	Kernel: Depends on container host
	Compiler: gcc (Debian 10.2.1-6) 10.2.1 20210110

Debian 12 (arm)
	Kernel: Depends on container host
	Compiler: gcc (Debian 12.2.0-14) 12.2.0

Fedora 37 (ARM)
	Kernel: Depends on container host
	Compiler: gcc 12.3.1 20230508 (Red Hat 12.3.1-1)

Fedora 38 (ARM)
	Kernel: Depends on container host
	Compiler: gcc 13.2.1 20240316 (Red Hat 13.2.1-7)

Fedora 38 (ARM Clang)
	Kernel: Depends on container host
	Compiler: clang 16.0.6 (Fedora 16.0.6-4.fc38)

Fedora 39 (ARM Clang)
	Kernel: Depends on container host
	Compiler: clang 17.0.6 (Fedora 17.0.6-2.fc39)

Fedora 40 (ARM)
	Kernel: Depends on container host
	Compiler: gcc 14.2.1 20240801 (Red Hat 14.2.1-1)

Fedora 40 (ARM Clang)
	Kernel: Depends on container host
	Compiler: clang 18.1.6 (Fedora 18.1.6-3.fc40)

RHEL9 (ARM)
	Kernel: Depends on container host
	Compiler: gcc 11.4.1 20231218 (Red Hat 11.4.1-3)

Ubuntu 22.04 (ARM)
	Kernel: Depends on container host
	Compiler: gcc (Ubuntu 11.4.0-1ubuntu1~22.04) 11.4.0

Ubuntu 24.04 (ARM)
	Kernel: Depends on container host
	Compiler: gcc (Ubuntu 13.2.0-23ubuntu4) 13.2.0

Ubuntu 20.04 (ARM)
	Kernel: Depends on container host
	Compiler: gcc (Ubuntu 9.4.0-1ubuntu1~20.04.2) 9.4.0

Fedora 39 (ARM)
	Kernel: Depends on container host
	Compiler: gcc 13.3.1 20240522 (Red Hat 13.3.1-1)

Ubuntu 20.04 ARM SVE
	Kernel: Depends on container host
	Compiler: gcc (Ubuntu 10.5.0-1ubuntu1~20.04) 10.5.0

To view detailed results, visit:
https://lab.dpdk.org/results/dashboard/patchsets/31594/

UNH-IOL DPDK Community Lab

To manage your email subscriptions, visit: 
https://lab.dpdk.org/results/dashboard/preferences/subscriptions/