From mboxrd@z Thu Jan  1 00:00:00 1970
Return-Path: <test-report-bounces@dpdk.org>
Received: from mails.dpdk.org (mails.dpdk.org [217.70.189.124])
	by inbox.dpdk.org (Postfix) with ESMTP id 14C6B45BCD
	for <public@inbox.dpdk.org>; Wed, 30 Oct 2024 07:29:17 +0100 (CET)
Received: from mails.dpdk.org (localhost [127.0.0.1])
	by mails.dpdk.org (Postfix) with ESMTP id 10FE542FAF;
	Wed, 30 Oct 2024 07:29:17 +0100 (CET)
Received: from mail-pl1-f225.google.com (mail-pl1-f225.google.com
 [209.85.214.225])
 by mails.dpdk.org (Postfix) with ESMTP id DF637402EE
 for <test-report@dpdk.org>; Wed, 30 Oct 2024 07:29:15 +0100 (CET)
Received: by mail-pl1-f225.google.com with SMTP id
 d9443c01a7336-20caea61132so53260955ad.2
 for <test-report@dpdk.org>; Tue, 29 Oct 2024 23:29:15 -0700 (PDT)
DKIM-Signature: v=1; a=rsa-sha256; c=relaxed/relaxed;
 d=iol.unh.edu; s=unh-iol; t=1730269755; x=1730874555; darn=dpdk.org;
 h=references:in-reply-to:cc:to:from:subject:message-id:date:from:to
 :cc:subject:date:message-id:reply-to;
 bh=/ri8X27ACcRblk2IgqHR2IVTgReMVmO/NSJWmBcG76I=;
 b=i6M1bc8TzhIOkuK0YEChTNHRw085AnuSRC5RlKhwl4wvcI6CGsLIWi+kFr6V1YD65R
 IGcPBWGqndW1Pi83iNY9C+77i3hzj/ZC70pDW8uuhU/VfKsmdrUm6VrLrQAOfzGhjJKH
 b8KvrXpU/NlwPEp8y5nhVcjzLlgXAfLO+X5ug=
X-Google-DKIM-Signature: v=1; a=rsa-sha256; c=relaxed/relaxed;
 d=1e100.net; s=20230601; t=1730269755; x=1730874555;
 h=references:in-reply-to:cc:to:from:subject:message-id:date
 :x-gm-message-state:from:to:cc:subject:date:message-id:reply-to;
 bh=/ri8X27ACcRblk2IgqHR2IVTgReMVmO/NSJWmBcG76I=;
 b=lTFP88rKWUR4h/fo5Xgp18Sp2T3dtbTzyk6CT8g0tZr/VtFGoDpNHw1DJxpA5DF0q/
 AhsZqG3kkRIqsvruZO362aWuFRf9OcHHO1avusQZNe9AiMKyUNg+C4syBguqhjm1tiMU
 t07yP+9U9fXrv8NV85p7TRBPGmfdQyfGNnwudaO9LY6h4tLbv/A7oFud/f9dx7oVVBGD
 wKx6h+vVfGYemQtjY29rfvMLPAZ7BkYXQ66vi2MhwD8JYmly+Kv+ORVReE052T6KBPXz
 fp48VJ9AtZz+gX9roE7m7IZJsETuDfyfpQ/fBHvoVRT3bP78dHfci4irSxEiFM+fKAuL
 FQAw==
X-Gm-Message-State: AOJu0YxQLjbXYUpcY0Zpgx0d/ucpe5uvvNVBAPW2gHfO988e/ux9QOK0
 IbbWfl824y3fdnnNhzObOL0PBQsC1I+/IfLyo9/FrXUqJ/m2I8M7Up/pErzp8Dby2b6dC4ned7E
 bXo365Sw1WALZsn9OaLlk8hpTHxV7bpgV33dI+frGVLk/77XU1ra3KyAy
X-Google-Smtp-Source: AGHT+IGsV4l2cMV3QmFH1U2N1O6HPkkaIxgUYmX7/9PqVYRq45HLmdMgBziZT6xJZJupQRXv1d5CLjXiSzKq
X-Received: by 2002:a17:902:f70f:b0:20e:57c8:6abd with SMTP id
 d9443c01a7336-210c6c95ac5mr183922085ad.52.1730269754862; 
 Tue, 29 Oct 2024 23:29:14 -0700 (PDT)
Received: from postal.iol.unh.edu (postal.iol.unh.edu.
 [2606:4100:3880:1234::84]) by smtp-relay.gmail.com with ESMTPS id
 d9443c01a7336-210bbf38b05sm4809255ad.59.2024.10.29.23.29.14
 (version=TLS1_2 cipher=ECDHE-ECDSA-AES128-GCM-SHA256 bits=128/128);
 Tue, 29 Oct 2024 23:29:14 -0700 (PDT)
X-Relaying-Domain: iol.unh.edu
Date: Tue, 29 Oct 2024 23:29:14 -0700 (PDT)
Message-ID: <6721d23a.170a0220.df41a.01bfSMTPIN_ADDED_MISSING@mx.google.com>
Received: from [172.17.0.2] (unknown [172.18.0.217])
 by postal.iol.unh.edu (Postfix) with ESMTP id 133F66052471;
 Wed, 30 Oct 2024 02:29:14 -0400 (EDT)
Subject: |SUCCESS| pw147243 [PATCH] net/i40e/base: fix invalid log format cha
From: dpdklab@iol.unh.edu
To: Test Report <test-report@dpdk.org>
Cc: dpdk-test-reports@iol.unh.edu
In-Reply-To: <20241025122746.1775593-1-bruce.richardson@intel.com>
References: <20241025122746.1775593-1-bruce.richardson@intel.com>
Content-Type: text/plain
X-BeenThere: test-report@dpdk.org
X-Mailman-Version: 2.1.29
Precedence: list
List-Id: automatic DPDK test reports <test-report.dpdk.org>
List-Unsubscribe: <https://mails.dpdk.org/options/test-report>,
 <mailto:test-report-request@dpdk.org?subject=unsubscribe>
List-Archive: <http://mails.dpdk.org/archives/test-report/>
List-Post: <mailto:test-report@dpdk.org>
List-Help: <mailto:test-report-request@dpdk.org?subject=help>
List-Subscribe: <https://mails.dpdk.org/listinfo/test-report>,
 <mailto:test-report-request@dpdk.org?subject=subscribe>
Errors-To: test-report-bounces@dpdk.org

Test-Label: iol-unit-amd64-testing
Test-Status: SUCCESS
http://dpdk.org/patch/147243

_Testing PASS_

Submitter: Bruce Richardson <bruce.richardson@intel.com>
Date: Friday, October 25 2024 12:27:46 
DPDK git baseline: Repo:dpdk
  Branch: master
  CommitID:6dad0bb5c8621644beca86ff5f4910a943ba604d

147243 --> testing pass

Upstream job id: Generic-Unit-Test-DPDK#285760

Test environment and result as below:

+-------------------+----------------+
|    Environment    | dpdk_unit_test |
+===================+================+
| Debian 12         | PASS           |
+-------------------+----------------+
| Fedora 39 (Clang) | PASS           |
+-------------------+----------------+
| Fedora 39         | PASS           |
+-------------------+----------------+
| CentOS Stream 9   | PASS           |
+-------------------+----------------+
| RHEL8             | PASS           |
+-------------------+----------------+
| Fedora 40 (Clang) | PASS           |
+-------------------+----------------+
| RHEL9             | PASS           |
+-------------------+----------------+
| Ubuntu 20.04      | PASS           |
+-------------------+----------------+
| Ubuntu 24.04      | PASS           |
+-------------------+----------------+
| Fedora 40         | PASS           |
+-------------------+----------------+
| Ubuntu 22.04      | PASS           |
+-------------------+----------------+


Debian 12
	Kernel: Depends on container host
	Compiler: gcc (Debian 12.2.0-14) 12.2.0

Fedora 39 (Clang)
	Kernel: Depends on container host
	Compiler: clang 17.0.6 (Fedora 17.0.6-2.fc39)

Fedora 39
	Kernel: Depends on container host
	Compiler: gcc 13.3.1 20240522 (Red Hat 13.3.1-1)

CentOS Stream 9
	Kernel: Depends on container host
	Compiler: gcc 11.4.1 20231218 (Red Hat 11.4.1-3)

RHEL8
	Kernel: Depends on container host
	Compiler: gcc 8.5.0 20210514 (Red Hat 8.5.0-22)

Fedora 40 (Clang)
	Kernel: Depends on container host
	Compiler: clang 18.1.6 (Fedora 18.1.6-3.fc40)

RHEL9
	Kernel: Depends on container host
	Compiler: gcc 11.4.1 20231218 (Red Hat 11.4.1-3)

Ubuntu 20.04
	Kernel: Depends on container host
	Compiler: gcc (Ubuntu 9.4.0-1ubuntu1~20.04.2) 9.4.0

Ubuntu 24.04
	Kernel: Depends on container host
	Compiler: gcc (Ubuntu 13.2.0-23ubuntu4) 13.2.0

Fedora 40
	Kernel: Depends on container host
	Compiler: gcc 14.2.1 20240801 (Red Hat 14.2.1-1)

Ubuntu 22.04
	Kernel: Depends on container host
	Compiler: gcc (Ubuntu 11.4.0-1ubuntu1~22.04) 11.4.0

To view detailed results, visit:
https://lab.dpdk.org/results/dashboard/patchsets/31680/

UNH-IOL DPDK Community Lab

To manage your email subscriptions, visit: 
https://lab.dpdk.org/results/dashboard/preferences/subscriptions/