From mboxrd@z Thu Jan  1 00:00:00 1970
Return-Path: <test-report-bounces@dpdk.org>
Received: from mails.dpdk.org (mails.dpdk.org [217.70.189.124])
	by inbox.dpdk.org (Postfix) with ESMTP id 8DCA045C11
	for <public@inbox.dpdk.org>; Wed, 30 Oct 2024 09:57:03 +0100 (CET)
Received: from mails.dpdk.org (localhost [127.0.0.1])
	by mails.dpdk.org (Postfix) with ESMTP id 8A82243387;
	Wed, 30 Oct 2024 09:57:03 +0100 (CET)
Received: from mail-pl1-f227.google.com (mail-pl1-f227.google.com
 [209.85.214.227])
 by mails.dpdk.org (Postfix) with ESMTP id E42564025C
 for <test-report@dpdk.org>; Wed, 30 Oct 2024 09:56:41 +0100 (CET)
Received: by mail-pl1-f227.google.com with SMTP id
 d9443c01a7336-20e576dbc42so64905245ad.0
 for <test-report@dpdk.org>; Wed, 30 Oct 2024 01:56:41 -0700 (PDT)
DKIM-Signature: v=1; a=rsa-sha256; c=relaxed/relaxed;
 d=iol.unh.edu; s=unh-iol; t=1730278601; x=1730883401; darn=dpdk.org;
 h=references:in-reply-to:cc:to:from:subject:message-id:date:from:to
 :cc:subject:date:message-id:reply-to;
 bh=B47jhc9yA0TXwaRE6idzFB/PeLamQhSHZnXadW/Eb3w=;
 b=JCUGn7a6T3oYXG1zEIFqx1EMBGHTeWMFZPQ9vRFI6rPkOpNlFGCL9q4rzEu63X6EL8
 qfElxPm5yQJPhWyuES+7Y0VKuMNGjOfWcfHXci9uoeiy463qGJL848ysRDEWNRxLSMYd
 xHI5sjwHH80C0+WcFoJ/4vWpxTwgnLCS5r3eo=
X-Google-DKIM-Signature: v=1; a=rsa-sha256; c=relaxed/relaxed;
 d=1e100.net; s=20230601; t=1730278601; x=1730883401;
 h=references:in-reply-to:cc:to:from:subject:message-id:date
 :x-gm-message-state:from:to:cc:subject:date:message-id:reply-to;
 bh=B47jhc9yA0TXwaRE6idzFB/PeLamQhSHZnXadW/Eb3w=;
 b=fzs0TYZ6JzAYP/qlXO+iF7gsbQISc4Rf6l8DtIz5mVqPSfQhOD9rgQGCsETiP1zSW7
 JZFpggeyCknWK2m1qDK/PqChLRPgu35ZQ+JWzELAKmf2u4oMBSZrhwcosbteVoC6xyWF
 pmMdnecySwF7woIePUqlZjr43acWlVY5b1w5k4z+jSoPQXrw7+zIWUQxy6MyOLfpYdqv
 lQWmQ/sPXKDDVs1u/+aLCHjM5T8EPOzVE+/7voBN9PiS11CaavJOUp4xoHDvm0iFpAli
 SRXLPTILAlukLmNADHd+YmFtr7sFq8ffOmCXOT1KmLIH+8C8hVId+jXc6z2BLDpUCXIH
 SUFw==
X-Gm-Message-State: AOJu0YwChSdw19OZhjFOqQ3IMb/zbfQhdU1kuE305/LOAmvpPFHUDr1R
 dtZFOLfMX0hbOEO5EhbZhV/ihaDzyMxIzxNyvBl9HAhcrOpfDFLv0ZUjhlXKc6hJ/nQeni9pYrD
 KmwNtUzCDyjWT7ctM5CsGhNJiXxaY2og7pmzOYI5aSl9xp6qa49QOHcoO
X-Google-Smtp-Source: AGHT+IFbtDIO6u8zsn4Df/OF9MgziGiwGoGQsdF5RPaOuyVyWcjCbZLLAFqlhFkp9yyhcJwcaWPSVBq4zneF
X-Received: by 2002:a17:903:8ce:b0:20c:c631:d81f with SMTP id
 d9443c01a7336-210c6c28284mr175020225ad.21.1730278601001; 
 Wed, 30 Oct 2024 01:56:41 -0700 (PDT)
Received: from postal.iol.unh.edu (postal.iol.unh.edu.
 [2606:4100:3880:1234::84]) by smtp-relay.gmail.com with ESMTPS id
 d9443c01a7336-210bbff1fb9sm5018725ad.124.2024.10.30.01.56.40
 (version=TLS1_2 cipher=ECDHE-ECDSA-AES128-GCM-SHA256 bits=128/128);
 Wed, 30 Oct 2024 01:56:40 -0700 (PDT)
X-Relaying-Domain: iol.unh.edu
Date: Wed, 30 Oct 2024 01:56:40 -0700 (PDT)
Message-ID: <6721f4c8.170a0220.25bcaa.1830SMTPIN_ADDED_MISSING@mx.google.com>
Received: from [172.21.0.7] (unknown [172.18.0.240])
 by postal.iol.unh.edu (Postfix) with ESMTP id 6B18F6052471;
 Wed, 30 Oct 2024 04:56:40 -0400 (EDT)
Subject: |SUCCESS| pw147578 [PATCH] [v01] net/af_packet: add rollover and def
From: dpdklab@iol.unh.edu
To: Test Report <test-report@dpdk.org>
Cc: dpdk-test-reports@iol.unh.edu
In-Reply-To: <eadcf23b55de0fcc462024dd56269b86f856484a.1730209551.git.gur.stavi@huawei.com>
References: <eadcf23b55de0fcc462024dd56269b86f856484a.1730209551.git.gur.stavi@huawei.com>
Content-Type: text/plain
X-BeenThere: test-report@dpdk.org
X-Mailman-Version: 2.1.29
Precedence: list
List-Id: automatic DPDK test reports <test-report.dpdk.org>
List-Unsubscribe: <https://mails.dpdk.org/options/test-report>,
 <mailto:test-report-request@dpdk.org?subject=unsubscribe>
List-Archive: <http://mails.dpdk.org/archives/test-report/>
List-Post: <mailto:test-report@dpdk.org>
List-Help: <mailto:test-report-request@dpdk.org?subject=help>
List-Subscribe: <https://mails.dpdk.org/listinfo/test-report>,
 <mailto:test-report-request@dpdk.org?subject=subscribe>
Errors-To: test-report-bounces@dpdk.org

Test-Label: iol-unit-amd64-testing
Test-Status: SUCCESS
http://dpdk.org/patch/147578

_Testing PASS_

Submitter: Gur Stavi <gur.stavi@huawei.com>
Date: Tuesday, October 29 2024 13:48:05 
DPDK git baseline: Repo:dpdk
  Branch: master
  CommitID:9feb12fc66ca377b9d3f78b0f18198ed4beccffb

147578 --> testing pass

Upstream job id: Generic-Unit-Test-DPDK#285925

Test environment and result as below:

+-------------------+----------------+
|    Environment    | dpdk_unit_test |
+===================+================+
| CentOS Stream 9   | PASS           |
+-------------------+----------------+
| Debian 12         | PASS           |
+-------------------+----------------+
| Fedora 39         | PASS           |
+-------------------+----------------+
| RHEL9             | PASS           |
+-------------------+----------------+
| Ubuntu 20.04      | PASS           |
+-------------------+----------------+
| Fedora 40         | PASS           |
+-------------------+----------------+
| Fedora 39 (Clang) | PASS           |
+-------------------+----------------+
| RHEL8             | PASS           |
+-------------------+----------------+
| Ubuntu 24.04      | PASS           |
+-------------------+----------------+
| Fedora 40 (Clang) | PASS           |
+-------------------+----------------+
| Ubuntu 22.04      | PASS           |
+-------------------+----------------+


CentOS Stream 9
	Kernel: Depends on container host
	Compiler: gcc 11.4.1 20231218 (Red Hat 11.4.1-3)

Debian 12
	Kernel: Depends on container host
	Compiler: gcc (Debian 12.2.0-14) 12.2.0

Fedora 39
	Kernel: Depends on container host
	Compiler: gcc 13.3.1 20240522 (Red Hat 13.3.1-1)

RHEL9
	Kernel: Depends on container host
	Compiler: gcc 11.4.1 20231218 (Red Hat 11.4.1-3)

Ubuntu 20.04
	Kernel: Depends on container host
	Compiler: gcc (Ubuntu 9.4.0-1ubuntu1~20.04.2) 9.4.0

Fedora 40
	Kernel: Depends on container host
	Compiler: gcc 14.2.1 20240801 (Red Hat 14.2.1-1)

Fedora 39 (Clang)
	Kernel: Depends on container host
	Compiler: clang 17.0.6 (Fedora 17.0.6-2.fc39)

RHEL8
	Kernel: Depends on container host
	Compiler: gcc 8.5.0 20210514 (Red Hat 8.5.0-22)

Ubuntu 24.04
	Kernel: Depends on container host
	Compiler: gcc (Ubuntu 13.2.0-23ubuntu4) 13.2.0

Fedora 40 (Clang)
	Kernel: Depends on container host
	Compiler: clang 18.1.6 (Fedora 18.1.6-3.fc40)

Ubuntu 22.04
	Kernel: Depends on container host
	Compiler: gcc (Ubuntu 11.4.0-1ubuntu1~22.04) 11.4.0

To view detailed results, visit:
https://lab.dpdk.org/results/dashboard/patchsets/31745/

UNH-IOL DPDK Community Lab

To manage your email subscriptions, visit: 
https://lab.dpdk.org/results/dashboard/preferences/subscriptions/