From mboxrd@z Thu Jan  1 00:00:00 1970
Return-Path: <test-report-bounces@dpdk.org>
Received: from mails.dpdk.org (mails.dpdk.org [217.70.189.124])
	by inbox.dpdk.org (Postfix) with ESMTP id BB54745C13
	for <public@inbox.dpdk.org>; Wed, 30 Oct 2024 10:05:24 +0100 (CET)
Received: from mails.dpdk.org (localhost [127.0.0.1])
	by mails.dpdk.org (Postfix) with ESMTP id B936D432E4;
	Wed, 30 Oct 2024 10:05:24 +0100 (CET)
Received: from mail-yb1-f226.google.com (mail-yb1-f226.google.com
 [209.85.219.226])
 by mails.dpdk.org (Postfix) with ESMTP id C645242FB9
 for <test-report@dpdk.org>; Wed, 30 Oct 2024 10:05:22 +0100 (CET)
Received: by mail-yb1-f226.google.com with SMTP id
 3f1490d57ef6-e29267b4dc4so6658275276.0
 for <test-report@dpdk.org>; Wed, 30 Oct 2024 02:05:22 -0700 (PDT)
DKIM-Signature: v=1; a=rsa-sha256; c=relaxed/relaxed;
 d=iol.unh.edu; s=unh-iol; t=1730279122; x=1730883922; darn=dpdk.org;
 h=references:in-reply-to:cc:to:from:subject:message-id:date:from:to
 :cc:subject:date:message-id:reply-to;
 bh=VakH1RdTQzbUNXKtrxYW7Mf+SPZQpYQSFDZ3z2/mYr4=;
 b=DzL7DwV7r0g12mFLM6ac7H+UEggqLL85dhKvzHG4VoGFJzaGzrI+UVG5el1HJQ0dnx
 v+ZW+GrOyHau6Tzkl+dj6wRCeOuJ2vyoCPrcBthJ0KccFBlPZaGQ/h53Pm++GOwUrADH
 6GESPu1CR97sbHlc3JwmCABBCi4Ejc27lb4CA=
X-Google-DKIM-Signature: v=1; a=rsa-sha256; c=relaxed/relaxed;
 d=1e100.net; s=20230601; t=1730279122; x=1730883922;
 h=references:in-reply-to:cc:to:from:subject:message-id:date
 :x-gm-message-state:from:to:cc:subject:date:message-id:reply-to;
 bh=VakH1RdTQzbUNXKtrxYW7Mf+SPZQpYQSFDZ3z2/mYr4=;
 b=JLU7FtSzfeQDG10IoC3yidxZTWvcW9DPU/2JcwUmoLEEKpVFqH6hGFrd0oXeOlpT+6
 e7cxLilIGzZbt/3MYKutKhtZ/PF1C0nkrfnS2vipDP4qlqPJE1U3eZIoqmo/APK9eru9
 j/nSy2OSGbtMBUL/3s91b8g2AaEIYT0hBxbbI52uJnnhjh8No5p2tRKlspLe3Z7vRQdi
 xX96i/+plEXDdnTaE0YQaTNQqtLdKoAS0RSw7I5H8wBKdUzmBS+Dzj2M50A1eay6qngn
 DOlwHnx25xMV8d/pnrafcMZLUmntKLaNfN29bimL26m+xFGJnncQzfY7SFNJ0MjicBzr
 ICzQ==
X-Gm-Message-State: AOJu0YxRBYzcHswWFRdPVgYaNvLo6vJZ1vhKrBDSK1qObv04+CKyZVYU
 q6JpHu7/8lfPAWKEePMf98cgAgjquQGEGGcrVZtRW/2fGm09zf/l8QywSoYyBDwGeSGZ1XYUVQX
 oSoThDD2uhaDfzur/Zlj4mn1FnMR8WTSPS29H2Ore
X-Google-Smtp-Source: AGHT+IF5/bJZ2eG9bh/333JuaPgDOsaB8A2r0AEU8EyBHG7RhLq3quWgcINa1VfQQhiyWGLU4/29CDcTIO4d
X-Received: by 2002:a05:6902:1682:b0:e30:cee4:3c67 with SMTP id
 3f1490d57ef6-e30cee43d40mr2160409276.43.1730279121713; 
 Wed, 30 Oct 2024 02:05:21 -0700 (PDT)
Received: from postal.iol.unh.edu (postal.iol.unh.edu. [132.177.123.84])
 by smtp-relay.gmail.com with ESMTPS id
 3f1490d57ef6-e307a023910sm534505276.33.2024.10.30.02.05.21
 (version=TLS1_2 cipher=ECDHE-ECDSA-AES128-GCM-SHA256 bits=128/128);
 Wed, 30 Oct 2024 02:05:21 -0700 (PDT)
X-Relaying-Domain: iol.unh.edu
Date: Wed, 30 Oct 2024 02:05:21 -0700 (PDT)
Message-ID: <6721f6d1.250a0220.20f1ba.42c4SMTPIN_ADDED_MISSING@mx.google.com>
Received: from [172.21.0.6] (unknown [172.18.0.240])
 by postal.iol.unh.edu (Postfix) with ESMTP id 5BFC56052471;
 Wed, 30 Oct 2024 05:05:21 -0400 (EDT)
Subject: |SUCCESS| pw147344-147345 [PATCH] [v2,2/2] doc: add instruction for 
From: dpdklab@iol.unh.edu
To: Test Report <test-report@dpdk.org>
Cc: dpdk-test-reports@iol.unh.edu
In-Reply-To: <20241025202615.2581513-3-dmitry.kozliuk@gmail.com>
References: <20241025202615.2581513-3-dmitry.kozliuk@gmail.com>
Content-Type: text/plain
X-BeenThere: test-report@dpdk.org
X-Mailman-Version: 2.1.29
Precedence: list
List-Id: automatic DPDK test reports <test-report.dpdk.org>
List-Unsubscribe: <https://mails.dpdk.org/options/test-report>,
 <mailto:test-report-request@dpdk.org?subject=unsubscribe>
List-Archive: <http://mails.dpdk.org/archives/test-report/>
List-Post: <mailto:test-report@dpdk.org>
List-Help: <mailto:test-report-request@dpdk.org?subject=help>
List-Subscribe: <https://mails.dpdk.org/listinfo/test-report>,
 <mailto:test-report-request@dpdk.org?subject=subscribe>
Errors-To: test-report-bounces@dpdk.org

Test-Label: iol-compile-amd64-testing
Test-Status: SUCCESS
http://dpdk.org/patch/147345

_Testing PASS_

Submitter: Dmitry Kozlyuk <dmitry.kozliuk@gmail.com>
Date: Friday, October 25 2024 20:26:15 
DPDK git baseline: Repo:dpdk
  Branch: master
  CommitID:6dad0bb5c8621644beca86ff5f4910a943ba604d

147344-147345 --> testing pass

Upstream job id: Generic-DPDK-Compile-Meson#326670

Test environment and result as below:

+-------------------+--------------------+------------------+-------------------+
|    Environment    | dpdk_meson_compile | dpdk_compile_ovs | dpdk_compile_spdk |
+===================+====================+==================+===================+
| FreeBSD 13.4      | PASS               | SKIPPED          | SKIPPED           |
+-------------------+--------------------+------------------+-------------------+
| FreeBSD 14.1      | PASS               | SKIPPED          | SKIPPED           |
+-------------------+--------------------+------------------+-------------------+
| CentOS Stream 9   | PASS               | PASS             | PASS              |
+-------------------+--------------------+------------------+-------------------+
| Fedora 39 (Clang) | PASS               | PASS             | PASS              |
+-------------------+--------------------+------------------+-------------------+
| Debian 12         | PASS               | PASS             | PASS              |
+-------------------+--------------------+------------------+-------------------+
| Fedora 39         | PASS               | PASS             | PASS              |
+-------------------+--------------------+------------------+-------------------+
| Fedora 40 (Clang) | PASS               | PASS             | PASS              |
+-------------------+--------------------+------------------+-------------------+
| Fedora 40         | PASS               | PASS             | PASS              |
+-------------------+--------------------+------------------+-------------------+
| openSUSE Leap 15  | PASS               | PASS             | SKIPPED           |
+-------------------+--------------------+------------------+-------------------+
| RHEL9             | PASS               | PASS             | SKIPPED           |
+-------------------+--------------------+------------------+-------------------+
| Ubuntu 20.04      | PASS               | PASS             | SKIPPED           |
+-------------------+--------------------+------------------+-------------------+
| Ubuntu 22.04      | PASS               | PASS             | PASS              |
+-------------------+--------------------+------------------+-------------------+
| Ubuntu 24.04      | PASS               | PASS             | PASS              |
+-------------------+--------------------+------------------+-------------------+


FreeBSD 13.4
	Kernel: 13.4-RELEASE-p1
	Compiler: clang 18.1.6

FreeBSD 14.1
	Kernel: 14.1-RELEASE-p3
	Compiler: clang 18.1.5

CentOS Stream 9
	Kernel: Depends on container host
	Compiler: gcc 11.4.1 20231218 (Red Hat 11.4.1-3)

Fedora 39 (Clang)
	Kernel: Depends on container host
	Compiler: clang 17.0.6 (Fedora 17.0.6-2.fc39)

Debian 12
	Kernel: Depends on container host
	Compiler: gcc (Debian 12.2.0-14) 12.2.0

Fedora 39
	Kernel: Depends on container host
	Compiler: gcc 13.3.1 20240522 (Red Hat 13.3.1-1)

Fedora 40 (Clang)
	Kernel: Depends on container host
	Compiler: clang 18.1.6 (Fedora 18.1.6-3.fc40)

Fedora 40
	Kernel: Depends on container host
	Compiler: gcc 14.2.1 20240801 (Red Hat 14.2.1-1)

openSUSE Leap 15
	Kernel: Depends on container host
	Compiler: gcc (SUSE Linux) 7.5.0

RHEL9
	Kernel: Depends on container host
	Compiler: gcc 11.4.1 20231218 (Red Hat 11.4.1-3)

Ubuntu 20.04
	Kernel: Depends on container host
	Compiler: gcc (Ubuntu 9.4.0-1ubuntu1~20.04.2) 9.4.0

Ubuntu 22.04
	Kernel: Depends on container host
	Compiler: gcc (Ubuntu 11.4.0-1ubuntu1~22.04) 11.4.0

Ubuntu 24.04
	Kernel: Depends on container host
	Compiler: gcc (Ubuntu 13.2.0-23ubuntu4) 13.2.0

To view detailed results, visit:
https://lab.dpdk.org/results/dashboard/patchsets/31692/

UNH-IOL DPDK Community Lab

To manage your email subscriptions, visit: 
https://lab.dpdk.org/results/dashboard/preferences/subscriptions/