From mboxrd@z Thu Jan  1 00:00:00 1970
Return-Path: <test-report-bounces@dpdk.org>
Received: from mails.dpdk.org (mails.dpdk.org [217.70.189.124])
	by inbox.dpdk.org (Postfix) with ESMTP id 1B25645C14
	for <public@inbox.dpdk.org>; Wed, 30 Oct 2024 13:23:35 +0100 (CET)
Received: from mails.dpdk.org (localhost [127.0.0.1])
	by mails.dpdk.org (Postfix) with ESMTP id E5E464331C;
	Wed, 30 Oct 2024 13:23:34 +0100 (CET)
Received: from mail-il1-f225.google.com (mail-il1-f225.google.com
 [209.85.166.225])
 by mails.dpdk.org (Postfix) with ESMTP id 06169402EE
 for <test-report@dpdk.org>; Wed, 30 Oct 2024 13:23:33 +0100 (CET)
Received: by mail-il1-f225.google.com with SMTP id
 e9e14a558f8ab-3a4e48b61fcso19384485ab.2
 for <test-report@dpdk.org>; Wed, 30 Oct 2024 05:23:33 -0700 (PDT)
DKIM-Signature: v=1; a=rsa-sha256; c=relaxed/relaxed;
 d=iol.unh.edu; s=unh-iol; t=1730291013; x=1730895813; darn=dpdk.org;
 h=references:in-reply-to:cc:to:from:subject:message-id:date:from:to
 :cc:subject:date:message-id:reply-to;
 bh=IxCSJc6lA+/oHcIHC/1jm+NNH4fy+D5q+Ykp3SSbky4=;
 b=f4Vsut71gm9RCELW3mHVJCutH8RBA1VMRQ33GPmw6YDdUzHCVrriPlCE3yoJ+p2U7R
 7NWjKll+ir2uYG1Q/E+1PzMbOSV/rqGPL8XBC0Z2fOw9WXPkopogc3WQ78mImQA1wdFd
 rc2cQSzw27CXAGG1xezydy15iV3zZG/rsOJE8=
X-Google-DKIM-Signature: v=1; a=rsa-sha256; c=relaxed/relaxed;
 d=1e100.net; s=20230601; t=1730291013; x=1730895813;
 h=references:in-reply-to:cc:to:from:subject:message-id:date
 :x-gm-message-state:from:to:cc:subject:date:message-id:reply-to;
 bh=IxCSJc6lA+/oHcIHC/1jm+NNH4fy+D5q+Ykp3SSbky4=;
 b=i1i4NEEdy+C8N3wfG+yjhFJEYMwiLvXV0J36LpsvKpUCGcs8XfejsfxU8ohSRVbaCO
 FttO0TYc7gSl+rpODrfSHAxKWUa0n1cg1ca4NXYV2ldsYWgvJfDLTir/w4EUp0qKbhHn
 /haPOQXqGDH4tNS3Y95bwkQlgH+/BpDF5v/bTqhJJYxlBZne5LdhTKQbK930j8BhiGzr
 OgqePdlh7iE2MyeXuRJE+G1zrjh65pRcURHNZaDRCtaAcToPrtVhOv4HQVBV6wPSG9m4
 5ZMNgTiNEZQgBwFllbUm+poYHcjIZdQj9F0xsSg5SOq0JdyBu/nKpuRSJtw0FmB4QlFq
 RiEA==
X-Gm-Message-State: AOJu0YwiQZG7CeyKCHM4q0Lo3oNWGATYSCa6xSGBXUNyAlZrgurNSEdE
 /cK0aPiunXyZqxnk0YJv05PEvoYjXE3meeukMz/uPGUsko3Yo60OrZnQs60R7bLHB3il31sLtpc
 D2BAUZLFYEQ0g+AOvvtOExB4oB2F32bdF6VqQJh90kL5C5QkwLDBvMnNT
X-Google-Smtp-Source: AGHT+IHe7L8etTsYbgSEqO6XWnaQMB0KZNZCS+T2208nSNqNWfyYyNsjQmeSwvxLiHMGui+nt0+hnvo3RssI
X-Received: by 2002:a05:6e02:16c7:b0:3a0:8edc:d133 with SMTP id
 e9e14a558f8ab-3a4ed28f225mr142918085ab.9.1730291013078; 
 Wed, 30 Oct 2024 05:23:33 -0700 (PDT)
Received: from postal.iol.unh.edu (postal.iol.unh.edu.
 [2606:4100:3880:1234::84]) by smtp-relay.gmail.com with ESMTPS id
 e9e14a558f8ab-3a4e6e700fdsm4136795ab.71.2024.10.30.05.23.32
 (version=TLS1_2 cipher=ECDHE-ECDSA-AES128-GCM-SHA256 bits=128/128);
 Wed, 30 Oct 2024 05:23:33 -0700 (PDT)
X-Relaying-Domain: iol.unh.edu
Date: Wed, 30 Oct 2024 05:23:33 -0700 (PDT)
Message-ID: <67222545.050a0220.4fba.b38eSMTPIN_ADDED_MISSING@mx.google.com>
Received: from [172.17.0.2] (unknown [172.18.0.217])
 by postal.iol.unh.edu (Postfix) with ESMTP id 8BE6E6052471;
 Wed, 30 Oct 2024 08:23:32 -0400 (EDT)
Subject: |SUCCESS| pw147438 [PATCH] dumpcap: check return value from adding i
From: dpdklab@iol.unh.edu
To: Test Report <test-report@dpdk.org>
Cc: dpdk-test-reports@iol.unh.edu
In-Reply-To: <20241027182903.209391-1-stephen@networkplumber.org>
References: <20241027182903.209391-1-stephen@networkplumber.org>
Content-Type: text/plain
X-BeenThere: test-report@dpdk.org
X-Mailman-Version: 2.1.29
Precedence: list
List-Id: automatic DPDK test reports <test-report.dpdk.org>
List-Unsubscribe: <https://mails.dpdk.org/options/test-report>,
 <mailto:test-report-request@dpdk.org?subject=unsubscribe>
List-Archive: <http://mails.dpdk.org/archives/test-report/>
List-Post: <mailto:test-report@dpdk.org>
List-Help: <mailto:test-report-request@dpdk.org?subject=help>
List-Subscribe: <https://mails.dpdk.org/listinfo/test-report>,
 <mailto:test-report-request@dpdk.org?subject=subscribe>
Errors-To: test-report-bounces@dpdk.org

Test-Label: iol-compile-amd64-testing
Test-Status: SUCCESS
http://dpdk.org/patch/147438

_Testing PASS_

Submitter: Stephen Hemminger <stephen@networkplumber.org>
Date: Sunday, October 27 2024 18:28:48 
DPDK git baseline: Repo:dpdk
  Branch: master
  CommitID:6dad0bb5c8621644beca86ff5f4910a943ba604d

147438 --> testing pass

Upstream job id: Windows-Compile-DPDK-VS#3725

Test environment and result as below:

+---------------------+--------------------+-----------------------+----------------------+------------------+-------------------+-------------------+
|     Environment     | dpdk_meson_compile | dpdk_win_llvm_compile | dpdk_mingw64_compile | dpdk_compile_ovs | dpdk_compile_spdk | dpdk_msvc_compile |
+=====================+====================+=======================+======================+==================+===================+===================+
| FreeBSD 13.4        | PASS               | SKIPPED               | SKIPPED              | SKIPPED          | SKIPPED           | SKIPPED           |
+---------------------+--------------------+-----------------------+----------------------+------------------+-------------------+-------------------+
| FreeBSD 14.1        | PASS               | SKIPPED               | SKIPPED              | SKIPPED          | SKIPPED           | SKIPPED           |
+---------------------+--------------------+-----------------------+----------------------+------------------+-------------------+-------------------+
| Alpine              | PASS               | SKIPPED               | SKIPPED              | PASS             | SKIPPED           | SKIPPED           |
+---------------------+--------------------+-----------------------+----------------------+------------------+-------------------+-------------------+
| Ubuntu 22.04        | PASS               | SKIPPED               | SKIPPED              | PASS             | PASS              | SKIPPED           |
+---------------------+--------------------+-----------------------+----------------------+------------------+-------------------+-------------------+
| Ubuntu 20.04        | PASS               | SKIPPED               | SKIPPED              | PASS             | SKIPPED           | SKIPPED           |
+---------------------+--------------------+-----------------------+----------------------+------------------+-------------------+-------------------+
| RHEL9               | PASS               | SKIPPED               | SKIPPED              | PASS             | SKIPPED           | SKIPPED           |
+---------------------+--------------------+-----------------------+----------------------+------------------+-------------------+-------------------+
| RHEL8               | PASS               | SKIPPED               | SKIPPED              | PASS             | SKIPPED           | SKIPPED           |
+---------------------+--------------------+-----------------------+----------------------+------------------+-------------------+-------------------+
| openSUSE Leap 15    | PASS               | SKIPPED               | SKIPPED              | PASS             | SKIPPED           | SKIPPED           |
+---------------------+--------------------+-----------------------+----------------------+------------------+-------------------+-------------------+
| Fedora 40           | PASS               | SKIPPED               | SKIPPED              | PASS             | PASS              | SKIPPED           |
+---------------------+--------------------+-----------------------+----------------------+------------------+-------------------+-------------------+
| Fedora 40 (Clang)   | PASS               | SKIPPED               | SKIPPED              | PASS             | PASS              | SKIPPED           |
+---------------------+--------------------+-----------------------+----------------------+------------------+-------------------+-------------------+
| Fedora 39           | PASS               | SKIPPED               | SKIPPED              | PASS             | PASS              | SKIPPED           |
+---------------------+--------------------+-----------------------+----------------------+------------------+-------------------+-------------------+
| Fedora 39 (Clang)   | PASS               | SKIPPED               | SKIPPED              | PASS             | PASS              | SKIPPED           |
+---------------------+--------------------+-----------------------+----------------------+------------------+-------------------+-------------------+
| Fedora 38           | PASS               | SKIPPED               | SKIPPED              | PASS             | PASS              | SKIPPED           |
+---------------------+--------------------+-----------------------+----------------------+------------------+-------------------+-------------------+
| Fedora 38 (Clang)   | PASS               | SKIPPED               | SKIPPED              | PASS             | PASS              | SKIPPED           |
+---------------------+--------------------+-----------------------+----------------------+------------------+-------------------+-------------------+
| Fedora 37           | PASS               | SKIPPED               | SKIPPED              | PASS             | PASS              | SKIPPED           |
+---------------------+--------------------+-----------------------+----------------------+------------------+-------------------+-------------------+
| Debian 12           | PASS               | SKIPPED               | SKIPPED              | PASS             | PASS              | SKIPPED           |
+---------------------+--------------------+-----------------------+----------------------+------------------+-------------------+-------------------+
| Debian Bullseye     | PASS               | SKIPPED               | SKIPPED              | PASS             | PASS              | SKIPPED           |
+---------------------+--------------------+-----------------------+----------------------+------------------+-------------------+-------------------+
| CentOS Stream 9     | PASS               | SKIPPED               | SKIPPED              | PASS             | PASS              | SKIPPED           |
+---------------------+--------------------+-----------------------+----------------------+------------------+-------------------+-------------------+
| Ubuntu 24.04        | PASS               | SKIPPED               | SKIPPED              | PASS             | PASS              | SKIPPED           |
+---------------------+--------------------+-----------------------+----------------------+------------------+-------------------+-------------------+
| Windows Server 2022 | SKIPPED            | PASS                  | PASS                 | SKIPPED          | SKIPPED           | PASS              |
+---------------------+--------------------+-----------------------+----------------------+------------------+-------------------+-------------------+


FreeBSD 13.4
	Kernel: 13.4-RELEASE-p1
	Compiler: clang 18.1.6

FreeBSD 14.1
	Kernel: 14.1-RELEASE-p3
	Compiler: clang 18.1.5

Alpine
	Kernel: Depends on container host
	Compiler: gcc (Alpine 13.2.1_git20240309) 13.2.1 20240309

Ubuntu 22.04
	Kernel: Depends on container host
	Compiler: gcc (Ubuntu 11.4.0-1ubuntu1~22.04) 11.4.0

Ubuntu 20.04
	Kernel: Depends on container host
	Compiler: gcc (Ubuntu 9.4.0-1ubuntu1~20.04.2) 9.4.0

RHEL9
	Kernel: Depends on container host
	Compiler: gcc 11.4.1 20231218 (Red Hat 11.4.1-3)

RHEL8
	Kernel: Depends on container host
	Compiler: gcc 8.5.0 20210514 (Red Hat 8.5.0-22)

openSUSE Leap 15
	Kernel: Depends on container host
	Compiler: gcc (SUSE Linux) 7.5.0

Fedora 40
	Kernel: Depends on container host
	Compiler: gcc 14.2.1 20240801 (Red Hat 14.2.1-1)

Fedora 40 (Clang)
	Kernel: Depends on container host
	Compiler: clang 18.1.6 (Fedora 18.1.6-3.fc40)

Fedora 39
	Kernel: Depends on container host
	Compiler: gcc 13.3.1 20240522 (Red Hat 13.3.1-1)

Fedora 39 (Clang)
	Kernel: Depends on container host
	Compiler: clang 17.0.6 (Fedora 17.0.6-2.fc39)

Fedora 38
	Kernel: Depends on container host
	Compiler: gcc 13.2.1 20240316 (Red Hat 13.2.1-7)

Fedora 38 (Clang)
	Kernel: Depends on container host
	Compiler: clang 16.0.6 (Fedora 16.0.6-4.fc38)

Fedora 37
	Kernel: Depends on container host system
	Compiler: gcc 12.3.1 20230508 (Red Hat 12.3.1-1)

Debian 12
	Kernel: Depends on container host
	Compiler: gcc (Debian 12.2.0-14) 12.2.0

Debian Bullseye
	Kernel: Depends on container host
	Compiler: gcc (Debian 10.2.1-6) 10.2.1 20210110

CentOS Stream 9
	Kernel: Depends on container host
	Compiler: gcc 11.4.1 20231218 (Red Hat 11.4.1-3)

Ubuntu 24.04
	Kernel: Depends on container host
	Compiler: gcc (Ubuntu 13.2.0-23ubuntu4) 13.2.0

Windows Server 2022
	Kernel: 10.0.20348.2031
	Compiler: clang 15.0.7, gcc 14.1.0 (MinGW), and MSVC VS 19.39.33521

To view detailed results, visit:
https://lab.dpdk.org/results/dashboard/patchsets/31711/

UNH-IOL DPDK Community Lab

To manage your email subscriptions, visit: 
https://lab.dpdk.org/results/dashboard/preferences/subscriptions/