From mboxrd@z Thu Jan  1 00:00:00 1970
Return-Path: <test-report-bounces@dpdk.org>
Received: from mails.dpdk.org (mails.dpdk.org [217.70.189.124])
	by inbox.dpdk.org (Postfix) with ESMTP id 1898B45C14
	for <public@inbox.dpdk.org>; Wed, 30 Oct 2024 13:37:36 +0100 (CET)
Received: from mails.dpdk.org (localhost [127.0.0.1])
	by mails.dpdk.org (Postfix) with ESMTP id 1508C43372;
	Wed, 30 Oct 2024 13:37:36 +0100 (CET)
Received: from mail-yw1-f225.google.com (mail-yw1-f225.google.com
 [209.85.128.225])
 by mails.dpdk.org (Postfix) with ESMTP id 9C32F402EE
 for <test-report@dpdk.org>; Wed, 30 Oct 2024 13:37:34 +0100 (CET)
Received: by mail-yw1-f225.google.com with SMTP id
 00721157ae682-6e38fc62b9fso57867187b3.2
 for <test-report@dpdk.org>; Wed, 30 Oct 2024 05:37:34 -0700 (PDT)
DKIM-Signature: v=1; a=rsa-sha256; c=relaxed/relaxed;
 d=iol.unh.edu; s=unh-iol; t=1730291854; x=1730896654; darn=dpdk.org;
 h=references:in-reply-to:cc:to:from:subject:message-id:date:from:to
 :cc:subject:date:message-id:reply-to;
 bh=yVrjsodfARR0BhA9tk/lVsaxnCQoHYRrPGnWfgL5Y/k=;
 b=Pma0TsLUz701LuH4edRWJE6SfuyyvVBX7xAQxFfvQ7SU/gQOVCBGHdWYDdAIy2LPpg
 A11cVAP/t4w5f4PzvmgznX1rc3idcH4Q3ZjVxQpslvR6EXFrEo1SsobqxJkOEMR55IJX
 mUAhC8PK+BNTBGvIndBVa5rdnS7y9lKX56oVk=
X-Google-DKIM-Signature: v=1; a=rsa-sha256; c=relaxed/relaxed;
 d=1e100.net; s=20230601; t=1730291854; x=1730896654;
 h=references:in-reply-to:cc:to:from:subject:message-id:date
 :x-gm-message-state:from:to:cc:subject:date:message-id:reply-to;
 bh=yVrjsodfARR0BhA9tk/lVsaxnCQoHYRrPGnWfgL5Y/k=;
 b=KXPXSMFW6G2LH52ST84d3CXWmPllLV10VQygkRajACgvusSVGDhmo8ZiMc8Shh+Pr/
 xJzAhO2TkgklXL4CiGvbq/x4fTGsuRgMdb26veGAqG+pJZN26JGTJnwTO4FRz+r48/ay
 lHtrzFdniopiLepccmAq1E5aD/jHkUt30PQRX0JeWHu6znPXJdf8ZbXwp+k56be0hyLS
 O1UOBv/WERAU0CUavr6z+TacWXbxk1yrYwGdaSln7zr09PiE/0HEhda0zSOhGhGc2pBZ
 BDUJx3JHphHZJU3MaSVk7S8E3k2TdC6tQ2CYfNaFOEhToWJgT+LCJ0YRfpFwKnXxYM/W
 IIBQ==
X-Gm-Message-State: AOJu0Yz6hsEyPILgYkOVGhJCYWT99nXIKpzkSS6/9CQHY/24Ujb25Y9u
 3GNiFW4BagJuYzMt/dGDo8DBPFaRkRpZOH9bDImqyfEmpU7BdyScYnI7MTE+15L8kvHCqmn96i9
 hYymPdcQtTyI/yqShRWdRByk5i7HaFXznaGCN4kvp
X-Google-Smtp-Source: AGHT+IGzc1r6bRrd9z031k5O7rn0HT0qJT3s5i/GuqwuDUDYBK8hei0a3Eb41vqgNoKRsu0j9FC6h/X4czpa
X-Received: by 2002:a05:690c:6288:b0:6e3:1ce7:addd with SMTP id
 00721157ae682-6e9d8b33c59mr164845067b3.37.1730291853970; 
 Wed, 30 Oct 2024 05:37:33 -0700 (PDT)
Received: from postal.iol.unh.edu (postal.iol.unh.edu. [132.177.123.84])
 by smtp-relay.gmail.com with ESMTPS id
 00721157ae682-6e9c6bd3ecasm3465157b3.6.2024.10.30.05.37.33
 (version=TLS1_2 cipher=ECDHE-ECDSA-AES128-GCM-SHA256 bits=128/128);
 Wed, 30 Oct 2024 05:37:33 -0700 (PDT)
X-Relaying-Domain: iol.unh.edu
Date: Wed, 30 Oct 2024 05:37:33 -0700 (PDT)
Message-ID: <6722288d.050a0220.1317b1.8322SMTPIN_ADDED_MISSING@mx.google.com>
Received: from [172.21.0.5] (unknown [172.18.0.240])
 by postal.iol.unh.edu (Postfix) with ESMTP id 9D4516052471;
 Wed, 30 Oct 2024 08:37:33 -0400 (EDT)
Subject: |SUCCESS| pw147650-147654 [PATCH] [v6,5/5] net/ice: provide paramete
From: dpdklab@iol.unh.edu
To: Test Report <test-report@dpdk.org>
Cc: dpdk-test-reports@iol.unh.edu
In-Reply-To: <20241029170157.1390724-6-bruce.richardson@intel.com>
References: <20241029170157.1390724-6-bruce.richardson@intel.com>
Content-Type: text/plain
X-BeenThere: test-report@dpdk.org
X-Mailman-Version: 2.1.29
Precedence: list
List-Id: automatic DPDK test reports <test-report.dpdk.org>
List-Unsubscribe: <https://mails.dpdk.org/options/test-report>,
 <mailto:test-report-request@dpdk.org?subject=unsubscribe>
List-Archive: <http://mails.dpdk.org/archives/test-report/>
List-Post: <mailto:test-report@dpdk.org>
List-Help: <mailto:test-report-request@dpdk.org?subject=help>
List-Subscribe: <https://mails.dpdk.org/listinfo/test-report>,
 <mailto:test-report-request@dpdk.org?subject=subscribe>
Errors-To: test-report-bounces@dpdk.org

Test-Label: iol-compile-arm64-testing
Test-Status: SUCCESS
http://dpdk.org/patch/147654

_Testing PASS_

Submitter: Bruce Richardson <bruce.richardson@intel.com>
Date: Tuesday, October 29 2024 17:01:57 
DPDK git baseline: Repo:dpdk
  Branch: master
  CommitID:6dad0bb5c8621644beca86ff5f4910a943ba604d

147650-147654 --> testing pass

Upstream job id: Generic-DPDK-Compile-Meson#326811

Test environment and result as below:

+----------------------------------------+--------------------+
|              Environment               | dpdk_meson_compile |
+========================================+====================+
| RHEL9 (ARM)                            | PASS               |
+----------------------------------------+--------------------+
| Ubuntu 20.04 ARM GCC Cross Compile     | PASS               |
+----------------------------------------+--------------------+
| Ubuntu 20.04 ARM SVE                   | PASS               |
+----------------------------------------+--------------------+
| Debian 12 with MUSDK                   | PASS               |
+----------------------------------------+--------------------+
| Fedora 39 (ARM)                        | PASS               |
+----------------------------------------+--------------------+
| Fedora 39 (ARM Clang)                  | PASS               |
+----------------------------------------+--------------------+
| Fedora 40 (ARM)                        | PASS               |
+----------------------------------------+--------------------+
| Fedora 40 (ARM Clang)                  | PASS               |
+----------------------------------------+--------------------+
| Ubuntu 20.04 (ARM)                     | PASS               |
+----------------------------------------+--------------------+
| Ubuntu 22.04 (ARM)                     | PASS               |
+----------------------------------------+--------------------+
| Ubuntu 24.04 (ARM)                     | PASS               |
+----------------------------------------+--------------------+
| CentOS Stream 9 (ARM)                  | PASS               |
+----------------------------------------+--------------------+
| Debian 12 (arm)                        | PASS               |
+----------------------------------------+--------------------+
| Ubuntu 20.04 ARM Clang Cross Compile   | PASS               |
+----------------------------------------+--------------------+
| Ubuntu 20.04 aarch32 GCC Cross Compile | PASS               |
+----------------------------------------+--------------------+


RHEL9 (ARM)
	Kernel: Depends on container host
	Compiler: gcc 11.4.1 20231218 (Red Hat 11.4.1-3)

Ubuntu 20.04 ARM GCC Cross Compile
	Kernel: Depends on container host
	Compiler: aarch64-linux-gnu-gcc (Ubuntu 9.4.0-1ubuntu1~20.04.2) 9.4.0

Ubuntu 20.04 ARM SVE
	Kernel: Depends on container host
	Compiler: gcc (Ubuntu 10.5.0-1ubuntu1~20.04) 10.5.0

Debian 12 with MUSDK
	Kernel: Depends on container host
	Compiler: gcc (Debian 12.2.0-14) 12.2.0

Fedora 39 (ARM)
	Kernel: Depends on container host
	Compiler: gcc 13.3.1 20240522 (Red Hat 13.3.1-1)

Fedora 39 (ARM Clang)
	Kernel: Depends on container host
	Compiler: clang 17.0.6 (Fedora 17.0.6-2.fc39)

Fedora 40 (ARM)
	Kernel: Depends on container host
	Compiler: gcc 14.2.1 20240801 (Red Hat 14.2.1-1)

Fedora 40 (ARM Clang)
	Kernel: Depends on container host
	Compiler: clang 18.1.6 (Fedora 18.1.6-3.fc40)

Ubuntu 20.04 (ARM)
	Kernel: Depends on container host
	Compiler: gcc (Ubuntu 9.4.0-1ubuntu1~20.04.2) 9.4.0

Ubuntu 22.04 (ARM)
	Kernel: Depends on container host
	Compiler: gcc (Ubuntu 11.4.0-1ubuntu1~22.04) 11.4.0

Ubuntu 24.04 (ARM)
	Kernel: Depends on container host
	Compiler: gcc (Ubuntu 13.2.0-23ubuntu4) 13.2.0

CentOS Stream 9 (ARM)
	Kernel: Depends on container host
	Compiler: gcc 11.4.1 20231218 (Red Hat 11.4.1-3)

Debian 12 (arm)
	Kernel: Depends on container host
	Compiler: gcc (Debian 12.2.0-14) 12.2.0

Ubuntu 20.04 ARM Clang Cross Compile
	Kernel: Depends on container host
	Compiler: clang 10.0.0-4ubuntu1

Ubuntu 20.04 aarch32 GCC Cross Compile
	Kernel: Depends on container host
	Compiler: gcc 9.4.0

To view detailed results, visit:
https://lab.dpdk.org/results/dashboard/patchsets/31757/

UNH-IOL DPDK Community Lab

To manage your email subscriptions, visit: 
https://lab.dpdk.org/results/dashboard/preferences/subscriptions/