From mboxrd@z Thu Jan  1 00:00:00 1970
Return-Path: <test-report-bounces@dpdk.org>
Received: from mails.dpdk.org (mails.dpdk.org [217.70.189.124])
	by inbox.dpdk.org (Postfix) with ESMTP id 503AD45C16
	for <public@inbox.dpdk.org>; Wed, 30 Oct 2024 16:52:03 +0100 (CET)
Received: from mails.dpdk.org (localhost [127.0.0.1])
	by mails.dpdk.org (Postfix) with ESMTP id 4ACD443420;
	Wed, 30 Oct 2024 16:52:03 +0100 (CET)
Received: from mail-pj1-f99.google.com (mail-pj1-f99.google.com
 [209.85.216.99]) by mails.dpdk.org (Postfix) with ESMTP id 7EDED40281
 for <test-report@dpdk.org>; Wed, 30 Oct 2024 16:52:02 +0100 (CET)
Received: by mail-pj1-f99.google.com with SMTP id
 98e67ed59e1d1-2e2e8c8915eso5270292a91.3
 for <test-report@dpdk.org>; Wed, 30 Oct 2024 08:52:02 -0700 (PDT)
DKIM-Signature: v=1; a=rsa-sha256; c=relaxed/relaxed;
 d=iol.unh.edu; s=unh-iol; t=1730303522; x=1730908322; darn=dpdk.org;
 h=references:in-reply-to:cc:to:from:subject:message-id:date:from:to
 :cc:subject:date:message-id:reply-to;
 bh=3nJztLCt2PRSbPrqTSLYAVkpZOMdwBjBqGDYmJm9cZA=;
 b=Nqmid5EvlbdbARCKK3DhJV9uBbGrHSSocR0ij27HEJ2Tu20M/Hn9kEaKBUK7yCYCwC
 3faVdOO3JbVRPdMAJoZ9R0moSE9CBdj5xXogo6v8gq3rhRGm7a125JQwRI/7pdP8yAU5
 gHwkFkdpG++hXCpesLrNdjYtT3DM4tpbzbeq8=
X-Google-DKIM-Signature: v=1; a=rsa-sha256; c=relaxed/relaxed;
 d=1e100.net; s=20230601; t=1730303522; x=1730908322;
 h=references:in-reply-to:cc:to:from:subject:message-id:date
 :x-gm-message-state:from:to:cc:subject:date:message-id:reply-to;
 bh=3nJztLCt2PRSbPrqTSLYAVkpZOMdwBjBqGDYmJm9cZA=;
 b=ny0/ysfpZbpCBefJg6sBrwe/ub1day92CO3zIevHeFbYYxDflszDXxgjSrZ5cgfMDm
 M8zp8hJgEnUXJJ5Rnl6vAWU8PvoG/x0XjBwRlpxm3gsmr27ZfuGtOXnlaHJQD99pXuGn
 yzIJ4qqGJQaQX5YPEpr2QmK8jskhpBs5td96lWP8/wbLIUnBph/UfUl2KYbsBkTJ2MpO
 Y96ZwOs3zpUeI+6EFphLXNG7HL0AiZGYrfUOK/kMPtTWUeCPbEnQvLvCy0cpQyEK3t22
 qPwLqVfXv5q256kuEwrx9Iy1jqgoG0/4sCWj42HC0XgqnRp3F5iHNEyzPt6E8EKfEEIX
 vDnw==
X-Gm-Message-State: AOJu0YzV06Xa9Lor83EvWnIkH9aKJZOtOzRg2qbmQeeuNiKtX342zRb5
 pRT5InBIP5UwywXcsOJgm7GJ+xqRhfx7ez2nk5v0bYFcSpnxyb8AA7xVBn8/lbjaULLKOh/RQ9t
 1Q0mdYwB98bDpBJnIVVP+qsRS0ZEkGQ2RIiKtmegh
X-Google-Smtp-Source: AGHT+IE/e0wUchqe/+XppUVSlbx4ekVr2frJ8IU4L6YwYfZhEf9k/ehp5tqca0NdB/jgJ1PazbdYKc67AYIv
X-Received: by 2002:a17:90a:a113:b0:2e2:bd7a:71ec with SMTP id
 98e67ed59e1d1-2e8f104c897mr16549989a91.2.1730303521622; 
 Wed, 30 Oct 2024 08:52:01 -0700 (PDT)
Received: from postal.iol.unh.edu (postal.iol.unh.edu. [132.177.123.84])
 by smtp-relay.gmail.com with ESMTPS id
 98e67ed59e1d1-2e92fbdb81esm97295a91.12.2024.10.30.08.52.01
 (version=TLS1_2 cipher=ECDHE-ECDSA-AES128-GCM-SHA256 bits=128/128);
 Wed, 30 Oct 2024 08:52:01 -0700 (PDT)
X-Relaying-Domain: iol.unh.edu
Date: Wed, 30 Oct 2024 08:52:01 -0700 (PDT)
Message-ID: <67225621.170a0220.12dab8.67f2SMTPIN_ADDED_MISSING@mx.google.com>
Received: from [172.17.0.3] (unknown [172.18.0.217])
 by postal.iol.unh.edu (Postfix) with ESMTP id AFC776052471;
 Wed, 30 Oct 2024 11:52:00 -0400 (EDT)
Subject: |WARNING| pw147578 [PATCH] [v01] net/af_packet: add rollover and def
From: dpdklab@iol.unh.edu
To: Test Report <test-report@dpdk.org>
Cc: dpdk-test-reports@iol.unh.edu
In-Reply-To: <eadcf23b55de0fcc462024dd56269b86f856484a.1730209551.git.gur.stavi@huawei.com>
References: <eadcf23b55de0fcc462024dd56269b86f856484a.1730209551.git.gur.stavi@huawei.com>
Content-Type: text/plain
X-BeenThere: test-report@dpdk.org
X-Mailman-Version: 2.1.29
Precedence: list
List-Id: automatic DPDK test reports <test-report.dpdk.org>
List-Unsubscribe: <https://mails.dpdk.org/options/test-report>,
 <mailto:test-report-request@dpdk.org?subject=unsubscribe>
List-Archive: <http://mails.dpdk.org/archives/test-report/>
List-Post: <mailto:test-report@dpdk.org>
List-Help: <mailto:test-report-request@dpdk.org?subject=help>
List-Subscribe: <https://mails.dpdk.org/listinfo/test-report>,
 <mailto:test-report-request@dpdk.org?subject=subscribe>
Errors-To: test-report-bounces@dpdk.org

Test-Label: iol-unit-arm64-testing
Test-Status: WARNING
http://dpdk.org/patch/147578

_Testing issues_

Submitter: Gur Stavi <gur.stavi@huawei.com>
Date: Tuesday, October 29 2024 13:48:05 
DPDK git baseline: Repo:dpdk
  Branch: master
  CommitID:9feb12fc66ca377b9d3f78b0f18198ed4beccffb

147578 --> testing issues

Upstream job id: Generic-Unit-Test-DPDK#285922

Test environment and result as below:

+-----------------------------+--------------+---------------------------+------------------------------+----------------+
|         Environment         | lpm_autotest | cryptodev_sw_zuc_autotest | cryptodev_sw_snow3g_autotest | dpdk_unit_test |
+=============================+==============+===========================+==============================+================+
| Ubuntu 20.04 ARM SVE        | PASS         | SKIPPED                   | SKIPPED                      | SKIPPED        |
+-----------------------------+--------------+---------------------------+------------------------------+----------------+
| Debian 12 (arm)             | SKIPPED      | WARN                      | WARN                         | PASS           |
+-----------------------------+--------------+---------------------------+------------------------------+----------------+
| CentOS Stream 9 (ARM)       | SKIPPED      | SKIPPED                   | SKIPPED                      | PASS           |
+-----------------------------+--------------+---------------------------+------------------------------+----------------+
| RHEL9 (ARM)                 | SKIPPED      | SKIPPED                   | SKIPPED                      | PASS           |
+-----------------------------+--------------+---------------------------+------------------------------+----------------+
| Fedora 40 (ARM Clang)       | SKIPPED      | SKIPPED                   | SKIPPED                      | PASS           |
+-----------------------------+--------------+---------------------------+------------------------------+----------------+
| Ubuntu 20.04 (ARM)          | SKIPPED      | SKIPPED                   | SKIPPED                      | PASS           |
+-----------------------------+--------------+---------------------------+------------------------------+----------------+
| Fedora 39 (ARM)             | SKIPPED      | SKIPPED                   | SKIPPED                      | PASS           |
+-----------------------------+--------------+---------------------------+------------------------------+----------------+
| Ubuntu 22.04 (ARM)          | SKIPPED      | SKIPPED                   | SKIPPED                      | PASS           |
+-----------------------------+--------------+---------------------------+------------------------------+----------------+
| Fedora 40 (ARM)             | SKIPPED      | SKIPPED                   | SKIPPED                      | PASS           |
+-----------------------------+--------------+---------------------------+------------------------------+----------------+
| Fedora 39 (ARM Clang)       | SKIPPED      | SKIPPED                   | SKIPPED                      | PASS           |
+-----------------------------+--------------+---------------------------+------------------------------+----------------+
| Ubuntu 24.04 (ARM)          | SKIPPED      | SKIPPED                   | SKIPPED                      | PASS           |
+-----------------------------+--------------+---------------------------+------------------------------+----------------+
| 32-bit Ubuntu 22.04.4 (ARM) | SKIPPED      | SKIPPED                   | SKIPPED                      | PASS           |
+-----------------------------+--------------+---------------------------+------------------------------+----------------+

==== 20 line log output for Debian 12 (arm) (cryptodev_sw_snow3g_autotest): ====
 --- Failed to get log output --- 
==== End log output ====

Ubuntu 20.04 ARM SVE
	Kernel: Depends on container host
	Compiler: gcc (Ubuntu 10.5.0-1ubuntu1~20.04) 10.5.0

Debian 12 (arm)
	Kernel: Depends on container host
	Compiler: gcc (Debian 12.2.0-14) 12.2.0

CentOS Stream 9 (ARM)
	Kernel: Depends on container host
	Compiler: gcc 11.4.1 20231218 (Red Hat 11.4.1-3)

RHEL9 (ARM)
	Kernel: Depends on container host
	Compiler: gcc 11.4.1 20231218 (Red Hat 11.4.1-3)

Fedora 40 (ARM Clang)
	Kernel: Depends on container host
	Compiler: clang 18.1.6 (Fedora 18.1.6-3.fc40)

Ubuntu 20.04 (ARM)
	Kernel: Depends on container host
	Compiler: gcc (Ubuntu 9.4.0-1ubuntu1~20.04.2) 9.4.0

Fedora 39 (ARM)
	Kernel: Depends on container host
	Compiler: gcc 13.3.1 20240522 (Red Hat 13.3.1-1)

Ubuntu 22.04 (ARM)
	Kernel: Depends on container host
	Compiler: gcc (Ubuntu 11.4.0-1ubuntu1~22.04) 11.4.0

Fedora 40 (ARM)
	Kernel: Depends on container host
	Compiler: gcc 14.2.1 20240801 (Red Hat 14.2.1-1)

Fedora 39 (ARM Clang)
	Kernel: Depends on container host
	Compiler: clang 17.0.6 (Fedora 17.0.6-2.fc39)

Ubuntu 24.04 (ARM)
	Kernel: Depends on container host
	Compiler: gcc (Ubuntu 13.2.0-23ubuntu4) 13.2.0

32-bit Ubuntu 22.04.4 (ARM)
	Kernel: 5.15.83+ aarch64
	Compiler: gcc (Ubuntu 11.4.0-1ubuntu1~22.04) 11.4.0

To view detailed results, visit:
https://lab.dpdk.org/results/dashboard/patchsets/31745/

UNH-IOL DPDK Community Lab

To manage your email subscriptions, visit: 
https://lab.dpdk.org/results/dashboard/preferences/subscriptions/