From mboxrd@z Thu Jan  1 00:00:00 1970
Return-Path: <test-report-bounces@dpdk.org>
Received: from mails.dpdk.org (mails.dpdk.org [217.70.189.124])
	by inbox.dpdk.org (Postfix) with ESMTP id 916AB45C16
	for <public@inbox.dpdk.org>; Wed, 30 Oct 2024 17:10:22 +0100 (CET)
Received: from mails.dpdk.org (localhost [127.0.0.1])
	by mails.dpdk.org (Postfix) with ESMTP id 8EEF74343A;
	Wed, 30 Oct 2024 17:10:22 +0100 (CET)
Received: from mail-io1-f100.google.com (mail-io1-f100.google.com
 [209.85.166.100])
 by mails.dpdk.org (Postfix) with ESMTP id 2B62940299
 for <test-report@dpdk.org>; Wed, 30 Oct 2024 17:10:21 +0100 (CET)
Received: by mail-io1-f100.google.com with SMTP id
 ca18e2360f4ac-83ac05206f6so267074139f.2
 for <test-report@dpdk.org>; Wed, 30 Oct 2024 09:10:21 -0700 (PDT)
DKIM-Signature: v=1; a=rsa-sha256; c=relaxed/relaxed;
 d=iol.unh.edu; s=unh-iol; t=1730304620; x=1730909420; darn=dpdk.org;
 h=references:in-reply-to:cc:to:from:subject:message-id:date:from:to
 :cc:subject:date:message-id:reply-to;
 bh=SeCRkrJPT0TRw1PkcPx63kh1c9AeuV18gkwAqq/g/KM=;
 b=JzT8AJZGhIz1CF+um1ZwFujrEdduyof41cSt/hl0UbBHkWb227wHmdkjLG9NYetkQ1
 WLDe+GkFKLuzAlunGFINFwQvzPkC92fTCb8DVOxNwVLBSaghHzRjGb1nCOqROko80LKE
 AtjPdd1xla+MRd9c7w0PMNQ1ILntrm6A4KSDo=
X-Google-DKIM-Signature: v=1; a=rsa-sha256; c=relaxed/relaxed;
 d=1e100.net; s=20230601; t=1730304620; x=1730909420;
 h=references:in-reply-to:cc:to:from:subject:message-id:date
 :x-gm-message-state:from:to:cc:subject:date:message-id:reply-to;
 bh=SeCRkrJPT0TRw1PkcPx63kh1c9AeuV18gkwAqq/g/KM=;
 b=G9B7lYioHmI9m/eIPN7RfUFg2CjJZ1KQSupv3j52cvq8Hka4nSFk1lHtCtz9/5aC7q
 GDVVG8/XhA1p41Pmg7OjaD+ZgSzg9WtjZZTgGj+0dCpTSN6HygMCIgVDB6UWhv+Z6BiJ
 c1kLNqTOXPjaCXs2bsCcx/ShOHm7fGDzZzKz+pqiNkLfuDFHlF2LYY3Rcz9UEM7XzFOr
 RrhtDRPjTBm9bxkRun7PUQNB0ESIPJtHHm8eudTkxqITBgjUVcGGJ21+hYEip9J8Bm7v
 6xZB7HQYbPUMY3Broz/xpJjiesa+48+ggEOmKAPVTYZgCrw/HDCQlh1t5lgnYYq1dCUW
 2rBw==
X-Gm-Message-State: AOJu0Yw0h57gIRpPJ52AuUER40wI7J0GXixkeHni8IYUIHONVSzbFJ2C
 07zNzFs/znud0SNCktEfVmyY94mrCvKpttXVtg4bQ8RvGqoTZbArnZeG0v1ISxk+9fWSbH/DC7y
 ZZ0nun+S9Bqie2P69nSD+vJzF+s5UcViEvsB+96YX
X-Google-Smtp-Source: AGHT+IF8ENEJoByELlLEx/sTC0MZDZMTe32jWHKK7XpHz2Ehg9O4FdL763t3EVAxcULXcI+1fIV9Ynmu+DY7
X-Received: by 2002:a05:6602:168a:b0:83b:47d2:4390 with SMTP id
 ca18e2360f4ac-83b65062d5cmr12330639f.14.1730304620358; 
 Wed, 30 Oct 2024 09:10:20 -0700 (PDT)
Received: from postal.iol.unh.edu (postal.iol.unh.edu. [132.177.123.84])
 by smtp-relay.gmail.com with ESMTPS id
 8926c6da1cb9f-4dc72618b59sm429548173.29.2024.10.30.09.10.20
 (version=TLS1_2 cipher=ECDHE-ECDSA-AES128-GCM-SHA256 bits=128/128);
 Wed, 30 Oct 2024 09:10:20 -0700 (PDT)
X-Relaying-Domain: iol.unh.edu
Date: Wed, 30 Oct 2024 09:10:20 -0700 (PDT)
Message-ID: <67225a6c.050a0220.158b95.c7aaSMTPIN_ADDED_MISSING@mx.google.com>
Received: from [172.17.0.4] (unknown [172.18.0.217])
 by postal.iol.unh.edu (Postfix) with ESMTP id DE8256052471;
 Wed, 30 Oct 2024 12:10:19 -0400 (EDT)
Subject: |SUCCESS| pw147578 [PATCH] [v01] net/af_packet: add rollover and def
From: dpdklab@iol.unh.edu
To: Test Report <test-report@dpdk.org>
Cc: dpdk-test-reports@iol.unh.edu
In-Reply-To: <eadcf23b55de0fcc462024dd56269b86f856484a.1730209551.git.gur.stavi@huawei.com>
References: <eadcf23b55de0fcc462024dd56269b86f856484a.1730209551.git.gur.stavi@huawei.com>
Content-Type: text/plain
X-BeenThere: test-report@dpdk.org
X-Mailman-Version: 2.1.29
Precedence: list
List-Id: automatic DPDK test reports <test-report.dpdk.org>
List-Unsubscribe: <https://mails.dpdk.org/options/test-report>,
 <mailto:test-report-request@dpdk.org?subject=unsubscribe>
List-Archive: <http://mails.dpdk.org/archives/test-report/>
List-Post: <mailto:test-report@dpdk.org>
List-Help: <mailto:test-report-request@dpdk.org?subject=help>
List-Subscribe: <https://mails.dpdk.org/listinfo/test-report>,
 <mailto:test-report-request@dpdk.org?subject=subscribe>
Errors-To: test-report-bounces@dpdk.org

Test-Label: iol-compile-arm64-testing
Test-Status: SUCCESS
http://dpdk.org/patch/147578

_Testing PASS_

Submitter: Gur Stavi <gur.stavi@huawei.com>
Date: Tuesday, October 29 2024 13:48:05 
DPDK git baseline: Repo:dpdk
  Branch: master
  CommitID:9feb12fc66ca377b9d3f78b0f18198ed4beccffb

147578 --> testing pass

Upstream job id: Generic-DPDK-Compile-Meson#326962

Test environment and result as below:

+----------------------------------------+--------------------+
|              Environment               | dpdk_meson_compile |
+========================================+====================+
| Ubuntu 20.04 ARM SVE                   | PASS               |
+----------------------------------------+--------------------+
| RHEL9 (ARM)                            | PASS               |
+----------------------------------------+--------------------+
| Debian 12 with MUSDK                   | PASS               |
+----------------------------------------+--------------------+
| Fedora 39 (ARM)                        | PASS               |
+----------------------------------------+--------------------+
| Fedora 40 (ARM)                        | PASS               |
+----------------------------------------+--------------------+
| Ubuntu 22.04 (ARM)                     | PASS               |
+----------------------------------------+--------------------+
| Ubuntu 24.04 (ARM)                     | PASS               |
+----------------------------------------+--------------------+
| Fedora 40 (ARM Clang)                  | PASS               |
+----------------------------------------+--------------------+
| Ubuntu 20.04 (ARM)                     | PASS               |
+----------------------------------------+--------------------+
| Fedora 39 (ARM Clang)                  | PASS               |
+----------------------------------------+--------------------+
| Ubuntu 20.04 ARM Clang Cross Compile   | PASS               |
+----------------------------------------+--------------------+
| Ubuntu 20.04 aarch32 GCC Cross Compile | PASS               |
+----------------------------------------+--------------------+
| CentOS Stream 9 (ARM)                  | PASS               |
+----------------------------------------+--------------------+
| Debian 12 (arm)                        | PASS               |
+----------------------------------------+--------------------+


Ubuntu 20.04 ARM SVE
	Kernel: Depends on container host
	Compiler: gcc (Ubuntu 10.5.0-1ubuntu1~20.04) 10.5.0

RHEL9 (ARM)
	Kernel: Depends on container host
	Compiler: gcc 11.4.1 20231218 (Red Hat 11.4.1-3)

Debian 12 with MUSDK
	Kernel: Depends on container host
	Compiler: gcc (Debian 12.2.0-14) 12.2.0

Fedora 39 (ARM)
	Kernel: Depends on container host
	Compiler: gcc 13.3.1 20240522 (Red Hat 13.3.1-1)

Fedora 40 (ARM)
	Kernel: Depends on container host
	Compiler: gcc 14.2.1 20240801 (Red Hat 14.2.1-1)

Ubuntu 22.04 (ARM)
	Kernel: Depends on container host
	Compiler: gcc (Ubuntu 11.4.0-1ubuntu1~22.04) 11.4.0

Ubuntu 24.04 (ARM)
	Kernel: Depends on container host
	Compiler: gcc (Ubuntu 13.2.0-23ubuntu4) 13.2.0

Fedora 40 (ARM Clang)
	Kernel: Depends on container host
	Compiler: clang 18.1.6 (Fedora 18.1.6-3.fc40)

Ubuntu 20.04 (ARM)
	Kernel: Depends on container host
	Compiler: gcc (Ubuntu 9.4.0-1ubuntu1~20.04.2) 9.4.0

Fedora 39 (ARM Clang)
	Kernel: Depends on container host
	Compiler: clang 17.0.6 (Fedora 17.0.6-2.fc39)

Ubuntu 20.04 ARM Clang Cross Compile
	Kernel: Depends on container host
	Compiler: clang 10.0.0-4ubuntu1

Ubuntu 20.04 aarch32 GCC Cross Compile
	Kernel: Depends on container host
	Compiler: gcc 9.4.0

CentOS Stream 9 (ARM)
	Kernel: Depends on container host
	Compiler: gcc 11.4.1 20231218 (Red Hat 11.4.1-3)

Debian 12 (arm)
	Kernel: Depends on container host
	Compiler: gcc (Debian 12.2.0-14) 12.2.0

To view detailed results, visit:
https://lab.dpdk.org/results/dashboard/patchsets/31745/

UNH-IOL DPDK Community Lab

To manage your email subscriptions, visit: 
https://lab.dpdk.org/results/dashboard/preferences/subscriptions/