From mboxrd@z Thu Jan  1 00:00:00 1970
Return-Path: <test-report-bounces@dpdk.org>
Received: from mails.dpdk.org (mails.dpdk.org [217.70.189.124])
	by inbox.dpdk.org (Postfix) with ESMTP id A7A4445C16
	for <public@inbox.dpdk.org>; Wed, 30 Oct 2024 17:26:50 +0100 (CET)
Received: from mails.dpdk.org (localhost [127.0.0.1])
	by mails.dpdk.org (Postfix) with ESMTP id A5EFD4344B;
	Wed, 30 Oct 2024 17:26:50 +0100 (CET)
Received: from mail-oi1-f226.google.com (mail-oi1-f226.google.com
 [209.85.167.226])
 by mails.dpdk.org (Postfix) with ESMTP id ECFF443443
 for <test-report@dpdk.org>; Wed, 30 Oct 2024 17:26:45 +0100 (CET)
Received: by mail-oi1-f226.google.com with SMTP id
 5614622812f47-3e5fb8a4e53so30199b6e.1
 for <test-report@dpdk.org>; Wed, 30 Oct 2024 09:26:45 -0700 (PDT)
DKIM-Signature: v=1; a=rsa-sha256; c=relaxed/relaxed;
 d=iol.unh.edu; s=unh-iol; t=1730305605; x=1730910405; darn=dpdk.org;
 h=references:in-reply-to:cc:to:from:subject:message-id:date:from:to
 :cc:subject:date:message-id:reply-to;
 bh=O2xb1IwafdPmNB58AkVw+Sd6mTT3UTpMLBUGUwW9Kf8=;
 b=gcP2of5r2llSPYm4GzynraFASxTXi6xEGSmigQsdEdMBKBPA2v9oCBff8oO5IzUyvM
 Z3GMIkV9QklXNP/XEP7Osej2QwUiVrtoEvyEZ5P732/wlxwP42UJUHXYWSvRoDAonnFD
 +TO5X1Zzz6nV1NpNSVbMun4HTdloUfwlQJCcg=
X-Google-DKIM-Signature: v=1; a=rsa-sha256; c=relaxed/relaxed;
 d=1e100.net; s=20230601; t=1730305605; x=1730910405;
 h=references:in-reply-to:cc:to:from:subject:message-id:date
 :x-gm-message-state:from:to:cc:subject:date:message-id:reply-to;
 bh=O2xb1IwafdPmNB58AkVw+Sd6mTT3UTpMLBUGUwW9Kf8=;
 b=GlJZccCdJW1LeV71GcimT04Lejx1iN3RkPQrnGBhTVRzTypHdFQYlwfn1x3auUENu8
 frL3Z5h2tlJRiyfCPZgcmMAbc6bRjZIPaByOJ9s73hCyAuthmC/wZZaqDfBVmU8kU2PA
 LMDd+EDWlwEJGTsljBOPNQ9RzRQoIc+rP71mkMFW0JyfiBQE5q8RMcNwBbWyoT7BmUNS
 6xCb5YbPwJ81aCFXln/bY5aCvvAWRhK6YRIgefJcSVEiA1grfcipy+hWNt8zDatLgFbv
 DPTp5us9T5igHwDuRH6MGXZVMZ2BD+nC4aGaXm+KEiabHeNUuysxSjOxqKp2aRdp1pCG
 ARCA==
X-Gm-Message-State: AOJu0YxEnVwa39piRbl6nUMcgQmnu/UPoKkB/TDGzgkbAKruKVCQpjA/
 BATv9QmJnXZp7uGhaZMKg0HkmpjttNApNh9WrwPiH49bbCpuYIwCviJE+vcTDJOsySjjsZdZx5H
 uNXPuQpbeXwNf1hO3Rj4rVnsl6dx15KGMpQY7v3ZX
X-Google-Smtp-Source: AGHT+IELHpKwqJSDA9NBFeDi3E+McbboFbpiITJGcloMakN9sQ1zLxzfC97Qvvdnp4sgFVuHZQRlX8wTtuw1
X-Received: by 2002:a05:6808:338c:b0:3e6:5a61:fe40 with SMTP id
 5614622812f47-3e65a61fecfmr2083772b6e.44.1730305605115; 
 Wed, 30 Oct 2024 09:26:45 -0700 (PDT)
Received: from postal.iol.unh.edu (postal.iol.unh.edu. [132.177.123.84])
 by smtp-relay.gmail.com with ESMTPS id
 6a1803df08f44-6d179a46388sm3185906d6.54.2024.10.30.09.26.44
 (version=TLS1_2 cipher=ECDHE-ECDSA-AES128-GCM-SHA256 bits=128/128);
 Wed, 30 Oct 2024 09:26:45 -0700 (PDT)
X-Relaying-Domain: iol.unh.edu
Date: Wed, 30 Oct 2024 09:26:45 -0700 (PDT)
Message-ID: <67225e45.0c0a0220.17d004.7842SMTPIN_ADDED_MISSING@mx.google.com>
Received: from [172.21.0.7] (unknown [172.18.0.240])
 by postal.iol.unh.edu (Postfix) with ESMTP id C0FBE6052471;
 Wed, 30 Oct 2024 12:26:44 -0400 (EDT)
Subject: |SUCCESS| pw147593-147597 [PATCH] [v4,5/5] raw/gdtc: add support for
From: dpdklab@iol.unh.edu
To: Test Report <test-report@dpdk.org>
Cc: dpdk-test-reports@iol.unh.edu
In-Reply-To: <20241029134609.2499338-9-zhang.yong25@zte.com.cn>
References: <20241029134609.2499338-9-zhang.yong25@zte.com.cn>
Content-Type: text/plain
X-BeenThere: test-report@dpdk.org
X-Mailman-Version: 2.1.29
Precedence: list
List-Id: automatic DPDK test reports <test-report.dpdk.org>
List-Unsubscribe: <https://mails.dpdk.org/options/test-report>,
 <mailto:test-report-request@dpdk.org?subject=unsubscribe>
List-Archive: <http://mails.dpdk.org/archives/test-report/>
List-Post: <mailto:test-report@dpdk.org>
List-Help: <mailto:test-report-request@dpdk.org?subject=help>
List-Subscribe: <https://mails.dpdk.org/listinfo/test-report>,
 <mailto:test-report-request@dpdk.org?subject=subscribe>
Errors-To: test-report-bounces@dpdk.org

Test-Label: iol-compile-arm64-testing
Test-Status: SUCCESS
http://dpdk.org/patch/147597

_Testing PASS_

Submitter: Yong Zhang <zhang.yong25@zte.com.cn>
Date: Tuesday, October 29 2024 13:45:30 
DPDK git baseline: Repo:dpdk
  Branch: master
  CommitID:6dad0bb5c8621644beca86ff5f4910a943ba604d

147593-147597 --> testing pass

Upstream job id: Generic-DPDK-Compile-Meson#326990

Test environment and result as below:

+----------------------------------------+--------------------+
|              Environment               | dpdk_meson_compile |
+========================================+====================+
| RHEL9 (ARM)                            | PASS               |
+----------------------------------------+--------------------+
| Ubuntu 20.04 ARM GCC Cross Compile     | PASS               |
+----------------------------------------+--------------------+
| Ubuntu 20.04 ARM SVE                   | PASS               |
+----------------------------------------+--------------------+
| Fedora 39 (ARM)                        | PASS               |
+----------------------------------------+--------------------+
| Debian 12 with MUSDK                   | PASS               |
+----------------------------------------+--------------------+
| Fedora 39 (ARM Clang)                  | PASS               |
+----------------------------------------+--------------------+
| Fedora 40 (ARM)                        | PASS               |
+----------------------------------------+--------------------+
| Fedora 40 (ARM Clang)                  | PASS               |
+----------------------------------------+--------------------+
| Ubuntu 20.04 (ARM)                     | PASS               |
+----------------------------------------+--------------------+
| Ubuntu 22.04 (ARM)                     | PASS               |
+----------------------------------------+--------------------+
| Ubuntu 24.04 (ARM)                     | PASS               |
+----------------------------------------+--------------------+
| CentOS Stream 9 (ARM)                  | PASS               |
+----------------------------------------+--------------------+
| Debian 12 (arm)                        | PASS               |
+----------------------------------------+--------------------+
| Ubuntu 20.04 ARM Clang Cross Compile   | PASS               |
+----------------------------------------+--------------------+
| Ubuntu 20.04 aarch32 GCC Cross Compile | PASS               |
+----------------------------------------+--------------------+


RHEL9 (ARM)
	Kernel: Depends on container host
	Compiler: gcc 11.4.1 20231218 (Red Hat 11.4.1-3)

Ubuntu 20.04 ARM GCC Cross Compile
	Kernel: Depends on container host
	Compiler: aarch64-linux-gnu-gcc (Ubuntu 9.4.0-1ubuntu1~20.04.2) 9.4.0

Ubuntu 20.04 ARM SVE
	Kernel: Depends on container host
	Compiler: gcc (Ubuntu 10.5.0-1ubuntu1~20.04) 10.5.0

Fedora 39 (ARM)
	Kernel: Depends on container host
	Compiler: gcc 13.3.1 20240522 (Red Hat 13.3.1-1)

Debian 12 with MUSDK
	Kernel: Depends on container host
	Compiler: gcc (Debian 12.2.0-14) 12.2.0

Fedora 39 (ARM Clang)
	Kernel: Depends on container host
	Compiler: clang 17.0.6 (Fedora 17.0.6-2.fc39)

Fedora 40 (ARM)
	Kernel: Depends on container host
	Compiler: gcc 14.2.1 20240801 (Red Hat 14.2.1-1)

Fedora 40 (ARM Clang)
	Kernel: Depends on container host
	Compiler: clang 18.1.6 (Fedora 18.1.6-3.fc40)

Ubuntu 20.04 (ARM)
	Kernel: Depends on container host
	Compiler: gcc (Ubuntu 9.4.0-1ubuntu1~20.04.2) 9.4.0

Ubuntu 22.04 (ARM)
	Kernel: Depends on container host
	Compiler: gcc (Ubuntu 11.4.0-1ubuntu1~22.04) 11.4.0

Ubuntu 24.04 (ARM)
	Kernel: Depends on container host
	Compiler: gcc (Ubuntu 13.2.0-23ubuntu4) 13.2.0

CentOS Stream 9 (ARM)
	Kernel: Depends on container host
	Compiler: gcc 11.4.1 20231218 (Red Hat 11.4.1-3)

Debian 12 (arm)
	Kernel: Depends on container host
	Compiler: gcc (Debian 12.2.0-14) 12.2.0

Ubuntu 20.04 ARM Clang Cross Compile
	Kernel: Depends on container host
	Compiler: clang 10.0.0-4ubuntu1

Ubuntu 20.04 aarch32 GCC Cross Compile
	Kernel: Depends on container host
	Compiler: gcc 9.4.0

To view detailed results, visit:
https://lab.dpdk.org/results/dashboard/patchsets/31752/

UNH-IOL DPDK Community Lab

To manage your email subscriptions, visit: 
https://lab.dpdk.org/results/dashboard/preferences/subscriptions/