From mboxrd@z Thu Jan  1 00:00:00 1970
Return-Path: <test-report-bounces@dpdk.org>
Received: from mails.dpdk.org (mails.dpdk.org [217.70.189.124])
	by inbox.dpdk.org (Postfix) with ESMTP id C47D445C18
	for <public@inbox.dpdk.org>; Wed, 30 Oct 2024 20:13:53 +0100 (CET)
Received: from mails.dpdk.org (localhost [127.0.0.1])
	by mails.dpdk.org (Postfix) with ESMTP id C175A42FDB;
	Wed, 30 Oct 2024 20:13:53 +0100 (CET)
Received: from mail-pl1-f228.google.com (mail-pl1-f228.google.com
 [209.85.214.228])
 by mails.dpdk.org (Postfix) with ESMTP id 7E7D442F2B
 for <test-report@dpdk.org>; Wed, 30 Oct 2024 20:13:52 +0100 (CET)
Received: by mail-pl1-f228.google.com with SMTP id
 d9443c01a7336-20cf6eea3c0so2030875ad.0
 for <test-report@dpdk.org>; Wed, 30 Oct 2024 12:13:52 -0700 (PDT)
DKIM-Signature: v=1; a=rsa-sha256; c=relaxed/relaxed;
 d=iol.unh.edu; s=unh-iol; t=1730315631; x=1730920431; darn=dpdk.org;
 h=references:in-reply-to:cc:to:from:subject:message-id:date:from:to
 :cc:subject:date:message-id:reply-to;
 bh=bJoo6nK4TBnxIHbe8NNTqVE9w/nQitW8/26iwWaOTtg=;
 b=NQdZDBNyBE5qPPA4iiQSH7g4d+fAiRofM/375yIgGSWl5uKAInTmQtJhmwbctuKFFn
 oFfbFUHzGtvdq85ZUQF/1JAPGoq/jHh2pvR/04Ny0LwDQRZM3xcch+O/SYc4Y1Ztbt13
 fM/3l+kZ+kB7qv1Ql7M1V5OhRRSdyu9EjpUUo=
X-Google-DKIM-Signature: v=1; a=rsa-sha256; c=relaxed/relaxed;
 d=1e100.net; s=20230601; t=1730315631; x=1730920431;
 h=references:in-reply-to:cc:to:from:subject:message-id:date
 :x-gm-message-state:from:to:cc:subject:date:message-id:reply-to;
 bh=bJoo6nK4TBnxIHbe8NNTqVE9w/nQitW8/26iwWaOTtg=;
 b=mpeoX2Zgqa1D57JJaPyN09khP6Gq/v6ZSYz6LTOP8+gk6oWKqEDO5Mnx54sEdImRnX
 NJMO0L2Dxm7TW1nRS+qYSx19a6XVq6K/zhm2hrSlJ5At8eVxXSlG4qqZRC29/mvuPWdn
 BN5hFANbabzRbMZDpxidCzNUVo3kw9EDnymsq0mxTC+yrdmt1N32PNM/Bt/BFcTnYWbX
 8CR+xzg42T9nqfs9NWOq7JXesCAxf0Ed2zcxxqSGld7mV1j7ZePSdSjhRmXxXzUjPsQm
 h0Qo0NKzogSrBLmwI/icfF7sRPs3rlpqoJAgUZzDJf5wG5X/befVcrqienjzquSKD4RS
 5BTg==
X-Gm-Message-State: AOJu0YzaqV8I5dqUsoLmX2SCVk/ByejCsII0pz2JhQNvuyDkd9/AdtUj
 Y5aZBZV7S4hdllUgTj6v0wQGGPcHwmJp1tVVQWyLPpRNZWgVcZO3hEfqBmBolBxOd5LKQuuI9mo
 NkmHoGQp/nybo4PQHYHPHkO9IJKJrIVetdITTvaUlPf8anpai2RUAxpyz
X-Google-Smtp-Source: AGHT+IGI4GpbeuSAWCayYSt9Y/mPnDlEYnfEQsiFAaUwBgK7K+wBc4n0pOlent6Y6wg+lbJRw3lsZGW5e8aU
X-Received: by 2002:a17:902:ecc5:b0:20c:7181:51cb with SMTP id
 d9443c01a7336-210c6892b62mr230850255ad.18.1730315631622; 
 Wed, 30 Oct 2024 12:13:51 -0700 (PDT)
Received: from postal.iol.unh.edu (postal.iol.unh.edu.
 [2606:4100:3880:1234::84]) by smtp-relay.gmail.com with ESMTPS id
 d9443c01a7336-210bbec19aesm5531505ad.9.2024.10.30.12.13.51
 (version=TLS1_2 cipher=ECDHE-ECDSA-AES128-GCM-SHA256 bits=128/128);
 Wed, 30 Oct 2024 12:13:51 -0700 (PDT)
X-Relaying-Domain: iol.unh.edu
Date: Wed, 30 Oct 2024 12:13:51 -0700 (PDT)
Message-ID: <6722856f.170a0220.354381.54fbSMTPIN_ADDED_MISSING@mx.google.com>
Received: from [172.21.0.6] (unknown [172.18.0.240])
 by postal.iol.unh.edu (Postfix) with ESMTP id AAD786052471;
 Wed, 30 Oct 2024 15:13:50 -0400 (EDT)
Subject: |SUCCESS| pw147650-147654 [PATCH] [v6,5/5] net/ice: provide paramete
From: dpdklab@iol.unh.edu
To: Test Report <test-report@dpdk.org>
Cc: dpdk-test-reports@iol.unh.edu
In-Reply-To: <20241029170157.1390724-6-bruce.richardson@intel.com>
References: <20241029170157.1390724-6-bruce.richardson@intel.com>
Content-Type: text/plain
X-BeenThere: test-report@dpdk.org
X-Mailman-Version: 2.1.29
Precedence: list
List-Id: automatic DPDK test reports <test-report.dpdk.org>
List-Unsubscribe: <https://mails.dpdk.org/options/test-report>,
 <mailto:test-report-request@dpdk.org?subject=unsubscribe>
List-Archive: <http://mails.dpdk.org/archives/test-report/>
List-Post: <mailto:test-report@dpdk.org>
List-Help: <mailto:test-report-request@dpdk.org?subject=help>
List-Subscribe: <https://mails.dpdk.org/listinfo/test-report>,
 <mailto:test-report-request@dpdk.org?subject=subscribe>
Errors-To: test-report-bounces@dpdk.org

Test-Label: iol-unit-arm64-testing
Test-Status: SUCCESS
http://dpdk.org/patch/147654

_Testing PASS_

Submitter: Bruce Richardson <bruce.richardson@intel.com>
Date: Tuesday, October 29 2024 17:01:57 
DPDK git baseline: Repo:dpdk
  Branch: master
  CommitID:6dad0bb5c8621644beca86ff5f4910a943ba604d

147650-147654 --> testing pass

Upstream job id: Generic-Unit-Test-DPDK#286055

Test environment and result as below:

+-----------------------------+----------------+--------------+---------------------------+------------------------------+
|         Environment         | dpdk_unit_test | lpm_autotest | cryptodev_sw_zuc_autotest | cryptodev_sw_snow3g_autotest |
+=============================+================+==============+===========================+==============================+
| CentOS Stream 9 (ARM)       | PASS           | SKIPPED      | SKIPPED                   | SKIPPED                      |
+-----------------------------+----------------+--------------+---------------------------+------------------------------+
| Debian 12 (arm)             | PASS           | SKIPPED      | PASS                      | PASS                         |
+-----------------------------+----------------+--------------+---------------------------+------------------------------+
| Fedora 39 (ARM)             | PASS           | SKIPPED      | SKIPPED                   | SKIPPED                      |
+-----------------------------+----------------+--------------+---------------------------+------------------------------+
| Ubuntu 20.04 (ARM)          | PASS           | SKIPPED      | SKIPPED                   | SKIPPED                      |
+-----------------------------+----------------+--------------+---------------------------+------------------------------+
| Fedora 40 (ARM Clang)       | PASS           | SKIPPED      | SKIPPED                   | SKIPPED                      |
+-----------------------------+----------------+--------------+---------------------------+------------------------------+
| Fedora 40 (ARM)             | PASS           | SKIPPED      | SKIPPED                   | SKIPPED                      |
+-----------------------------+----------------+--------------+---------------------------+------------------------------+
| Fedora 39 (ARM Clang)       | PASS           | SKIPPED      | SKIPPED                   | SKIPPED                      |
+-----------------------------+----------------+--------------+---------------------------+------------------------------+
| Ubuntu 22.04 (ARM)          | PASS           | SKIPPED      | SKIPPED                   | SKIPPED                      |
+-----------------------------+----------------+--------------+---------------------------+------------------------------+
| Ubuntu 24.04 (ARM)          | PASS           | SKIPPED      | SKIPPED                   | SKIPPED                      |
+-----------------------------+----------------+--------------+---------------------------+------------------------------+
| RHEL9 (ARM)                 | PASS           | SKIPPED      | SKIPPED                   | SKIPPED                      |
+-----------------------------+----------------+--------------+---------------------------+------------------------------+
| 32-bit Ubuntu 22.04.4 (ARM) | PASS           | SKIPPED      | SKIPPED                   | SKIPPED                      |
+-----------------------------+----------------+--------------+---------------------------+------------------------------+
| Ubuntu 20.04 ARM SVE        | SKIPPED        | PASS         | SKIPPED                   | SKIPPED                      |
+-----------------------------+----------------+--------------+---------------------------+------------------------------+


CentOS Stream 9 (ARM)
	Kernel: Depends on container host
	Compiler: gcc 11.4.1 20231218 (Red Hat 11.4.1-3)

Debian 12 (arm)
	Kernel: Depends on container host
	Compiler: gcc (Debian 12.2.0-14) 12.2.0

Fedora 39 (ARM)
	Kernel: Depends on container host
	Compiler: gcc 13.3.1 20240522 (Red Hat 13.3.1-1)

Ubuntu 20.04 (ARM)
	Kernel: Depends on container host
	Compiler: gcc (Ubuntu 9.4.0-1ubuntu1~20.04.2) 9.4.0

Fedora 40 (ARM Clang)
	Kernel: Depends on container host
	Compiler: clang 18.1.6 (Fedora 18.1.6-3.fc40)

Fedora 40 (ARM)
	Kernel: Depends on container host
	Compiler: gcc 14.2.1 20240801 (Red Hat 14.2.1-1)

Fedora 39 (ARM Clang)
	Kernel: Depends on container host
	Compiler: clang 17.0.6 (Fedora 17.0.6-2.fc39)

Ubuntu 22.04 (ARM)
	Kernel: Depends on container host
	Compiler: gcc (Ubuntu 11.4.0-1ubuntu1~22.04) 11.4.0

Ubuntu 24.04 (ARM)
	Kernel: Depends on container host
	Compiler: gcc (Ubuntu 13.2.0-23ubuntu4) 13.2.0

RHEL9 (ARM)
	Kernel: Depends on container host
	Compiler: gcc 11.4.1 20231218 (Red Hat 11.4.1-3)

32-bit Ubuntu 22.04.4 (ARM)
	Kernel: 5.15.83+ aarch64
	Compiler: gcc (Ubuntu 11.4.0-1ubuntu1~22.04) 11.4.0

Ubuntu 20.04 ARM SVE
	Kernel: Depends on container host
	Compiler: gcc (Ubuntu 10.5.0-1ubuntu1~20.04) 10.5.0

To view detailed results, visit:
https://lab.dpdk.org/results/dashboard/patchsets/31757/

UNH-IOL DPDK Community Lab

To manage your email subscriptions, visit: 
https://lab.dpdk.org/results/dashboard/preferences/subscriptions/