From mboxrd@z Thu Jan  1 00:00:00 1970
Return-Path: <test-report-bounces@dpdk.org>
Received: from mails.dpdk.org (mails.dpdk.org [217.70.189.124])
	by inbox.dpdk.org (Postfix) with ESMTP id 0A03245C18
	for <public@inbox.dpdk.org>; Wed, 30 Oct 2024 20:23:27 +0100 (CET)
Received: from mails.dpdk.org (localhost [127.0.0.1])
	by mails.dpdk.org (Postfix) with ESMTP id 0682042FDB;
	Wed, 30 Oct 2024 20:23:27 +0100 (CET)
Received: from mail-qk1-f226.google.com (mail-qk1-f226.google.com
 [209.85.222.226])
 by mails.dpdk.org (Postfix) with ESMTP id 3CB8842F2B
 for <test-report@dpdk.org>; Wed, 30 Oct 2024 20:23:25 +0100 (CET)
Received: by mail-qk1-f226.google.com with SMTP id
 af79cd13be357-7b15eadee87so12471585a.2
 for <test-report@dpdk.org>; Wed, 30 Oct 2024 12:23:25 -0700 (PDT)
DKIM-Signature: v=1; a=rsa-sha256; c=relaxed/relaxed;
 d=iol.unh.edu; s=unh-iol; t=1730316204; x=1730921004; darn=dpdk.org;
 h=references:in-reply-to:cc:to:from:subject:message-id:date:from:to
 :cc:subject:date:message-id:reply-to;
 bh=NTashnWHf+SHSbVsZErL3/SCvTjh4dtqRCnWKvMcFLk=;
 b=KmTqVfbmTnIx6Nk6lU25nLi07ibFhR3UHlGZjJiwVpeSutEOMfvCb0WHaruIIYrR9q
 5+ldNQoyHr8haZNOaSRnOGxfBH0eeYRWvtPUKQQShhn5wlIcrrUVlRGnUAou3hJ3Bgh1
 wb8rR1/Rx02x4zsz2AhaeB1j/l9A53rEtBviQ=
X-Google-DKIM-Signature: v=1; a=rsa-sha256; c=relaxed/relaxed;
 d=1e100.net; s=20230601; t=1730316204; x=1730921004;
 h=references:in-reply-to:cc:to:from:subject:message-id:date
 :x-gm-message-state:from:to:cc:subject:date:message-id:reply-to;
 bh=NTashnWHf+SHSbVsZErL3/SCvTjh4dtqRCnWKvMcFLk=;
 b=Kka92Ds/+92dVO/mw8QbnQoN8jbQEJkOvRzDQxChuchBoA7227FeJd5pVia0nrZ9ZZ
 Il8CuQqujtV1Wgj8Q6D/Rex5YzA79be8s/88cfIRolw7rMhHFgo+2zfUjB530pgIi7gI
 teVY62PEFGHUX8fiH482qqV2SqffhwcIGFp11woGFO6bq90F2fMuBAISXIC+l0HSXxdZ
 Qld6skwq+XdJ0wtZwfBVq6nkG7tOtEWDKXs67PwfJmhKMEuZw98sEPtHNut+2E3I2n6D
 AEN3mpYuxblW7mVkAWTyNosFqoiG5HDndl6fEEHKO50gGdcmC4/yTmCIpn3zPv2LaWZy
 zuCg==
X-Gm-Message-State: AOJu0YwOamZtv2zZiH+ZuO/a7HZCCr9HsodwksigNMEJVY9HLhF7LeDI
 eX+BD0uiJXckQS55ci07PTCBfkpBMV6Num4sm3YZ+UJ3pxyXEstfGRVeTRlzjF3q8/II+GP54aj
 SonSa/DbY20pxwV/9d5G7xBOCqY2lrtQ2XjHTUZ0I
X-Google-Smtp-Source: AGHT+IHXqJooxzE9CziCn+AKH8+t/At+dR8mrOxDGsaco5MwStJkDkyLrevEzPgp5LTKO0+3WtSwQZLP4DEO
X-Received: by 2002:a05:6214:3a09:b0:6d3:46f5:7d0b with SMTP id
 6a1803df08f44-6d351b07375mr6954986d6.45.1730316204196; 
 Wed, 30 Oct 2024 12:23:24 -0700 (PDT)
Received: from postal.iol.unh.edu (postal.iol.unh.edu. [132.177.123.84])
 by smtp-relay.gmail.com with ESMTPS id
 6a1803df08f44-6d1798f735esm3215786d6.7.2024.10.30.12.23.24
 (version=TLS1_2 cipher=ECDHE-ECDSA-AES128-GCM-SHA256 bits=128/128);
 Wed, 30 Oct 2024 12:23:24 -0700 (PDT)
X-Relaying-Domain: iol.unh.edu
Date: Wed, 30 Oct 2024 12:23:24 -0700 (PDT)
Message-ID: <672287ac.d40a0220.652de.4cb8SMTPIN_ADDED_MISSING@mx.google.com>
Received: from [172.21.0.5] (unknown [172.18.0.240])
 by postal.iol.unh.edu (Postfix) with ESMTP id DE9626052471;
 Wed, 30 Oct 2024 15:23:23 -0400 (EDT)
Subject: |SUCCESS| pw147563-147567 [PATCH] [v10,6/6] power: rename library so
From: dpdklab@iol.unh.edu
To: Test Report <test-report@dpdk.org>
Cc: dpdk-test-reports@iol.unh.edu
In-Reply-To: <20241028195556.450033-7-sivaprasad.tummala@amd.com>
References: <20241028195556.450033-7-sivaprasad.tummala@amd.com>
Content-Type: text/plain
X-BeenThere: test-report@dpdk.org
X-Mailman-Version: 2.1.29
Precedence: list
List-Id: automatic DPDK test reports <test-report.dpdk.org>
List-Unsubscribe: <https://mails.dpdk.org/options/test-report>,
 <mailto:test-report-request@dpdk.org?subject=unsubscribe>
List-Archive: <http://mails.dpdk.org/archives/test-report/>
List-Post: <mailto:test-report@dpdk.org>
List-Help: <mailto:test-report-request@dpdk.org?subject=help>
List-Subscribe: <https://mails.dpdk.org/listinfo/test-report>,
 <mailto:test-report-request@dpdk.org?subject=subscribe>
Errors-To: test-report-bounces@dpdk.org

Test-Label: iol-unit-amd64-testing
Test-Status: SUCCESS
http://dpdk.org/patch/147567

_Testing PASS_

Submitter: Tummala, Sivaprasad <Sivaprasad.Tummala@amd.com>
Date: Monday, October 28 2024 19:55:56 
DPDK git baseline: Repo:dpdk
  Branch: master
  CommitID:6dad0bb5c8621644beca86ff5f4910a943ba604d

147563-147567 --> testing pass

Upstream job id: Generic-Unit-Test-DPDK#286359

Test environment and result as below:

+-------------------+----------------+
|    Environment    | dpdk_unit_test |
+===================+================+
| CentOS Stream 9   | PASS           |
+-------------------+----------------+
| Debian 12         | PASS           |
+-------------------+----------------+
| Fedora 39 (Clang) | PASS           |
+-------------------+----------------+
| Fedora 40 (Clang) | PASS           |
+-------------------+----------------+
| Fedora 40         | PASS           |
+-------------------+----------------+
| RHEL8             | PASS           |
+-------------------+----------------+
| RHEL9             | PASS           |
+-------------------+----------------+
| Fedora 39         | PASS           |
+-------------------+----------------+
| Ubuntu 22.04      | PASS           |
+-------------------+----------------+
| Ubuntu 20.04      | PASS           |
+-------------------+----------------+
| Ubuntu 24.04      | PASS           |
+-------------------+----------------+


CentOS Stream 9
	Kernel: Depends on container host
	Compiler: gcc 11.4.1 20231218 (Red Hat 11.4.1-3)

Debian 12
	Kernel: Depends on container host
	Compiler: gcc (Debian 12.2.0-14) 12.2.0

Fedora 39 (Clang)
	Kernel: Depends on container host
	Compiler: clang 17.0.6 (Fedora 17.0.6-2.fc39)

Fedora 40 (Clang)
	Kernel: Depends on container host
	Compiler: clang 18.1.6 (Fedora 18.1.6-3.fc40)

Fedora 40
	Kernel: Depends on container host
	Compiler: gcc 14.2.1 20240801 (Red Hat 14.2.1-1)

RHEL8
	Kernel: Depends on container host
	Compiler: gcc 8.5.0 20210514 (Red Hat 8.5.0-22)

RHEL9
	Kernel: Depends on container host
	Compiler: gcc 11.4.1 20231218 (Red Hat 11.4.1-3)

Fedora 39
	Kernel: Depends on container host
	Compiler: gcc 13.3.1 20240522 (Red Hat 13.3.1-1)

Ubuntu 22.04
	Kernel: Depends on container host
	Compiler: gcc (Ubuntu 11.4.0-1ubuntu1~22.04) 11.4.0

Ubuntu 20.04
	Kernel: Depends on container host
	Compiler: gcc (Ubuntu 9.4.0-1ubuntu1~20.04.2) 9.4.0

Ubuntu 24.04
	Kernel: Depends on container host
	Compiler: gcc (Ubuntu 13.2.0-23ubuntu4) 13.2.0

To view detailed results, visit:
https://lab.dpdk.org/results/dashboard/patchsets/31737/

UNH-IOL DPDK Community Lab

To manage your email subscriptions, visit: 
https://lab.dpdk.org/results/dashboard/preferences/subscriptions/