From mboxrd@z Thu Jan  1 00:00:00 1970
Return-Path: <test-report-bounces@dpdk.org>
Received: from mails.dpdk.org (mails.dpdk.org [217.70.189.124])
	by inbox.dpdk.org (Postfix) with ESMTP id DB01745C18
	for <public@inbox.dpdk.org>; Wed, 30 Oct 2024 20:53:46 +0100 (CET)
Received: from mails.dpdk.org (localhost [127.0.0.1])
	by mails.dpdk.org (Postfix) with ESMTP id D6DF34329E;
	Wed, 30 Oct 2024 20:53:46 +0100 (CET)
Received: from mail-pf1-f227.google.com (mail-pf1-f227.google.com
 [209.85.210.227])
 by mails.dpdk.org (Postfix) with ESMTP id 925CC42F2B
 for <test-report@dpdk.org>; Wed, 30 Oct 2024 20:53:45 +0100 (CET)
Received: by mail-pf1-f227.google.com with SMTP id
 d2e1a72fcca58-71e4c2e36daso966615b3a.0
 for <test-report@dpdk.org>; Wed, 30 Oct 2024 12:53:45 -0700 (PDT)
DKIM-Signature: v=1; a=rsa-sha256; c=relaxed/relaxed;
 d=iol.unh.edu; s=unh-iol; t=1730318024; x=1730922824; darn=dpdk.org;
 h=references:in-reply-to:cc:to:from:subject:message-id:date:from:to
 :cc:subject:date:message-id:reply-to;
 bh=ETNPzNWXoIDofx3jWAPC3nSDr8udEaOo5PaEsZ5lFIU=;
 b=YvhTyMPXLzgLSyqzUsULa+d4+kmEIl5zu4dZgk8aDHNcTQvrXyNYo/A9EcTsYlqPB1
 wK63HEPRiU5ROhEsBM8vGxd1OlKGCv8yJUGUDDtSUVY2GxFviGVGVJrpdI3swJyRdAp6
 hz7IQAAZGlZniyCjB4itLH2z/2YWKpWuHnls8=
X-Google-DKIM-Signature: v=1; a=rsa-sha256; c=relaxed/relaxed;
 d=1e100.net; s=20230601; t=1730318024; x=1730922824;
 h=references:in-reply-to:cc:to:from:subject:message-id:date
 :x-gm-message-state:from:to:cc:subject:date:message-id:reply-to;
 bh=ETNPzNWXoIDofx3jWAPC3nSDr8udEaOo5PaEsZ5lFIU=;
 b=YMbA9lAZIN+dqwqrCQubPzpIKBzajDNnb5r/famrXwRqyizRmN99hwFPyN4mojmaX4
 5QezkcmgFkitiNeA3EBjhDWHTMhbI8fp2mIxN74CxX6JEGdQZUnNaV7VCfRYRsBWZAfD
 CJ1fZvrsPeiBQqzeotXa08pOscN2RfWMbZu5mtK1RN33NuuaRguycR1eMChbkEhsYiB4
 Tjw8leVPDZ+tRx2aPW87QG1Jjtc0xBlTZPpJBuzUTWVI5zZxtw6Wy4o1eXxCESVWd9NQ
 xwJaeEjIjUYvniKR3Tm72y6DhGg+J+6Bf5rUWk2Lx1bUqg6fSK+a+yHrYMoEmcTiTNTr
 04jg==
X-Gm-Message-State: AOJu0YyGxdQDFNzRKNvA3eYtDBfD2RKRTNnm7h+n3EIW7mm1tTJFEp0h
 FzN1cepiI9kjs/3SW/7rm7ENo5ArDkNGsy0KoDtEmA4UA6bMYxQkbLkyQJxhZ7fHIyijX3tqdK5
 eZ+1pE9ZRM/uu+v/6XHGoTFtKn686HQ/aQ+lqYyMI5yi5ubYHjVoL8AQP
X-Google-Smtp-Source: AGHT+IEZcFs6J6bSSr2cCwJVvvXvk7j9M0/B2xMi4KGNwjOYdS3bfWV6p08QtX3V2w6mrai60Q+dcTFh6sgH
X-Received: by 2002:a05:6a21:4d8c:b0:1d9:1a32:5b4e with SMTP id
 adf61e73a8af0-1d9e1ede2d6mr10175297637.4.1730318024584; 
 Wed, 30 Oct 2024 12:53:44 -0700 (PDT)
Received: from postal.iol.unh.edu (postal.iol.unh.edu.
 [2606:4100:3880:1234::84]) by smtp-relay.gmail.com with ESMTPS id
 d2e1a72fcca58-72057930719sm637366b3a.11.2024.10.30.12.53.44
 (version=TLS1_2 cipher=ECDHE-ECDSA-AES128-GCM-SHA256 bits=128/128);
 Wed, 30 Oct 2024 12:53:44 -0700 (PDT)
X-Relaying-Domain: iol.unh.edu
Date: Wed, 30 Oct 2024 12:53:44 -0700 (PDT)
Message-ID: <67228ec8.050a0220.292fcc.dcd1SMTPIN_ADDED_MISSING@mx.google.com>
Received: from [172.17.0.3] (unknown [172.18.0.217])
 by postal.iol.unh.edu (Postfix) with ESMTP id B4D2A6052471;
 Wed, 30 Oct 2024 15:53:43 -0400 (EDT)
Subject: |SUCCESS| pw147576 [PATCH] [1/1] net/ena: add histogram support
From: dpdklab@iol.unh.edu
To: Test Report <test-report@dpdk.org>
Cc: dpdk-test-reports@iol.unh.edu
In-Reply-To: <20241029080215.5069-2-shaibran@amazon.com>
References: <20241029080215.5069-2-shaibran@amazon.com>
Content-Type: text/plain
X-BeenThere: test-report@dpdk.org
X-Mailman-Version: 2.1.29
Precedence: list
List-Id: automatic DPDK test reports <test-report.dpdk.org>
List-Unsubscribe: <https://mails.dpdk.org/options/test-report>,
 <mailto:test-report-request@dpdk.org?subject=unsubscribe>
List-Archive: <http://mails.dpdk.org/archives/test-report/>
List-Post: <mailto:test-report@dpdk.org>
List-Help: <mailto:test-report-request@dpdk.org?subject=help>
List-Subscribe: <https://mails.dpdk.org/listinfo/test-report>,
 <mailto:test-report-request@dpdk.org?subject=subscribe>
Errors-To: test-report-bounces@dpdk.org

Test-Label: iol-compile-amd64-testing
Test-Status: SUCCESS
http://dpdk.org/patch/147576

_Testing PASS_

Submitter: Brandes, Shai <shaibran@amazon.com>
Date: Tuesday, October 29 2024 08:02:15 
DPDK git baseline: Repo:dpdk
  Branch: master
  CommitID:1bbd8938e387037baeccfcfa63a8420f0fa30899

147576 --> testing pass

Upstream job id: Generic-DPDK-Compile-Meson#327215

Test environment and result as below:

+-------------------+--------------------+------------------+-------------------+
|    Environment    | dpdk_meson_compile | dpdk_compile_ovs | dpdk_compile_spdk |
+===================+====================+==================+===================+
| Debian 12         | PASS               | PASS             | PASS              |
+-------------------+--------------------+------------------+-------------------+
| CentOS Stream 9   | PASS               | PASS             | PASS              |
+-------------------+--------------------+------------------+-------------------+
| Fedora 39 (Clang) | PASS               | PASS             | PASS              |
+-------------------+--------------------+------------------+-------------------+
| Fedora 40         | PASS               | PASS             | PASS              |
+-------------------+--------------------+------------------+-------------------+
| Fedora 39         | PASS               | PASS             | PASS              |
+-------------------+--------------------+------------------+-------------------+
| Fedora 40 (Clang) | PASS               | PASS             | PASS              |
+-------------------+--------------------+------------------+-------------------+
| openSUSE Leap 15  | PASS               | PASS             | SKIPPED           |
+-------------------+--------------------+------------------+-------------------+
| RHEL9             | PASS               | PASS             | SKIPPED           |
+-------------------+--------------------+------------------+-------------------+
| Ubuntu 20.04      | PASS               | PASS             | SKIPPED           |
+-------------------+--------------------+------------------+-------------------+
| Ubuntu 22.04      | PASS               | PASS             | PASS              |
+-------------------+--------------------+------------------+-------------------+
| Ubuntu 24.04      | PASS               | PASS             | PASS              |
+-------------------+--------------------+------------------+-------------------+
| Alpine            | PASS               | PASS             | SKIPPED           |
+-------------------+--------------------+------------------+-------------------+
| FreeBSD 13.4      | PASS               | SKIPPED          | SKIPPED           |
+-------------------+--------------------+------------------+-------------------+
| FreeBSD 14.1      | PASS               | SKIPPED          | SKIPPED           |
+-------------------+--------------------+------------------+-------------------+


Debian 12
	Kernel: Depends on container host
	Compiler: gcc (Debian 12.2.0-14) 12.2.0

CentOS Stream 9
	Kernel: Depends on container host
	Compiler: gcc 11.4.1 20231218 (Red Hat 11.4.1-3)

Fedora 39 (Clang)
	Kernel: Depends on container host
	Compiler: clang 17.0.6 (Fedora 17.0.6-2.fc39)

Fedora 40
	Kernel: Depends on container host
	Compiler: gcc 14.2.1 20240801 (Red Hat 14.2.1-1)

Fedora 39
	Kernel: Depends on container host
	Compiler: gcc 13.3.1 20240522 (Red Hat 13.3.1-1)

Fedora 40 (Clang)
	Kernel: Depends on container host
	Compiler: clang 18.1.6 (Fedora 18.1.6-3.fc40)

openSUSE Leap 15
	Kernel: Depends on container host
	Compiler: gcc (SUSE Linux) 7.5.0

RHEL9
	Kernel: Depends on container host
	Compiler: gcc 11.4.1 20231218 (Red Hat 11.4.1-3)

Ubuntu 20.04
	Kernel: Depends on container host
	Compiler: gcc (Ubuntu 9.4.0-1ubuntu1~20.04.2) 9.4.0

Ubuntu 22.04
	Kernel: Depends on container host
	Compiler: gcc (Ubuntu 11.4.0-1ubuntu1~22.04) 11.4.0

Ubuntu 24.04
	Kernel: Depends on container host
	Compiler: gcc (Ubuntu 13.2.0-23ubuntu4) 13.2.0

Alpine
	Kernel: Depends on container host
	Compiler: gcc (Alpine 13.2.1_git20240309) 13.2.1 20240309

FreeBSD 13.4
	Kernel: 13.4-RELEASE-p1
	Compiler: clang 18.1.6

FreeBSD 14.1
	Kernel: 14.1-RELEASE-p3
	Compiler: clang 18.1.5

To view detailed results, visit:
https://lab.dpdk.org/results/dashboard/patchsets/31743/

UNH-IOL DPDK Community Lab

To manage your email subscriptions, visit: 
https://lab.dpdk.org/results/dashboard/preferences/subscriptions/