From mboxrd@z Thu Jan  1 00:00:00 1970
Return-Path: <test-report-bounces@dpdk.org>
Received: from mails.dpdk.org (mails.dpdk.org [217.70.189.124])
	by inbox.dpdk.org (Postfix) with ESMTP id 6B60845BCC
	for <public@inbox.dpdk.org>; Wed, 30 Oct 2024 23:27:30 +0100 (CET)
Received: from mails.dpdk.org (localhost [127.0.0.1])
	by mails.dpdk.org (Postfix) with ESMTP id 6701A4340A;
	Wed, 30 Oct 2024 23:27:30 +0100 (CET)
Received: from mail-pj1-f98.google.com (mail-pj1-f98.google.com
 [209.85.216.98]) by mails.dpdk.org (Postfix) with ESMTP id 32FEE4066D
 for <test-report@dpdk.org>; Wed, 30 Oct 2024 23:27:29 +0100 (CET)
Received: by mail-pj1-f98.google.com with SMTP id
 98e67ed59e1d1-2e2e87153a3so228614a91.3
 for <test-report@dpdk.org>; Wed, 30 Oct 2024 15:27:29 -0700 (PDT)
DKIM-Signature: v=1; a=rsa-sha256; c=relaxed/relaxed;
 d=iol.unh.edu; s=unh-iol; t=1730327248; x=1730932048; darn=dpdk.org;
 h=references:in-reply-to:cc:to:from:subject:message-id:date:from:to
 :cc:subject:date:message-id:reply-to;
 bh=pp8fArbF538jt/fnHnzSOH9qqWnwjb8q3zYgxjtNYls=;
 b=jspWaR9+U/SOfrENQlzYlfgCRp6/nVuyVkqGjMOqiQx1hLMgw3MyW4isRrDpVSAkeY
 FHB1DCEJw4zJTiQ2pKUfVPsXiC02UL0KR1foRZrLvuM7cMwexgHwMhvQ334KqvrXmSeN
 gZ5+gX3deHBu+2H6gH97zHOtX0vuBrRaE/Z9k=
X-Google-DKIM-Signature: v=1; a=rsa-sha256; c=relaxed/relaxed;
 d=1e100.net; s=20230601; t=1730327248; x=1730932048;
 h=references:in-reply-to:cc:to:from:subject:message-id:date
 :x-gm-message-state:from:to:cc:subject:date:message-id:reply-to;
 bh=pp8fArbF538jt/fnHnzSOH9qqWnwjb8q3zYgxjtNYls=;
 b=Nw8bkLWrBBYx4ZLxhNRDk0VWE+SMoMdSon3bGwXuJGTCUFf4OQzpHBtTo+x6eWlNh5
 4KVEtdJNKjy+4N6oUe12woLafzWDHWWlU2nauE8p72AW+X6p8W9cbi53M689fcs73Nkd
 zOx5kj37GJKosEFsNruofNri4+bfurw1dg1Qp8M8P9XIcvAt2PJZ62dczGK+8io+5QEO
 WvHd+GU8L1CORztYtZfgD5HtToxVdtcvE48NvHcveKNDjmEZ64eZFZ46sXOR59wcAiZL
 6mKTYRuwe4wBfbhChiu9t8k23ok3HzxAr/PoqDav7QHy2pnyHhBh04UkIbhnetg0ronL
 i48A==
X-Gm-Message-State: AOJu0YwT/KTMKHOmqSkgVnpm+XVsPVS4BwLQOFsMGE9siVJ5al3K/qHj
 rVnRNsud31CxO6EPTvtBhbd0Kuf5g03Vdv0uE70S+xN64anfi4+qxo+An+gXNXNy1MEFdR23J8N
 2tkSNQKK55K5kcYjihFfKP7gAds4xqseB6rPg7IsNjd5f+tPqiJKfcuSW
X-Google-Smtp-Source: AGHT+IFY8P6AO6l/IVJtibmgSFROOiFXra7FtZTpe68bwySsO8X77apKChCwIM9FvZsRAy74zHrExGMpF/uT
X-Received: by 2002:a17:90a:e7cd:b0:2e2:f044:caaa with SMTP id
 98e67ed59e1d1-2e8f11b9ef9mr19684326a91.37.1730327248116; 
 Wed, 30 Oct 2024 15:27:28 -0700 (PDT)
Received: from postal.iol.unh.edu (postal.iol.unh.edu.
 [2606:4100:3880:1234::84]) by smtp-relay.gmail.com with ESMTPS id
 98e67ed59e1d1-2e93db018fbsm14671a91.11.2024.10.30.15.27.27
 (version=TLS1_2 cipher=ECDHE-ECDSA-AES128-GCM-SHA256 bits=128/128);
 Wed, 30 Oct 2024 15:27:28 -0700 (PDT)
X-Relaying-Domain: iol.unh.edu
Date: Wed, 30 Oct 2024 15:27:28 -0700 (PDT)
Message-ID: <6722b2d0.170a0220.2c3c58.10e7SMTPIN_ADDED_MISSING@mx.google.com>
Received: from [172.17.0.4] (unknown [172.18.0.217])
 by postal.iol.unh.edu (Postfix) with ESMTP id 832376052471;
 Wed, 30 Oct 2024 18:27:27 -0400 (EDT)
Subject: |SUCCESS| pw147572 [PATCH] [v1] examples/fips_validation: fix EdDSA 
From: dpdklab@iol.unh.edu
To: Test Report <test-report@dpdk.org>
Cc: dpdk-test-reports@iol.unh.edu
In-Reply-To: <20241029055908.1073-1-gmuthukrishn@marvell.com>
References: <20241029055908.1073-1-gmuthukrishn@marvell.com>
Content-Type: text/plain
X-BeenThere: test-report@dpdk.org
X-Mailman-Version: 2.1.29
Precedence: list
List-Id: automatic DPDK test reports <test-report.dpdk.org>
List-Unsubscribe: <https://mails.dpdk.org/options/test-report>,
 <mailto:test-report-request@dpdk.org?subject=unsubscribe>
List-Archive: <http://mails.dpdk.org/archives/test-report/>
List-Post: <mailto:test-report@dpdk.org>
List-Help: <mailto:test-report-request@dpdk.org?subject=help>
List-Subscribe: <https://mails.dpdk.org/listinfo/test-report>,
 <mailto:test-report-request@dpdk.org?subject=subscribe>
Errors-To: test-report-bounces@dpdk.org

Test-Label: iol-compile-amd64-testing
Test-Status: SUCCESS
http://dpdk.org/patch/147572

_Testing PASS_

Submitter: Gowrishankar Muthukrishnan <gmuthukrishn@marvell.com>
Date: Tuesday, October 29 2024 05:59:03 
DPDK git baseline: Repo:dpdk
  Branch: master
  CommitID:6dad0bb5c8621644beca86ff5f4910a943ba604d

147572 --> testing pass

Upstream job id: Generic-DPDK-Compile-Meson#327314

Test environment and result as below:

+-------------------+--------------------+------------------+-------------------+
|    Environment    | dpdk_meson_compile | dpdk_compile_ovs | dpdk_compile_spdk |
+===================+====================+==================+===================+
| Debian 12         | PASS               | PASS             | PASS              |
+-------------------+--------------------+------------------+-------------------+
| CentOS Stream 9   | PASS               | PASS             | PASS              |
+-------------------+--------------------+------------------+-------------------+
| Fedora 39 (Clang) | PASS               | PASS             | PASS              |
+-------------------+--------------------+------------------+-------------------+
| Fedora 40 (Clang) | PASS               | PASS             | PASS              |
+-------------------+--------------------+------------------+-------------------+
| Fedora 39         | PASS               | PASS             | PASS              |
+-------------------+--------------------+------------------+-------------------+
| openSUSE Leap 15  | PASS               | PASS             | SKIPPED           |
+-------------------+--------------------+------------------+-------------------+
| RHEL8             | PASS               | PASS             | SKIPPED           |
+-------------------+--------------------+------------------+-------------------+
| RHEL9             | PASS               | PASS             | SKIPPED           |
+-------------------+--------------------+------------------+-------------------+
| Ubuntu 20.04      | PASS               | PASS             | SKIPPED           |
+-------------------+--------------------+------------------+-------------------+
| Ubuntu 22.04      | PASS               | PASS             | PASS              |
+-------------------+--------------------+------------------+-------------------+
| Alpine            | PASS               | PASS             | SKIPPED           |
+-------------------+--------------------+------------------+-------------------+
| Ubuntu 24.04      | PASS               | PASS             | PASS              |
+-------------------+--------------------+------------------+-------------------+
| FreeBSD 13.4      | PASS               | SKIPPED          | SKIPPED           |
+-------------------+--------------------+------------------+-------------------+
| FreeBSD 14.1      | PASS               | SKIPPED          | SKIPPED           |
+-------------------+--------------------+------------------+-------------------+


Debian 12
	Kernel: Depends on container host
	Compiler: gcc (Debian 12.2.0-14) 12.2.0

CentOS Stream 9
	Kernel: Depends on container host
	Compiler: gcc 11.4.1 20231218 (Red Hat 11.4.1-3)

Fedora 39 (Clang)
	Kernel: Depends on container host
	Compiler: clang 17.0.6 (Fedora 17.0.6-2.fc39)

Fedora 40 (Clang)
	Kernel: Depends on container host
	Compiler: clang 18.1.6 (Fedora 18.1.6-3.fc40)

Fedora 39
	Kernel: Depends on container host
	Compiler: gcc 13.3.1 20240522 (Red Hat 13.3.1-1)

openSUSE Leap 15
	Kernel: Depends on container host
	Compiler: gcc (SUSE Linux) 7.5.0

RHEL8
	Kernel: Depends on container host
	Compiler: gcc 8.5.0 20210514 (Red Hat 8.5.0-22)

RHEL9
	Kernel: Depends on container host
	Compiler: gcc 11.4.1 20231218 (Red Hat 11.4.1-3)

Ubuntu 20.04
	Kernel: Depends on container host
	Compiler: gcc (Ubuntu 9.4.0-1ubuntu1~20.04.2) 9.4.0

Ubuntu 22.04
	Kernel: Depends on container host
	Compiler: gcc (Ubuntu 11.4.0-1ubuntu1~22.04) 11.4.0

Alpine
	Kernel: Depends on container host
	Compiler: gcc (Alpine 13.2.1_git20240309) 13.2.1 20240309

Ubuntu 24.04
	Kernel: Depends on container host
	Compiler: gcc (Ubuntu 13.2.0-23ubuntu4) 13.2.0

FreeBSD 13.4
	Kernel: 13.4-RELEASE-p1
	Compiler: clang 18.1.6

FreeBSD 14.1
	Kernel: 14.1-RELEASE-p3
	Compiler: clang 18.1.5

To view detailed results, visit:
https://lab.dpdk.org/results/dashboard/patchsets/31740/

UNH-IOL DPDK Community Lab

To manage your email subscriptions, visit: 
https://lab.dpdk.org/results/dashboard/preferences/subscriptions/