From mboxrd@z Thu Jan  1 00:00:00 1970
Return-Path: <test-report-bounces@dpdk.org>
Received: from mails.dpdk.org (mails.dpdk.org [217.70.189.124])
	by inbox.dpdk.org (Postfix) with ESMTP id DCD3545BCC
	for <public@inbox.dpdk.org>; Thu, 31 Oct 2024 00:40:38 +0100 (CET)
Received: from mails.dpdk.org (localhost [127.0.0.1])
	by mails.dpdk.org (Postfix) with ESMTP id D2F5A433EB;
	Thu, 31 Oct 2024 00:40:38 +0100 (CET)
Received: from mail-pl1-f225.google.com (mail-pl1-f225.google.com
 [209.85.214.225])
 by mails.dpdk.org (Postfix) with ESMTP id E0973433A9
 for <test-report@dpdk.org>; Thu, 31 Oct 2024 00:40:36 +0100 (CET)
Received: by mail-pl1-f225.google.com with SMTP id
 d9443c01a7336-20cd76c513cso3392525ad.3
 for <test-report@dpdk.org>; Wed, 30 Oct 2024 16:40:36 -0700 (PDT)
DKIM-Signature: v=1; a=rsa-sha256; c=relaxed/relaxed;
 d=iol.unh.edu; s=unh-iol; t=1730331636; x=1730936436; darn=dpdk.org;
 h=references:in-reply-to:cc:to:from:subject:message-id:date:from:to
 :cc:subject:date:message-id:reply-to;
 bh=TrZspn7TLGh7JZl+gRjCY65wlkt+OhtkhdCfi1ZHgfA=;
 b=gACwQkau0tUH5gxid/RldQzHHrh1c1LEjXwsBnTFhH7VGH5sYF0WxIXWTPH3vuCnYr
 JilyCsGt5cO0mjp7OV9cHgjzUCdvd4SahARGeUJ1DWElhpX3uSwjf0Ehab+iE16O/bJU
 5C3TAVIaHOblKPVbNT+3/O0LiK0bDjQ44JDq0=
X-Google-DKIM-Signature: v=1; a=rsa-sha256; c=relaxed/relaxed;
 d=1e100.net; s=20230601; t=1730331636; x=1730936436;
 h=references:in-reply-to:cc:to:from:subject:message-id:date
 :x-gm-message-state:from:to:cc:subject:date:message-id:reply-to;
 bh=TrZspn7TLGh7JZl+gRjCY65wlkt+OhtkhdCfi1ZHgfA=;
 b=NFPBhCcf5R/KkWiva4pGN0gUqXujTxWo9kQeKZBLGfU4jSeEyR/zzjBmnf9GjJKnvP
 UbxGGVEgd/rA2AZgg5wzC08G4TarERV3Y5nkfDzm8ASRoOK8w83jecEeFsNDqdnT9/EX
 FWcnNmLSJZlML6TBphzQTUT3s+Q3n9LPU+XjqmjKNcJfpMkAoXPiPBI+27xcz7XpduXZ
 EXRWcJKIrKpZgzCf15UfX+qjUOagOsz6iUsZUCj2bUvvm44E3BtoHs4xUGP+nzniBim2
 ThO6uoHS8LmfaiDLXGVH18+ag0uybKbzUQq9m4Z+n88ZJ5L62gIJ+n+UT7fmRUVNT6EL
 XlcQ==
X-Gm-Message-State: AOJu0YwGUB0olGrgCGmR82ZtuV5DkRUBpUrXocxsV3pPFCPwx0cYViWa
 TlD3Yk3eJfEMejBAgQLQufXagMlWRlau9TA/Bn1nSK+O+RTPFIpZsFO7+i6sM+qTTWTwTPY1qjZ
 0pjise74LGaRnQoa2RmbmxCBl2EUTuqlqpHS6mbJNHjDJ7yhRGSpQsM3B
X-Google-Smtp-Source: AGHT+IHqkWK/wwrd8bLmdT/sP4bNg1ydtuhon3fxg41wyQWylhFgR22DEED4zlSn7zVNbTKD7m5DN0dn+k7n
X-Received: by 2002:a17:903:24f:b0:206:8acc:8871 with SMTP id
 d9443c01a7336-210f763de46mr62322175ad.31.1730331636043; 
 Wed, 30 Oct 2024 16:40:36 -0700 (PDT)
Received: from postal.iol.unh.edu (postal.iol.unh.edu.
 [2606:4100:3880:1234::84]) by smtp-relay.gmail.com with ESMTPS id
 d9443c01a7336-2110573a3d2sm93845ad.41.2024.10.30.16.40.35
 (version=TLS1_2 cipher=ECDHE-ECDSA-AES128-GCM-SHA256 bits=128/128);
 Wed, 30 Oct 2024 16:40:36 -0700 (PDT)
X-Relaying-Domain: iol.unh.edu
Date: Wed, 30 Oct 2024 16:40:36 -0700 (PDT)
Message-ID: <6722c3f4.170a0220.16cba.0b33SMTPIN_ADDED_MISSING@mx.google.com>
Received: from [172.17.0.3] (unknown [172.18.0.217])
 by postal.iol.unh.edu (Postfix) with ESMTP id 271096052471;
 Wed, 30 Oct 2024 19:40:35 -0400 (EDT)
Subject: |WARNING| pw147563-147567 [PATCH] [v10,6/6] power: rename library so
From: dpdklab@iol.unh.edu
To: Test Report <test-report@dpdk.org>
Cc: dpdk-test-reports@iol.unh.edu
In-Reply-To: <20241028195556.450033-7-sivaprasad.tummala@amd.com>
References: <20241028195556.450033-7-sivaprasad.tummala@amd.com>
Content-Type: text/plain
X-BeenThere: test-report@dpdk.org
X-Mailman-Version: 2.1.29
Precedence: list
List-Id: automatic DPDK test reports <test-report.dpdk.org>
List-Unsubscribe: <https://mails.dpdk.org/options/test-report>,
 <mailto:test-report-request@dpdk.org?subject=unsubscribe>
List-Archive: <http://mails.dpdk.org/archives/test-report/>
List-Post: <mailto:test-report@dpdk.org>
List-Help: <mailto:test-report-request@dpdk.org?subject=help>
List-Subscribe: <https://mails.dpdk.org/listinfo/test-report>,
 <mailto:test-report-request@dpdk.org?subject=subscribe>
Errors-To: test-report-bounces@dpdk.org

Test-Label: iol-compile-amd64-testing
Test-Status: WARNING
http://dpdk.org/patch/147567

_Testing issues_

Submitter: Tummala, Sivaprasad <Sivaprasad.Tummala@amd.com>
Date: Monday, October 28 2024 19:55:56 
DPDK git baseline: Repo:dpdk
  Branch: master
  CommitID:6dad0bb5c8621644beca86ff5f4910a943ba604d

147563-147567 --> testing issues

Upstream job id: Generic-DPDK-Compile-Meson#327340

Test environment and result as below:

+-------------------+--------------------+------------------+-------------------+
|    Environment    | dpdk_meson_compile | dpdk_compile_ovs | dpdk_compile_spdk |
+===================+====================+==================+===================+
| Debian 12         | PASS               | PASS             | WARN              |
+-------------------+--------------------+------------------+-------------------+
| CentOS Stream 9   | PASS               | PASS             | WARN              |
+-------------------+--------------------+------------------+-------------------+
| Fedora 39 (Clang) | PASS               | PASS             | WARN              |
+-------------------+--------------------+------------------+-------------------+
| Fedora 39         | PASS               | PASS             | WARN              |
+-------------------+--------------------+------------------+-------------------+
| Fedora 40 (Clang) | PASS               | PASS             | WARN              |
+-------------------+--------------------+------------------+-------------------+
| Fedora 40         | PASS               | PASS             | WARN              |
+-------------------+--------------------+------------------+-------------------+
| openSUSE Leap 15  | PASS               | PASS             | SKIPPED           |
+-------------------+--------------------+------------------+-------------------+
| RHEL8             | PASS               | PASS             | SKIPPED           |
+-------------------+--------------------+------------------+-------------------+
| RHEL9             | PASS               | PASS             | SKIPPED           |
+-------------------+--------------------+------------------+-------------------+
| Ubuntu 20.04      | PASS               | PASS             | SKIPPED           |
+-------------------+--------------------+------------------+-------------------+
| Ubuntu 22.04      | PASS               | PASS             | WARN              |
+-------------------+--------------------+------------------+-------------------+
| Ubuntu 24.04      | PASS               | PASS             | WARN              |
+-------------------+--------------------+------------------+-------------------+
| Alpine            | PASS               | PASS             | SKIPPED           |
+-------------------+--------------------+------------------+-------------------+
| FreeBSD 13.4      | PASS               | SKIPPED          | SKIPPED           |
+-------------------+--------------------+------------------+-------------------+
| FreeBSD 14.1      | PASS               | SKIPPED          | SKIPPED           |
+-------------------+--------------------+------------------+-------------------+

==== 20 line log output for Ubuntu 24.04 (dpdk_compile_spdk): ====
 --- Failed to get log output --- 
==== End log output ====

Debian 12
	Kernel: Depends on container host
	Compiler: gcc (Debian 12.2.0-14) 12.2.0

CentOS Stream 9
	Kernel: Depends on container host
	Compiler: gcc 11.4.1 20231218 (Red Hat 11.4.1-3)

Fedora 39 (Clang)
	Kernel: Depends on container host
	Compiler: clang 17.0.6 (Fedora 17.0.6-2.fc39)

Fedora 39
	Kernel: Depends on container host
	Compiler: gcc 13.3.1 20240522 (Red Hat 13.3.1-1)

Fedora 40 (Clang)
	Kernel: Depends on container host
	Compiler: clang 18.1.6 (Fedora 18.1.6-3.fc40)

Fedora 40
	Kernel: Depends on container host
	Compiler: gcc 14.2.1 20240801 (Red Hat 14.2.1-1)

openSUSE Leap 15
	Kernel: Depends on container host
	Compiler: gcc (SUSE Linux) 7.5.0

RHEL8
	Kernel: Depends on container host
	Compiler: gcc 8.5.0 20210514 (Red Hat 8.5.0-22)

RHEL9
	Kernel: Depends on container host
	Compiler: gcc 11.4.1 20231218 (Red Hat 11.4.1-3)

Ubuntu 20.04
	Kernel: Depends on container host
	Compiler: gcc (Ubuntu 9.4.0-1ubuntu1~20.04.2) 9.4.0

Ubuntu 22.04
	Kernel: Depends on container host
	Compiler: gcc (Ubuntu 11.4.0-1ubuntu1~22.04) 11.4.0

Ubuntu 24.04
	Kernel: Depends on container host
	Compiler: gcc (Ubuntu 13.2.0-23ubuntu4) 13.2.0

Alpine
	Kernel: Depends on container host
	Compiler: gcc (Alpine 13.2.1_git20240309) 13.2.1 20240309

FreeBSD 13.4
	Kernel: 13.4-RELEASE-p1
	Compiler: clang 18.1.6

FreeBSD 14.1
	Kernel: 14.1-RELEASE-p3
	Compiler: clang 18.1.5

To view detailed results, visit:
https://lab.dpdk.org/results/dashboard/patchsets/31737/

UNH-IOL DPDK Community Lab

To manage your email subscriptions, visit: 
https://lab.dpdk.org/results/dashboard/preferences/subscriptions/