From mboxrd@z Thu Jan  1 00:00:00 1970
Return-Path: <test-report-bounces@dpdk.org>
Received: from mails.dpdk.org (mails.dpdk.org [217.70.189.124])
	by inbox.dpdk.org (Postfix) with ESMTP id BE13A45C18
	for <public@inbox.dpdk.org>; Thu, 31 Oct 2024 03:07:29 +0100 (CET)
Received: from mails.dpdk.org (localhost [127.0.0.1])
	by mails.dpdk.org (Postfix) with ESMTP id 82F7943532;
	Thu, 31 Oct 2024 03:07:29 +0100 (CET)
Received: from mail-pl1-f227.google.com (mail-pl1-f227.google.com
 [209.85.214.227])
 by mails.dpdk.org (Postfix) with ESMTP id 9C883433A9
 for <test-report@dpdk.org>; Thu, 31 Oct 2024 03:07:27 +0100 (CET)
Received: by mail-pl1-f227.google.com with SMTP id
 d9443c01a7336-20e6981ca77so5158025ad.2
 for <test-report@dpdk.org>; Wed, 30 Oct 2024 19:07:27 -0700 (PDT)
DKIM-Signature: v=1; a=rsa-sha256; c=relaxed/relaxed;
 d=iol.unh.edu; s=unh-iol; t=1730340447; x=1730945247; darn=dpdk.org;
 h=references:in-reply-to:cc:to:from:subject:message-id:date:from:to
 :cc:subject:date:message-id:reply-to;
 bh=Q1TIfGzmJhfcAlEMRD4qMHmVJdgF1AZ7WxARQnIpIWU=;
 b=VRNTmSRtgq4Zq+/sG4Deztr8khxZayNwpeVnvarvOlwMQjA8qLMz1QBhOSBrt43P8S
 cmB3kpWiUQ6d33azn9ovczbOwK4gybU7Ny2A00vv3oYTeig+k3gO9KibN6kLvgRhCjxO
 K2GAGztGSP2wMpk9dMlejfpQdiZo5+Qm+3dfI=
X-Google-DKIM-Signature: v=1; a=rsa-sha256; c=relaxed/relaxed;
 d=1e100.net; s=20230601; t=1730340447; x=1730945247;
 h=references:in-reply-to:cc:to:from:subject:message-id:date
 :x-gm-message-state:from:to:cc:subject:date:message-id:reply-to;
 bh=Q1TIfGzmJhfcAlEMRD4qMHmVJdgF1AZ7WxARQnIpIWU=;
 b=NoTel5pkFTfviMwMjZliQHuKBggpj/jVig/HGOd6xJurhBBSC4aktsMBuQmgLAJnLn
 lJ2oyr+FbqSpZVsvrjhiyeBI211yaoNePWoY33LJmZqhRBCubo50nOJu6jtCMboPBpZW
 LrlAmBvkz7/vebbT2cooGeHSyYo620cF7nNlEZVnTcv4sdIIBoebfuIc+lHIa3qPPoSy
 9xUnTMPeccOq2Si3B8dhHTjV7OqzLNiz6gGib/Ao+fLtoKkAxjSUNDOwoAv0Rl6ezRNk
 jaT0Doyng5OAtLpRTsEYDR7pl5HElKpdXlXZuuFVuGQ3oqJYpaRGXbU3kmqStvW39UhV
 w7rA==
X-Gm-Message-State: AOJu0Yz8vYXFIpPYmfbsMMXT2MbdfIACEXCldiRlztqHTv/HN2gHGhvi
 xmQhEtL3saYrjL1hjv6zHdjF0UMinuAElNGYIzlzU8b1rV3FaynPbajbewNnDScXRS0jC3gcITB
 O9ao0X0jTzeh+tdCP8TOilkW/Y2jDEz9sNRrH8Fti7ipaz6PlI2UXJ0Zq
X-Google-Smtp-Source: AGHT+IHDWL6Ojhz9mY1qoZhoaNoZhhuJlCb1ELtNuKiw1wzqJZPj6507eoRu+3vhvqHqCKdzUsZvg8efxNLt
X-Received: by 2002:a17:903:2a84:b0:207:4c7c:743b with SMTP id
 d9443c01a7336-211039ecf51mr23377245ad.0.1730340446665; 
 Wed, 30 Oct 2024 19:07:26 -0700 (PDT)
Received: from postal.iol.unh.edu (postal.iol.unh.edu.
 [2606:4100:3880:1234::84]) by smtp-relay.gmail.com with ESMTPS id
 d9443c01a7336-21105810825sm164615ad.89.2024.10.30.19.07.26
 (version=TLS1_2 cipher=ECDHE-ECDSA-AES128-GCM-SHA256 bits=128/128);
 Wed, 30 Oct 2024 19:07:26 -0700 (PDT)
X-Relaying-Domain: iol.unh.edu
Date: Wed, 30 Oct 2024 19:07:26 -0700 (PDT)
Message-ID: <6722e65e.170a0220.d0d4b.12bcSMTPIN_ADDED_MISSING@mx.google.com>
Received: from [172.21.0.5] (unknown [172.18.0.240])
 by postal.iol.unh.edu (Postfix) with ESMTP id CB1F46052471;
 Wed, 30 Oct 2024 22:07:25 -0400 (EDT)
Subject: |SUCCESS| pw147574-147575 [PATCH] [v2,2/2] net/cnxk: support rte flo
From: dpdklab@iol.unh.edu
To: Test Report <test-report@dpdk.org>
Cc: dpdk-test-reports@iol.unh.edu
In-Reply-To: <20241029073106.2620920-2-psatheesh@marvell.com>
References: <20241029073106.2620920-2-psatheesh@marvell.com>
Content-Type: text/plain
X-BeenThere: test-report@dpdk.org
X-Mailman-Version: 2.1.29
Precedence: list
List-Id: automatic DPDK test reports <test-report.dpdk.org>
List-Unsubscribe: <https://mails.dpdk.org/options/test-report>,
 <mailto:test-report-request@dpdk.org?subject=unsubscribe>
List-Archive: <http://mails.dpdk.org/archives/test-report/>
List-Post: <mailto:test-report@dpdk.org>
List-Help: <mailto:test-report-request@dpdk.org?subject=help>
List-Subscribe: <https://mails.dpdk.org/listinfo/test-report>,
 <mailto:test-report-request@dpdk.org?subject=subscribe>
Errors-To: test-report-bounces@dpdk.org

Test-Label: iol-unit-arm64-testing
Test-Status: SUCCESS
http://dpdk.org/patch/147575

_Testing PASS_

Submitter: Satheesh Paul Antonysamy <psatheesh@marvell.com>
Date: Tuesday, October 29 2024 07:31:06 
DPDK git baseline: Repo:dpdk
  Branch: master
  CommitID:30776b2d8db803538e318baaaef4dcc8711a5745

147574-147575 --> testing pass

Upstream job id: Generic-Unit-Test-DPDK#286210

Test environment and result as below:

+-----------------------------+----------------+--------------+---------------------------+------------------------------+
|         Environment         | dpdk_unit_test | lpm_autotest | cryptodev_sw_zuc_autotest | cryptodev_sw_snow3g_autotest |
+=============================+================+==============+===========================+==============================+
| Debian 12 (arm)             | PASS           | SKIPPED      | PASS                      | PASS                         |
+-----------------------------+----------------+--------------+---------------------------+------------------------------+
| Fedora 39 (ARM)             | PASS           | SKIPPED      | SKIPPED                   | SKIPPED                      |
+-----------------------------+----------------+--------------+---------------------------+------------------------------+
| Ubuntu 22.04 (ARM)          | PASS           | SKIPPED      | SKIPPED                   | SKIPPED                      |
+-----------------------------+----------------+--------------+---------------------------+------------------------------+
| CentOS Stream 9 (ARM)       | PASS           | SKIPPED      | SKIPPED                   | SKIPPED                      |
+-----------------------------+----------------+--------------+---------------------------+------------------------------+
| Fedora 40 (ARM Clang)       | PASS           | SKIPPED      | SKIPPED                   | SKIPPED                      |
+-----------------------------+----------------+--------------+---------------------------+------------------------------+
| Fedora 39 (ARM Clang)       | PASS           | SKIPPED      | SKIPPED                   | SKIPPED                      |
+-----------------------------+----------------+--------------+---------------------------+------------------------------+
| RHEL9 (ARM)                 | PASS           | SKIPPED      | SKIPPED                   | SKIPPED                      |
+-----------------------------+----------------+--------------+---------------------------+------------------------------+
| Fedora 40 (ARM)             | PASS           | SKIPPED      | SKIPPED                   | SKIPPED                      |
+-----------------------------+----------------+--------------+---------------------------+------------------------------+
| Ubuntu 20.04 (ARM)          | PASS           | SKIPPED      | SKIPPED                   | SKIPPED                      |
+-----------------------------+----------------+--------------+---------------------------+------------------------------+
| Ubuntu 24.04 (ARM)          | PASS           | SKIPPED      | SKIPPED                   | SKIPPED                      |
+-----------------------------+----------------+--------------+---------------------------+------------------------------+
| 32-bit Ubuntu 22.04.4 (ARM) | PASS           | SKIPPED      | SKIPPED                   | SKIPPED                      |
+-----------------------------+----------------+--------------+---------------------------+------------------------------+
| Ubuntu 20.04 ARM SVE        | SKIPPED        | PASS         | SKIPPED                   | SKIPPED                      |
+-----------------------------+----------------+--------------+---------------------------+------------------------------+


Debian 12 (arm)
	Kernel: Depends on container host
	Compiler: gcc (Debian 12.2.0-14) 12.2.0

Fedora 39 (ARM)
	Kernel: Depends on container host
	Compiler: gcc 13.3.1 20240522 (Red Hat 13.3.1-1)

Ubuntu 22.04 (ARM)
	Kernel: Depends on container host
	Compiler: gcc (Ubuntu 11.4.0-1ubuntu1~22.04) 11.4.0

CentOS Stream 9 (ARM)
	Kernel: Depends on container host
	Compiler: gcc 11.4.1 20231218 (Red Hat 11.4.1-3)

Fedora 40 (ARM Clang)
	Kernel: Depends on container host
	Compiler: clang 18.1.6 (Fedora 18.1.6-3.fc40)

Fedora 39 (ARM Clang)
	Kernel: Depends on container host
	Compiler: clang 17.0.6 (Fedora 17.0.6-2.fc39)

RHEL9 (ARM)
	Kernel: Depends on container host
	Compiler: gcc 11.4.1 20231218 (Red Hat 11.4.1-3)

Fedora 40 (ARM)
	Kernel: Depends on container host
	Compiler: gcc 14.2.1 20240801 (Red Hat 14.2.1-1)

Ubuntu 20.04 (ARM)
	Kernel: Depends on container host
	Compiler: gcc (Ubuntu 9.4.0-1ubuntu1~20.04.2) 9.4.0

Ubuntu 24.04 (ARM)
	Kernel: Depends on container host
	Compiler: gcc (Ubuntu 13.2.0-23ubuntu4) 13.2.0

32-bit Ubuntu 22.04.4 (ARM)
	Kernel: 5.15.83+ aarch64
	Compiler: gcc (Ubuntu 11.4.0-1ubuntu1~22.04) 11.4.0

Ubuntu 20.04 ARM SVE
	Kernel: Depends on container host
	Compiler: gcc (Ubuntu 10.5.0-1ubuntu1~20.04) 10.5.0

To view detailed results, visit:
https://lab.dpdk.org/results/dashboard/patchsets/31742/

UNH-IOL DPDK Community Lab

To manage your email subscriptions, visit: 
https://lab.dpdk.org/results/dashboard/preferences/subscriptions/