From mboxrd@z Thu Jan  1 00:00:00 1970
Return-Path: <test-report-bounces@dpdk.org>
Received: from mails.dpdk.org (mails.dpdk.org [217.70.189.124])
	by inbox.dpdk.org (Postfix) with ESMTP id E2A1C45C1B
	for <public@inbox.dpdk.org>; Thu, 31 Oct 2024 06:36:07 +0100 (CET)
Received: from mails.dpdk.org (localhost [127.0.0.1])
	by mails.dpdk.org (Postfix) with ESMTP id DA4E843542;
	Thu, 31 Oct 2024 06:36:07 +0100 (CET)
Received: from mail-il1-f227.google.com (mail-il1-f227.google.com
 [209.85.166.227])
 by mails.dpdk.org (Postfix) with ESMTP id F001343541
 for <test-report@dpdk.org>; Thu, 31 Oct 2024 06:36:05 +0100 (CET)
Received: by mail-il1-f227.google.com with SMTP id
 e9e14a558f8ab-3a6ace3b6a5so11505ab.1
 for <test-report@dpdk.org>; Wed, 30 Oct 2024 22:36:05 -0700 (PDT)
DKIM-Signature: v=1; a=rsa-sha256; c=relaxed/relaxed;
 d=iol.unh.edu; s=unh-iol; t=1730352965; x=1730957765; darn=dpdk.org;
 h=references:in-reply-to:cc:to:from:subject:message-id:date:from:to
 :cc:subject:date:message-id:reply-to;
 bh=dx/cF3VdRXsS04eRVkbQiI9QlATiSJ/1smps4F4ScVM=;
 b=W1iLfiaWKylqWw8c0RR5bzYz0OmizDNQ2v1Ee6HdcRsCo8fu+DKf1a6g4yw9S/VTT0
 O+fTTVHxLHBYjfk6NHsrvZukh1mFXcR67nQcCRSXdPrNNCVJF5s6E0ZkOqcqfdVeraFu
 Gg4XHW8yxDv1nqClkdPlw6HCcLSsL2kM06Y9c=
X-Google-DKIM-Signature: v=1; a=rsa-sha256; c=relaxed/relaxed;
 d=1e100.net; s=20230601; t=1730352965; x=1730957765;
 h=references:in-reply-to:cc:to:from:subject:message-id:date
 :x-gm-message-state:from:to:cc:subject:date:message-id:reply-to;
 bh=dx/cF3VdRXsS04eRVkbQiI9QlATiSJ/1smps4F4ScVM=;
 b=wt080ts16BGaf/U60siK7xc/FWlothELI/2IYKiTdZDdTJEunkIdMPE6CedylZ/QUr
 1usqO/86QATwnLyDFIXotZsbFqKsZiaggMxb9NcXwKNfUamxyAsJsouhImmuo7mbOpnr
 7rVQ6veTb2zxgo8n7m3o2YqKSQg2920p0gm/+HMn62skUfn2UKBcR6UVjbQiMekj8Hu3
 kguZOrmij/DmGWOe7kWgovsqCsw0tS37U2BgFCwQL8/HMk2Hy0UvH1Gw+REPbTOyMsET
 BjMih18CvbgBw+DAhBVbJ9dYELLdLyQXWlbuxygjReuDYShYxMfyNS5hrqdlC//RNBu9
 LxEw==
X-Gm-Message-State: AOJu0YxQz8wLbXYENN1Cq9Rfm6koctHYPvDb6SrYNloazzALGUjDFy3c
 NIoyHfw3X2QM1IqOWZOYT9ykep3nhueC06JyiufPx0FW2d30o5HGf5mZ2nFHrSUVfCWKbfeQyTr
 aMsTASCdIx9r8s1zWNF0jB0GYeGrkELGDZdO5u28jiVUTpx1NGSBbMe8S
X-Google-Smtp-Source: AGHT+IEgEqNjJFb120zjkyP2MhtjoOChAjNiQ9E2Y+5tsz7R5bAgc1p/QHUAKQp80dOubaHb2mccfoyeGAtm
X-Received: by 2002:a05:6e02:1c81:b0:3a4:e3a5:806 with SMTP id
 e9e14a558f8ab-3a4ed2fce54mr177979285ab.22.1730352965251; 
 Wed, 30 Oct 2024 22:36:05 -0700 (PDT)
Received: from postal.iol.unh.edu (postal.iol.unh.edu.
 [2606:4100:3880:1234::84]) by smtp-relay.gmail.com with ESMTPS id
 e9e14a558f8ab-3a6a9a2eaebsm265685ab.74.2024.10.30.22.36.05
 (version=TLS1_2 cipher=ECDHE-ECDSA-AES128-GCM-SHA256 bits=128/128);
 Wed, 30 Oct 2024 22:36:05 -0700 (PDT)
X-Relaying-Domain: iol.unh.edu
Date: Wed, 30 Oct 2024 22:36:05 -0700 (PDT)
Message-ID: <67231745.050a0220.31f253.2171SMTPIN_ADDED_MISSING@mx.google.com>
Received: from [172.21.0.7] (unknown [172.18.0.240])
 by postal.iol.unh.edu (Postfix) with ESMTP id B46A86052471;
 Thu, 31 Oct 2024 01:36:04 -0400 (EDT)
Subject: |SUCCESS| pw147743-147745 [PATCH] [v3,2/2] net/ice: increase the max
From: dpdklab@iol.unh.edu
To: Test Report <test-report@dpdk.org>
Cc: dpdk-test-reports@iol.unh.edu
In-Reply-To: <20241030154256.379249-3-sismis@cesnet.cz>
References: <20241030154256.379249-3-sismis@cesnet.cz>
Content-Type: text/plain
X-BeenThere: test-report@dpdk.org
X-Mailman-Version: 2.1.29
Precedence: list
List-Id: automatic DPDK test reports <test-report.dpdk.org>
List-Unsubscribe: <https://mails.dpdk.org/options/test-report>,
 <mailto:test-report-request@dpdk.org?subject=unsubscribe>
List-Archive: <http://mails.dpdk.org/archives/test-report/>
List-Post: <mailto:test-report@dpdk.org>
List-Help: <mailto:test-report-request@dpdk.org?subject=help>
List-Subscribe: <https://mails.dpdk.org/listinfo/test-report>,
 <mailto:test-report-request@dpdk.org?subject=subscribe>
Errors-To: test-report-bounces@dpdk.org

Test-Label: iol-unit-amd64-testing
Test-Status: SUCCESS
http://dpdk.org/patch/147745

_Testing PASS_

Submitter: Lukas Sismis <sismis@cesnet.cz>
Date: Wednesday, October 30 2024 15:42:56 
DPDK git baseline: Repo:dpdk
  Branch: master
  CommitID:1bbd8938e387037baeccfcfa63a8420f0fa30899

147743-147745 --> testing pass

Upstream job id: Generic-Unit-Test-DPDK#286648

Test environment and result as below:

+-------------------+----------------+
|    Environment    | dpdk_unit_test |
+===================+================+
| Fedora 39         | PASS           |
+-------------------+----------------+
| Debian 12         | PASS           |
+-------------------+----------------+
| CentOS Stream 9   | PASS           |
+-------------------+----------------+
| Fedora 39 (Clang) | PASS           |
+-------------------+----------------+
| Fedora 40         | PASS           |
+-------------------+----------------+
| RHEL8             | PASS           |
+-------------------+----------------+
| RHEL9             | PASS           |
+-------------------+----------------+
| Ubuntu 22.04      | PASS           |
+-------------------+----------------+
| Fedora 40 (Clang) | PASS           |
+-------------------+----------------+
| Ubuntu 20.04      | PASS           |
+-------------------+----------------+
| Ubuntu 24.04      | PASS           |
+-------------------+----------------+


Fedora 39
	Kernel: Depends on container host
	Compiler: gcc 13.3.1 20240522 (Red Hat 13.3.1-1)

Debian 12
	Kernel: Depends on container host
	Compiler: gcc (Debian 12.2.0-14) 12.2.0

CentOS Stream 9
	Kernel: Depends on container host
	Compiler: gcc 11.4.1 20231218 (Red Hat 11.4.1-3)

Fedora 39 (Clang)
	Kernel: Depends on container host
	Compiler: clang 17.0.6 (Fedora 17.0.6-2.fc39)

Fedora 40
	Kernel: Depends on container host
	Compiler: gcc 14.2.1 20240801 (Red Hat 14.2.1-1)

RHEL8
	Kernel: Depends on container host
	Compiler: gcc 8.5.0 20210514 (Red Hat 8.5.0-22)

RHEL9
	Kernel: Depends on container host
	Compiler: gcc 11.4.1 20231218 (Red Hat 11.4.1-3)

Ubuntu 22.04
	Kernel: Depends on container host
	Compiler: gcc (Ubuntu 11.4.0-1ubuntu1~22.04) 11.4.0

Fedora 40 (Clang)
	Kernel: Depends on container host
	Compiler: clang 18.1.6 (Fedora 18.1.6-3.fc40)

Ubuntu 20.04
	Kernel: Depends on container host
	Compiler: gcc (Ubuntu 9.4.0-1ubuntu1~20.04.2) 9.4.0

Ubuntu 24.04
	Kernel: Depends on container host
	Compiler: gcc (Ubuntu 13.2.0-23ubuntu4) 13.2.0

To view detailed results, visit:
https://lab.dpdk.org/results/dashboard/patchsets/31777/

UNH-IOL DPDK Community Lab

To manage your email subscriptions, visit: 
https://lab.dpdk.org/results/dashboard/preferences/subscriptions/