From mboxrd@z Thu Jan  1 00:00:00 1970
Return-Path: <test-report-bounces@dpdk.org>
Received: from mails.dpdk.org (mails.dpdk.org [217.70.189.124])
	by inbox.dpdk.org (Postfix) with ESMTP id 4840845C1F
	for <public@inbox.dpdk.org>; Thu, 31 Oct 2024 10:11:09 +0100 (CET)
Received: from mails.dpdk.org (localhost [127.0.0.1])
	by mails.dpdk.org (Postfix) with ESMTP id 43C154060C;
	Thu, 31 Oct 2024 10:11:09 +0100 (CET)
Received: from mail-io1-f100.google.com (mail-io1-f100.google.com
 [209.85.166.100])
 by mails.dpdk.org (Postfix) with ESMTP id 61D5040264
 for <test-report@dpdk.org>; Thu, 31 Oct 2024 10:11:08 +0100 (CET)
Received: by mail-io1-f100.google.com with SMTP id
 ca18e2360f4ac-83aba65556cso27608239f.3
 for <test-report@dpdk.org>; Thu, 31 Oct 2024 02:11:08 -0700 (PDT)
DKIM-Signature: v=1; a=rsa-sha256; c=relaxed/relaxed;
 d=iol.unh.edu; s=unh-iol; t=1730365867; x=1730970667; darn=dpdk.org;
 h=references:in-reply-to:cc:to:from:subject:message-id:date:from:to
 :cc:subject:date:message-id:reply-to;
 bh=5odtVC/qNpp0NR386fQJhGKmtNHfmtbA0RgWWQu/lsA=;
 b=IR4LauyJ7J19oCIy/1ZSTza+BZDsCaK4yASMraUntwRcnUHqfoGxdTa5rcv9Lan7+F
 C7TywrROlgne2rowVkh8zei7Zg6HXHpi3KQLevT6bvPvcFTrddBbbffxCD+aGg+on/5G
 5ibqPz71hblM/UigfHICVX/KZL7914afoIa9M=
X-Google-DKIM-Signature: v=1; a=rsa-sha256; c=relaxed/relaxed;
 d=1e100.net; s=20230601; t=1730365867; x=1730970667;
 h=references:in-reply-to:cc:to:from:subject:message-id:date
 :x-gm-message-state:from:to:cc:subject:date:message-id:reply-to;
 bh=5odtVC/qNpp0NR386fQJhGKmtNHfmtbA0RgWWQu/lsA=;
 b=HWZHFLa5BGgzYhi873hKSb83wJ+/agpdz2Z2ZLvek/uAui4TORNQsqBgY3a0XOZDL/
 SbdulVEnw4GKnj0mhZSbA3iu0NRzy0WJJKmaoeLbiIWIyPsKc+62aRDNix/q3bp+rBW/
 jvv39PZ7EJqD6TIpTpsmAmZa6jCQ/yqMjhUU+s7N94Q1YczI1heZlRIcTqM0EGTyg9Yd
 SaENr71aeNdCZpx51xPrZ7RYVJaO9MheLxD/RPDuDj3mQgesMNFdiaQn7W/SeGhIRbJ+
 uM085IsKxL8BKTc4v+jR5cs1DsAtS3e+YARrivNZh2uhL2SYbFd/Fu7jOfhlACHzskAK
 VNtA==
X-Gm-Message-State: AOJu0YyFeV7BwB7gUlUhoZ8nBOXjfB9JnyXxQ3HFXchZ5H/yVfg3MqzX
 mIsEU3jFZK1YDLkXwv7ByhT219R59WL96iIbUqrRAZ4TBb8D8tygs6dBGE25ogvD2QZlu5QcEPt
 kwwon8qo+GOfmv6+LQOlxN8WkyBKgi27a7ph90knBji1FWLd8s/euiZ/m
X-Google-Smtp-Source: AGHT+IFGfERtysVDW3VYMWtXIWVygrs2gnzoHy4CyAFnxINyGBA/D/bL4/Xujlel4L6SS3krjkbMf6AedPMw
X-Received: by 2002:a92:ca0d:0:b0:3a0:8c5f:90c0 with SMTP id
 e9e14a558f8ab-3a4ed2e2eefmr162991975ab.10.1730365867561; 
 Thu, 31 Oct 2024 02:11:07 -0700 (PDT)
Received: from postal.iol.unh.edu (postal.iol.unh.edu.
 [2606:4100:3880:1234::84]) by smtp-relay.gmail.com with ESMTPS id
 e9e14a558f8ab-3a6a9a29b37sm389355ab.71.2024.10.31.02.11.07
 (version=TLS1_2 cipher=ECDHE-ECDSA-AES128-GCM-SHA256 bits=128/128);
 Thu, 31 Oct 2024 02:11:07 -0700 (PDT)
X-Relaying-Domain: iol.unh.edu
Date: Thu, 31 Oct 2024 02:11:07 -0700 (PDT)
Message-ID: <672349ab.050a0220.27e9b0.2dd0SMTPIN_ADDED_MISSING@mx.google.com>
Received: from [172.21.0.6] (unknown [172.18.0.240])
 by postal.iol.unh.edu (Postfix) with ESMTP id 195A56052471;
 Thu, 31 Oct 2024 05:11:07 -0400 (EDT)
Subject: |SUCCESS| pw147746 [PATCH] common/idpf: add missing newline at end o
From: dpdklab@iol.unh.edu
To: Test Report <test-report@dpdk.org>
Cc: dpdk-test-reports@iol.unh.edu
In-Reply-To: <20241030155235.71293-1-stephen@networkplumber.org>
References: <20241030155235.71293-1-stephen@networkplumber.org>
Content-Type: text/plain
X-BeenThere: test-report@dpdk.org
X-Mailman-Version: 2.1.29
Precedence: list
List-Id: automatic DPDK test reports <test-report.dpdk.org>
List-Unsubscribe: <https://mails.dpdk.org/options/test-report>,
 <mailto:test-report-request@dpdk.org?subject=unsubscribe>
List-Archive: <http://mails.dpdk.org/archives/test-report/>
List-Post: <mailto:test-report@dpdk.org>
List-Help: <mailto:test-report-request@dpdk.org?subject=help>
List-Subscribe: <https://mails.dpdk.org/listinfo/test-report>,
 <mailto:test-report-request@dpdk.org?subject=subscribe>
Errors-To: test-report-bounces@dpdk.org

Test-Label: iol-compile-amd64-testing
Test-Status: SUCCESS
http://dpdk.org/patch/147746

_Testing PASS_

Submitter: Stephen Hemminger <stephen@networkplumber.org>
Date: Wednesday, October 30 2024 15:52:35 
DPDK git baseline: Repo:dpdk
  Branch: master
  CommitID:150f1e8b74e41d4f3f7d60eb1a18379345d6a5b3

147746 --> testing pass

Upstream job id: Generic-DPDK-Compile-Meson#327692

Test environment and result as below:

+-------------------+--------------------+------------------+-------------------+
|    Environment    | dpdk_meson_compile | dpdk_compile_ovs | dpdk_compile_spdk |
+===================+====================+==================+===================+
| FreeBSD 13.4      | PASS               | SKIPPED          | SKIPPED           |
+-------------------+--------------------+------------------+-------------------+
| FreeBSD 14.1      | PASS               | SKIPPED          | SKIPPED           |
+-------------------+--------------------+------------------+-------------------+
| CentOS Stream 9   | PASS               | PASS             | PASS              |
+-------------------+--------------------+------------------+-------------------+
| Debian 12         | PASS               | PASS             | PASS              |
+-------------------+--------------------+------------------+-------------------+
| Fedora 39 (Clang) | PASS               | PASS             | PASS              |
+-------------------+--------------------+------------------+-------------------+
| Fedora 39         | PASS               | PASS             | PASS              |
+-------------------+--------------------+------------------+-------------------+
| Fedora 40 (Clang) | PASS               | PASS             | PASS              |
+-------------------+--------------------+------------------+-------------------+
| Fedora 40         | PASS               | PASS             | PASS              |
+-------------------+--------------------+------------------+-------------------+
| openSUSE Leap 15  | PASS               | PASS             | SKIPPED           |
+-------------------+--------------------+------------------+-------------------+
| RHEL8             | PASS               | PASS             | SKIPPED           |
+-------------------+--------------------+------------------+-------------------+
| RHEL9             | PASS               | PASS             | SKIPPED           |
+-------------------+--------------------+------------------+-------------------+
| Ubuntu 20.04      | PASS               | PASS             | SKIPPED           |
+-------------------+--------------------+------------------+-------------------+
| Ubuntu 22.04      | PASS               | PASS             | PASS              |
+-------------------+--------------------+------------------+-------------------+
| Alpine            | PASS               | PASS             | SKIPPED           |
+-------------------+--------------------+------------------+-------------------+


FreeBSD 13.4
	Kernel: 13.4-RELEASE-p1
	Compiler: clang 18.1.6

FreeBSD 14.1
	Kernel: 14.1-RELEASE-p3
	Compiler: clang 18.1.5

CentOS Stream 9
	Kernel: Depends on container host
	Compiler: gcc 11.4.1 20231218 (Red Hat 11.4.1-3)

Debian 12
	Kernel: Depends on container host
	Compiler: gcc (Debian 12.2.0-14) 12.2.0

Fedora 39 (Clang)
	Kernel: Depends on container host
	Compiler: clang 17.0.6 (Fedora 17.0.6-2.fc39)

Fedora 39
	Kernel: Depends on container host
	Compiler: gcc 13.3.1 20240522 (Red Hat 13.3.1-1)

Fedora 40 (Clang)
	Kernel: Depends on container host
	Compiler: clang 18.1.6 (Fedora 18.1.6-3.fc40)

Fedora 40
	Kernel: Depends on container host
	Compiler: gcc 14.2.1 20240801 (Red Hat 14.2.1-1)

openSUSE Leap 15
	Kernel: Depends on container host
	Compiler: gcc (SUSE Linux) 7.5.0

RHEL8
	Kernel: Depends on container host
	Compiler: gcc 8.5.0 20210514 (Red Hat 8.5.0-22)

RHEL9
	Kernel: Depends on container host
	Compiler: gcc 11.4.1 20231218 (Red Hat 11.4.1-3)

Ubuntu 20.04
	Kernel: Depends on container host
	Compiler: gcc (Ubuntu 9.4.0-1ubuntu1~20.04.2) 9.4.0

Ubuntu 22.04
	Kernel: Depends on container host
	Compiler: gcc (Ubuntu 11.4.0-1ubuntu1~22.04) 11.4.0

Alpine
	Kernel: Depends on container host
	Compiler: gcc (Alpine 13.2.1_git20240309) 13.2.1 20240309

To view detailed results, visit:
https://lab.dpdk.org/results/dashboard/patchsets/31779/

UNH-IOL DPDK Community Lab

To manage your email subscriptions, visit: 
https://lab.dpdk.org/results/dashboard/preferences/subscriptions/