From mboxrd@z Thu Jan  1 00:00:00 1970
Return-Path: <test-report-bounces@dpdk.org>
Received: from mails.dpdk.org (mails.dpdk.org [217.70.189.124])
	by inbox.dpdk.org (Postfix) with ESMTP id D174945C1F
	for <public@inbox.dpdk.org>; Thu, 31 Oct 2024 11:38:31 +0100 (CET)
Received: from mails.dpdk.org (localhost [127.0.0.1])
	by mails.dpdk.org (Postfix) with ESMTP id ADA844356A;
	Thu, 31 Oct 2024 11:38:31 +0100 (CET)
Received: from mail-io1-f99.google.com (mail-io1-f99.google.com
 [209.85.166.99]) by mails.dpdk.org (Postfix) with ESMTP id CD87F40264
 for <test-report@dpdk.org>; Thu, 31 Oct 2024 11:38:30 +0100 (CET)
Received: by mail-io1-f99.google.com with SMTP id
 ca18e2360f4ac-83ab5b4b048so31213839f.2
 for <test-report@dpdk.org>; Thu, 31 Oct 2024 03:38:30 -0700 (PDT)
DKIM-Signature: v=1; a=rsa-sha256; c=relaxed/relaxed;
 d=iol.unh.edu; s=unh-iol; t=1730371110; x=1730975910; darn=dpdk.org;
 h=references:in-reply-to:cc:to:from:subject:message-id:date:from:to
 :cc:subject:date:message-id:reply-to;
 bh=rnG12iJRdnS01z0tL5+1e7IAqcl4sZ3oHrY8m4s+1w8=;
 b=asSJ+tAcoch9XJkUeLDE3IGX0JxK7gsRfUwVQhyrhVloQuEuHX+5jsuqWrlaGiCbkO
 33qw9cDgztNMTYE/9+qUUnqyPO4GzleAz2MYYAnWNdx1NxxUA6IAeelGpbOnr089Q456
 C6P1OYX2uQfFQ0tyq5FvX4ydPrNOdsAuoJ+Zw=
X-Google-DKIM-Signature: v=1; a=rsa-sha256; c=relaxed/relaxed;
 d=1e100.net; s=20230601; t=1730371110; x=1730975910;
 h=references:in-reply-to:cc:to:from:subject:message-id:date
 :x-gm-message-state:from:to:cc:subject:date:message-id:reply-to;
 bh=rnG12iJRdnS01z0tL5+1e7IAqcl4sZ3oHrY8m4s+1w8=;
 b=IYzcnS7wNjvOu1ROs66sULx5DUSjJde71uk6Oei0ANx+vcQkyDcflTtmMbBczCtYef
 m6+SYEQbv1x4Ijuj69wbZqY0WYSeUjE4AtMEzGx/mUFNH/fo0SgJIZhQMWSKtH8Y7ySm
 8EJIoHktLmty2RfS4Kza0DMrhNZYsqFKkLoGOLDiE88sm9V21oXEHvfHnEET/azhVZGq
 e271HCLkJSwAsksNPXS6bJcXeZF8TRtu2dNhkjOdy+KzmRfQDMH69T1Ug4PTC5cyLYdx
 z3yjSXB6+cizoLWDrkIOtoI+tINwdRjC92303J2M4Kj+EaRy6GK0d4azeE5ru0VWXo/g
 MwQg==
X-Gm-Message-State: AOJu0Yy6+Z4IFvKNgZVQYwd0vj2LRoV/cSKhjGQboGETlRHJgUYky/PX
 htkxrTrdeU0/4bQOHkzpDna2L9E0Zja18vcBP0bELa5ShRSCRDAWTdUq/vydC/mzQJ5VYH6uDa3
 a9u7K9sVV+wmx9NG73vMTWiLr1hHuYkeiavyFW9OPwVnLQLjJ+i1bc+DB
X-Google-Smtp-Source: AGHT+IFhXVwSsUB3bQM3HibQ2KpShruN6I58PTb4w1aYsLKvCGESOC2neeuR4iSLVk6gye130OB+JW+MngRj
X-Received: by 2002:a05:6602:6420:b0:83a:b79c:66b6 with SMTP id
 ca18e2360f4ac-83b1c3b0dffmr1975078639f.2.1730371109923; 
 Thu, 31 Oct 2024 03:38:29 -0700 (PDT)
Received: from postal.iol.unh.edu (postal.iol.unh.edu.
 [2606:4100:3880:1234::84]) by smtp-relay.gmail.com with ESMTPS id
 8926c6da1cb9f-4de0496ed5dsm34904173.67.2024.10.31.03.38.29
 (version=TLS1_2 cipher=ECDHE-ECDSA-AES128-GCM-SHA256 bits=128/128);
 Thu, 31 Oct 2024 03:38:29 -0700 (PDT)
X-Relaying-Domain: iol.unh.edu
Date: Thu, 31 Oct 2024 03:38:29 -0700 (PDT)
Message-ID: <67235e25.050a0220.296361.281bSMTPIN_ADDED_MISSING@mx.google.com>
Received: from [172.21.0.5] (unknown [172.18.0.240])
 by postal.iol.unh.edu (Postfix) with ESMTP id 683ED6052471;
 Thu, 31 Oct 2024 06:38:29 -0400 (EDT)
Subject: |SUCCESS| pw147759 [PATCH] Revert "eal/unix: fix thread creation"
From: dpdklab@iol.unh.edu
To: Test Report <test-report@dpdk.org>
Cc: dpdk-test-reports@iol.unh.edu
In-Reply-To: <20241030190945.409721-1-luca.boccassi@gmail.com>
References: <20241030190945.409721-1-luca.boccassi@gmail.com>
Content-Type: text/plain
X-BeenThere: test-report@dpdk.org
X-Mailman-Version: 2.1.29
Precedence: list
List-Id: automatic DPDK test reports <test-report.dpdk.org>
List-Unsubscribe: <https://mails.dpdk.org/options/test-report>,
 <mailto:test-report-request@dpdk.org?subject=unsubscribe>
List-Archive: <http://mails.dpdk.org/archives/test-report/>
List-Post: <mailto:test-report@dpdk.org>
List-Help: <mailto:test-report-request@dpdk.org?subject=help>
List-Subscribe: <https://mails.dpdk.org/listinfo/test-report>,
 <mailto:test-report-request@dpdk.org?subject=subscribe>
Errors-To: test-report-bounces@dpdk.org

Test-Label: iol-unit-amd64-testing
Test-Status: SUCCESS
http://dpdk.org/patch/147759

_Testing PASS_

Submitter: Luca Boccassi <luca.boccassi@gmail.com>
Date: Wednesday, October 30 2024 19:08:41 
DPDK git baseline: Repo:dpdk
  Branch: master
  CommitID:2a682d65f8dbe1e8be9cc2425095827e18c700e3

147759 --> testing pass

Upstream job id: Generic-Unit-Test-DPDK#286855

Test environment and result as below:

+-------------------+----------------+
|    Environment    | dpdk_unit_test |
+===================+================+
| CentOS Stream 9   | PASS           |
+-------------------+----------------+
| Fedora 39         | PASS           |
+-------------------+----------------+
| Debian 12         | PASS           |
+-------------------+----------------+
| Fedora 40 (Clang) | PASS           |
+-------------------+----------------+
| Fedora 40         | PASS           |
+-------------------+----------------+
| Fedora 39 (Clang) | PASS           |
+-------------------+----------------+
| RHEL9             | PASS           |
+-------------------+----------------+
| RHEL8             | PASS           |
+-------------------+----------------+
| Ubuntu 20.04      | PASS           |
+-------------------+----------------+
| Ubuntu 22.04      | PASS           |
+-------------------+----------------+
| Ubuntu 24.04      | PASS           |
+-------------------+----------------+


CentOS Stream 9
	Kernel: Depends on container host
	Compiler: gcc 11.4.1 20231218 (Red Hat 11.4.1-3)

Fedora 39
	Kernel: Depends on container host
	Compiler: gcc 13.3.1 20240522 (Red Hat 13.3.1-1)

Debian 12
	Kernel: Depends on container host
	Compiler: gcc (Debian 12.2.0-14) 12.2.0

Fedora 40 (Clang)
	Kernel: Depends on container host
	Compiler: clang 18.1.6 (Fedora 18.1.6-3.fc40)

Fedora 40
	Kernel: Depends on container host
	Compiler: gcc 14.2.1 20240801 (Red Hat 14.2.1-1)

Fedora 39 (Clang)
	Kernel: Depends on container host
	Compiler: clang 17.0.6 (Fedora 17.0.6-2.fc39)

RHEL9
	Kernel: Depends on container host
	Compiler: gcc 11.4.1 20231218 (Red Hat 11.4.1-3)

RHEL8
	Kernel: Depends on container host
	Compiler: gcc 8.5.0 20210514 (Red Hat 8.5.0-22)

Ubuntu 20.04
	Kernel: Depends on container host
	Compiler: gcc (Ubuntu 9.4.0-1ubuntu1~20.04.2) 9.4.0

Ubuntu 22.04
	Kernel: Depends on container host
	Compiler: gcc (Ubuntu 11.4.0-1ubuntu1~22.04) 11.4.0

Ubuntu 24.04
	Kernel: Depends on container host
	Compiler: gcc (Ubuntu 13.2.0-23ubuntu4) 13.2.0

To view detailed results, visit:
https://lab.dpdk.org/results/dashboard/patchsets/31785/

UNH-IOL DPDK Community Lab

To manage your email subscriptions, visit: 
https://lab.dpdk.org/results/dashboard/preferences/subscriptions/