From mboxrd@z Thu Jan  1 00:00:00 1970
Return-Path: <test-report-bounces@dpdk.org>
Received: from mails.dpdk.org (mails.dpdk.org [217.70.189.124])
	by inbox.dpdk.org (Postfix) with ESMTP id 2E82F45C21
	for <public@inbox.dpdk.org>; Thu, 31 Oct 2024 14:41:30 +0100 (CET)
Received: from mails.dpdk.org (localhost [127.0.0.1])
	by mails.dpdk.org (Postfix) with ESMTP id 2055442F2D;
	Thu, 31 Oct 2024 14:41:30 +0100 (CET)
Received: from mail-yw1-f226.google.com (mail-yw1-f226.google.com
 [209.85.128.226])
 by mails.dpdk.org (Postfix) with ESMTP id 9DBDA4025A
 for <test-report@dpdk.org>; Thu, 31 Oct 2024 14:41:28 +0100 (CET)
Received: by mail-yw1-f226.google.com with SMTP id
 00721157ae682-6e2e3e4f65dso8934857b3.3
 for <test-report@dpdk.org>; Thu, 31 Oct 2024 06:41:28 -0700 (PDT)
DKIM-Signature: v=1; a=rsa-sha256; c=relaxed/relaxed;
 d=iol.unh.edu; s=unh-iol; t=1730382088; x=1730986888; darn=dpdk.org;
 h=references:in-reply-to:cc:to:from:subject:message-id:date:from:to
 :cc:subject:date:message-id:reply-to;
 bh=y1cZSIvsY4tEVQhV211u08w9NifK7CGBF64lWo0BYTM=;
 b=hryUodgBmmA1Nl8+fkDXIhsRJpZZrUz3TFubCOxFDDKdsrml/vKyFtum/HpWz5/afu
 pHdtv7yAQs1ym0bsJ6JcFFwcmB55VBICpunIrHi6BwOj01NIkVGLT2K5AstR9mWNhvax
 ywLxhfzYREr6/mVEAUA9wm0t7fn9/9F5oU4mU=
X-Google-DKIM-Signature: v=1; a=rsa-sha256; c=relaxed/relaxed;
 d=1e100.net; s=20230601; t=1730382088; x=1730986888;
 h=references:in-reply-to:cc:to:from:subject:message-id:date
 :x-gm-message-state:from:to:cc:subject:date:message-id:reply-to;
 bh=y1cZSIvsY4tEVQhV211u08w9NifK7CGBF64lWo0BYTM=;
 b=gHSELtFjq0rqJVd/8XOO4JPJgCTpFfUoj0EOMK0rj7EXBuYgb2OpmobRP61yBGl5/t
 tpDnGxcAsqhdUqwRzO6U+94klsZhq/R+2+/6ofckBroJb+PNmsVLoHQ6LN1UocvXrJ2r
 Xjuts2+HnzTZOTJqb5cBafhis38fNZdmKyzRafAzBQ03ITe1eIJBL+JOerOpoCAH0ozl
 jWzY94bky88/p+AX9HEAutnthufaO81bWYoA2bNJTcgiMrvkq/pdacbgRWTzZdu2nxKi
 NGwKzCP9DwrFLZ/WWAKE5VBUxhs59lvXkeLQD01ROgqGHnBPj1hTQUNMuBIqSYWVXrUY
 8XWg==
X-Gm-Message-State: AOJu0YyoQY/sIEh3W1FBxLyJ0LIp6Nb/d99pTDJgmIZC0QtvhBOC2MqR
 zh+j68048VC+iJYAPb1Wu3z5pqp5gSa3wBC/OEBJ75/oOnmpWCA2bnzolesJLIEiZCz1CaAm0oU
 x9tFIqQWdll6Imc5zpTkdoXw7DnL0Mcqt5dpZpXqe
X-Google-Smtp-Source: AGHT+IFwjfuYn6JXBKPyzxvZlKBPC4KrNkjuVEXe1BrIX6bCr1gMX4vEgwOOdfNmNu840t+X5IyErnih7jdc
X-Received: by 2002:a05:690c:4b0d:b0:6e3:2b25:8972 with SMTP id
 00721157ae682-6ea4ff8b4c9mr46252437b3.21.1730382087953; 
 Thu, 31 Oct 2024 06:41:27 -0700 (PDT)
Received: from postal.iol.unh.edu (postal.iol.unh.edu. [132.177.123.84])
 by smtp-relay.gmail.com with ESMTPS id
 00721157ae682-6ea55c85521sm750517b3.74.2024.10.31.06.41.27
 (version=TLS1_2 cipher=ECDHE-ECDSA-AES128-GCM-SHA256 bits=128/128);
 Thu, 31 Oct 2024 06:41:27 -0700 (PDT)
X-Relaying-Domain: iol.unh.edu
Date: Thu, 31 Oct 2024 06:41:27 -0700 (PDT)
Message-ID: <67238907.0d0a0220.1a29b9.6ceaSMTPIN_ADDED_MISSING@mx.google.com>
Received: from [172.21.0.8] (unknown [172.18.0.240])
 by postal.iol.unh.edu (Postfix) with ESMTP id 9CE476052471;
 Thu, 31 Oct 2024 09:41:27 -0400 (EDT)
Subject: |SUCCESS| pw147761-147767 [PATCH] [v7,7/7] test: add stress test sui
From: dpdklab@iol.unh.edu
To: Test Report <test-report@dpdk.org>
Cc: dpdk-test-reports@iol.unh.edu
In-Reply-To: <20241030212304.104180-8-konstantin.ananyev@huawei.com>
References: <20241030212304.104180-8-konstantin.ananyev@huawei.com>
Content-Type: text/plain
X-BeenThere: test-report@dpdk.org
X-Mailman-Version: 2.1.29
Precedence: list
List-Id: automatic DPDK test reports <test-report.dpdk.org>
List-Unsubscribe: <https://mails.dpdk.org/options/test-report>,
 <mailto:test-report-request@dpdk.org?subject=unsubscribe>
List-Archive: <http://mails.dpdk.org/archives/test-report/>
List-Post: <mailto:test-report@dpdk.org>
List-Help: <mailto:test-report-request@dpdk.org?subject=help>
List-Subscribe: <https://mails.dpdk.org/listinfo/test-report>,
 <mailto:test-report-request@dpdk.org?subject=subscribe>
Errors-To: test-report-bounces@dpdk.org

Test-Label: iol-unit-amd64-testing
Test-Status: SUCCESS
http://dpdk.org/patch/147767

_Testing PASS_

Submitter: Konstantin Ananyev <konstantin.ananyev@huawei.com>
Date: Wednesday, October 30 2024 21:23:04 
DPDK git baseline: Repo:dpdk
  Branch: master
  CommitID:2a682d65f8dbe1e8be9cc2425095827e18c700e3

147761-147767 --> testing pass

Upstream job id: Generic-Unit-Test-DPDK#287021

Test environment and result as below:

+-------------------+----------------+
|    Environment    | dpdk_unit_test |
+===================+================+
| CentOS Stream 9   | PASS           |
+-------------------+----------------+
| Debian 12         | PASS           |
+-------------------+----------------+
| Fedora 39         | PASS           |
+-------------------+----------------+
| Fedora 39 (Clang) | PASS           |
+-------------------+----------------+
| Fedora 40         | PASS           |
+-------------------+----------------+
| Fedora 40 (Clang) | PASS           |
+-------------------+----------------+
| RHEL8             | PASS           |
+-------------------+----------------+
| Ubuntu 20.04      | PASS           |
+-------------------+----------------+
| RHEL9             | PASS           |
+-------------------+----------------+
| Ubuntu 22.04      | PASS           |
+-------------------+----------------+
| Ubuntu 24.04      | PASS           |
+-------------------+----------------+


CentOS Stream 9
	Kernel: Depends on container host
	Compiler: gcc 11.4.1 20231218 (Red Hat 11.4.1-3)

Debian 12
	Kernel: Depends on container host
	Compiler: gcc (Debian 12.2.0-14) 12.2.0

Fedora 39
	Kernel: Depends on container host
	Compiler: gcc 13.3.1 20240522 (Red Hat 13.3.1-1)

Fedora 39 (Clang)
	Kernel: Depends on container host
	Compiler: clang 17.0.6 (Fedora 17.0.6-2.fc39)

Fedora 40
	Kernel: Depends on container host
	Compiler: gcc 14.2.1 20240801 (Red Hat 14.2.1-1)

Fedora 40 (Clang)
	Kernel: Depends on container host
	Compiler: clang 18.1.6 (Fedora 18.1.6-3.fc40)

RHEL8
	Kernel: Depends on container host
	Compiler: gcc 8.5.0 20210514 (Red Hat 8.5.0-22)

Ubuntu 20.04
	Kernel: Depends on container host
	Compiler: gcc (Ubuntu 9.4.0-1ubuntu1~20.04.2) 9.4.0

RHEL9
	Kernel: Depends on container host
	Compiler: gcc 11.4.1 20231218 (Red Hat 11.4.1-3)

Ubuntu 22.04
	Kernel: Depends on container host
	Compiler: gcc (Ubuntu 11.4.0-1ubuntu1~22.04) 11.4.0

Ubuntu 24.04
	Kernel: Depends on container host
	Compiler: gcc (Ubuntu 13.2.0-23ubuntu4) 13.2.0

To view detailed results, visit:
https://lab.dpdk.org/results/dashboard/patchsets/31787/

UNH-IOL DPDK Community Lab

To manage your email subscriptions, visit: 
https://lab.dpdk.org/results/dashboard/preferences/subscriptions/