From mboxrd@z Thu Jan  1 00:00:00 1970
Return-Path: <test-report-bounces@dpdk.org>
Received: from mails.dpdk.org (mails.dpdk.org [217.70.189.124])
	by inbox.dpdk.org (Postfix) with ESMTP id 8DF6D45C24
	for <public@inbox.dpdk.org>; Thu, 31 Oct 2024 16:21:51 +0100 (CET)
Received: from mails.dpdk.org (localhost [127.0.0.1])
	by mails.dpdk.org (Postfix) with ESMTP id 8A75F40273;
	Thu, 31 Oct 2024 16:21:51 +0100 (CET)
Received: from mail-io1-f99.google.com (mail-io1-f99.google.com
 [209.85.166.99]) by mails.dpdk.org (Postfix) with ESMTP id 205304025A
 for <test-report@dpdk.org>; Thu, 31 Oct 2024 16:21:50 +0100 (CET)
Received: by mail-io1-f99.google.com with SMTP id
 ca18e2360f4ac-83aa3ced341so40129439f.0
 for <test-report@dpdk.org>; Thu, 31 Oct 2024 08:21:50 -0700 (PDT)
DKIM-Signature: v=1; a=rsa-sha256; c=relaxed/relaxed;
 d=iol.unh.edu; s=unh-iol; t=1730388109; x=1730992909; darn=dpdk.org;
 h=references:in-reply-to:cc:to:from:subject:message-id:date:from:to
 :cc:subject:date:message-id:reply-to;
 bh=6biP7/C5a1TZxwZM6yLpnYhs+TDQPwWvEiUqZrJjHtA=;
 b=CGuRcMFN0AXO/VCN2+cIb6asFPjBjIDsFIJPaOQAThqrS7Y2eB8DpeuWKHIW/YxVpu
 S3XUxh4cSaRWjfrbseY4gN78sRJtSLY4gCpyiZLMti31a7i3GXs9+B8+9BHalw3kpmGm
 sUQQTJ4GywxwzxODH5CGfd9k+dpaeKhMF8G6M=
X-Google-DKIM-Signature: v=1; a=rsa-sha256; c=relaxed/relaxed;
 d=1e100.net; s=20230601; t=1730388109; x=1730992909;
 h=references:in-reply-to:cc:to:from:subject:message-id:date
 :x-gm-message-state:from:to:cc:subject:date:message-id:reply-to;
 bh=6biP7/C5a1TZxwZM6yLpnYhs+TDQPwWvEiUqZrJjHtA=;
 b=rrjuWZvl/kf0QdN4iBP8BCOUcIsuCSlv9uuGzbvL+SZmnppglDIXq1gFlwpMafkzfW
 OMDrlOpm76FEcQljYzfgVpHUK29UWwNfU7jSwNdZcrjWoBHcKL+H8QuynWIdXY0+y5PT
 UzylYReRM5/GWKtLV2opZ/vtyfEbAXzMJqNHV7ajlv3bUW2b7fWoprMjNj0e52/6+A6t
 YUbSfsUkMJT0sMnvIt5xTAF6KzF7qiVY7zUGqFs3T8JjeL6qtuHpj5M6BFGqiTltRmW5
 /vfCH8EB4PBR8bBNbOheZtHExei/z7x0rfs4+VR6k4MN77h6/6D6G6rth40++n8jTxwL
 UQcg==
X-Gm-Message-State: AOJu0Yyw0l6ekTKnBJuz++HOY0FxjgeJi/NL+l0V5oVbg1oqYa4gX1jg
 jhvwiNZzCkwwhfQbKSQdFkuth0AZ3reOF9Ial7TtwduWXrBg5qpN12oHsDp6sDZdaww/l/9XVYj
 8aggm1h14SBYOJiuZHIAXqIEFx4LiKOwDVw4iJIyF
X-Google-Smtp-Source: AGHT+IEeZjoFo5TcNOz7ByD8sjEYuc7BFUz5eJM92bcYsc4ZqrOj/PP54kbnHzqkDPp5ibl5s4+qctPA/Nbg
X-Received: by 2002:a05:6602:6d1b:b0:83a:9820:f26b with SMTP id
 ca18e2360f4ac-83b64f7309dmr442572039f.2.1730388107876; 
 Thu, 31 Oct 2024 08:21:47 -0700 (PDT)
Received: from postal.iol.unh.edu (postal.iol.unh.edu. [132.177.123.84])
 by smtp-relay.gmail.com with ESMTPS id
 8926c6da1cb9f-4de048dccaasm57891173.48.2024.10.31.08.21.47
 (version=TLS1_2 cipher=ECDHE-ECDSA-AES128-GCM-SHA256 bits=128/128);
 Thu, 31 Oct 2024 08:21:47 -0700 (PDT)
X-Relaying-Domain: iol.unh.edu
Date: Thu, 31 Oct 2024 08:21:47 -0700 (PDT)
Message-ID: <6723a08b.050a0220.10ad7c.40f0SMTPIN_ADDED_MISSING@mx.google.com>
Received: from [172.17.0.5] (unknown [172.18.0.217])
 by postal.iol.unh.edu (Postfix) with ESMTP id 5B9086052471;
 Thu, 31 Oct 2024 11:21:47 -0400 (EDT)
Subject: |SUCCESS| pw147743-147745 [PATCH] [v3,2/2] net/ice: increase the max
From: dpdklab@iol.unh.edu
To: Test Report <test-report@dpdk.org>
Cc: dpdk-test-reports@iol.unh.edu
In-Reply-To: <20241030154256.379249-3-sismis@cesnet.cz>
References: <20241030154256.379249-3-sismis@cesnet.cz>
Content-Type: text/plain
X-BeenThere: test-report@dpdk.org
X-Mailman-Version: 2.1.29
Precedence: list
List-Id: automatic DPDK test reports <test-report.dpdk.org>
List-Unsubscribe: <https://mails.dpdk.org/options/test-report>,
 <mailto:test-report-request@dpdk.org?subject=unsubscribe>
List-Archive: <http://mails.dpdk.org/archives/test-report/>
List-Post: <mailto:test-report@dpdk.org>
List-Help: <mailto:test-report-request@dpdk.org?subject=help>
List-Subscribe: <https://mails.dpdk.org/listinfo/test-report>,
 <mailto:test-report-request@dpdk.org?subject=subscribe>
Errors-To: test-report-bounces@dpdk.org

Test-Label: iol-unit-arm64-testing
Test-Status: SUCCESS
http://dpdk.org/patch/147745

_Testing PASS_

Submitter: Lukas Sismis <sismis@cesnet.cz>
Date: Wednesday, October 30 2024 15:42:56 
DPDK git baseline: Repo:dpdk
  Branch: master
  CommitID:1bbd8938e387037baeccfcfa63a8420f0fa30899

147743-147745 --> testing pass

Upstream job id: Generic-Unit-Test-DPDK#286644

Test environment and result as below:

+-----------------------------+----------------+--------------+---------------------------+------------------------------+
|         Environment         | dpdk_unit_test | lpm_autotest | cryptodev_sw_zuc_autotest | cryptodev_sw_snow3g_autotest |
+=============================+================+==============+===========================+==============================+
| Fedora 39 (ARM)             | PASS           | SKIPPED      | SKIPPED                   | SKIPPED                      |
+-----------------------------+----------------+--------------+---------------------------+------------------------------+
| CentOS Stream 9 (ARM)       | PASS           | SKIPPED      | SKIPPED                   | SKIPPED                      |
+-----------------------------+----------------+--------------+---------------------------+------------------------------+
| Debian 12 (arm)             | PASS           | SKIPPED      | PASS                      | PASS                         |
+-----------------------------+----------------+--------------+---------------------------+------------------------------+
| Fedora 40 (ARM)             | PASS           | SKIPPED      | SKIPPED                   | SKIPPED                      |
+-----------------------------+----------------+--------------+---------------------------+------------------------------+
| Fedora 40 (ARM Clang)       | PASS           | SKIPPED      | SKIPPED                   | SKIPPED                      |
+-----------------------------+----------------+--------------+---------------------------+------------------------------+
| Ubuntu 24.04 (ARM)          | PASS           | SKIPPED      | SKIPPED                   | SKIPPED                      |
+-----------------------------+----------------+--------------+---------------------------+------------------------------+
| Ubuntu 20.04 (ARM)          | PASS           | SKIPPED      | SKIPPED                   | SKIPPED                      |
+-----------------------------+----------------+--------------+---------------------------+------------------------------+
| Fedora 39 (ARM Clang)       | PASS           | SKIPPED      | SKIPPED                   | SKIPPED                      |
+-----------------------------+----------------+--------------+---------------------------+------------------------------+
| RHEL9 (ARM)                 | PASS           | SKIPPED      | SKIPPED                   | SKIPPED                      |
+-----------------------------+----------------+--------------+---------------------------+------------------------------+
| Ubuntu 22.04 (ARM)          | PASS           | SKIPPED      | SKIPPED                   | SKIPPED                      |
+-----------------------------+----------------+--------------+---------------------------+------------------------------+
| 32-bit Ubuntu 22.04.4 (ARM) | PASS           | SKIPPED      | SKIPPED                   | SKIPPED                      |
+-----------------------------+----------------+--------------+---------------------------+------------------------------+
| Ubuntu 20.04 ARM SVE        | SKIPPED        | PASS         | SKIPPED                   | SKIPPED                      |
+-----------------------------+----------------+--------------+---------------------------+------------------------------+


Fedora 39 (ARM)
	Kernel: Depends on container host
	Compiler: gcc 13.3.1 20240522 (Red Hat 13.3.1-1)

CentOS Stream 9 (ARM)
	Kernel: Depends on container host
	Compiler: gcc 11.4.1 20231218 (Red Hat 11.4.1-3)

Debian 12 (arm)
	Kernel: Depends on container host
	Compiler: gcc (Debian 12.2.0-14) 12.2.0

Fedora 40 (ARM)
	Kernel: Depends on container host
	Compiler: gcc 14.2.1 20240801 (Red Hat 14.2.1-1)

Fedora 40 (ARM Clang)
	Kernel: Depends on container host
	Compiler: clang 18.1.6 (Fedora 18.1.6-3.fc40)

Ubuntu 24.04 (ARM)
	Kernel: Depends on container host
	Compiler: gcc (Ubuntu 13.2.0-23ubuntu4) 13.2.0

Ubuntu 20.04 (ARM)
	Kernel: Depends on container host
	Compiler: gcc (Ubuntu 9.4.0-1ubuntu1~20.04.2) 9.4.0

Fedora 39 (ARM Clang)
	Kernel: Depends on container host
	Compiler: clang 17.0.6 (Fedora 17.0.6-2.fc39)

RHEL9 (ARM)
	Kernel: Depends on container host
	Compiler: gcc 11.4.1 20231218 (Red Hat 11.4.1-3)

Ubuntu 22.04 (ARM)
	Kernel: Depends on container host
	Compiler: gcc (Ubuntu 11.4.0-1ubuntu1~22.04) 11.4.0

32-bit Ubuntu 22.04.4 (ARM)
	Kernel: 5.15.83+ aarch64
	Compiler: gcc (Ubuntu 11.4.0-1ubuntu1~22.04) 11.4.0

Ubuntu 20.04 ARM SVE
	Kernel: Depends on container host
	Compiler: gcc (Ubuntu 10.5.0-1ubuntu1~20.04) 10.5.0

To view detailed results, visit:
https://lab.dpdk.org/results/dashboard/patchsets/31777/

UNH-IOL DPDK Community Lab

To manage your email subscriptions, visit: 
https://lab.dpdk.org/results/dashboard/preferences/subscriptions/