From mboxrd@z Thu Jan  1 00:00:00 1970
Return-Path: <test-report-bounces@dpdk.org>
Received: from mails.dpdk.org (mails.dpdk.org [217.70.189.124])
	by inbox.dpdk.org (Postfix) with ESMTP id 0AAA045C24
	for <public@inbox.dpdk.org>; Thu, 31 Oct 2024 16:24:27 +0100 (CET)
Received: from mails.dpdk.org (localhost [127.0.0.1])
	by mails.dpdk.org (Postfix) with ESMTP id D94EE40273;
	Thu, 31 Oct 2024 16:24:26 +0100 (CET)
Received: from mail-qv1-f98.google.com (mail-qv1-f98.google.com
 [209.85.219.98]) by mails.dpdk.org (Postfix) with ESMTP id D47B94025A
 for <test-report@dpdk.org>; Thu, 31 Oct 2024 16:24:25 +0100 (CET)
Received: by mail-qv1-f98.google.com with SMTP id
 6a1803df08f44-6d352707ea7so6665836d6.2
 for <test-report@dpdk.org>; Thu, 31 Oct 2024 08:24:25 -0700 (PDT)
DKIM-Signature: v=1; a=rsa-sha256; c=relaxed/relaxed;
 d=iol.unh.edu; s=unh-iol; t=1730388265; x=1730993065; darn=dpdk.org;
 h=references:in-reply-to:cc:to:from:subject:message-id:date:from:to
 :cc:subject:date:message-id:reply-to;
 bh=cLgoTZ4pnxTMexc89ggIyhwPEKZALRPISDYrSuZBU8I=;
 b=ODsFZlMYEl/5tJPzKtFeYhD0DHAdaXG828sqebrTBdyvhEtfb9qcdtqeHxMsxYwRU1
 /iQI40vqZs/PutI1i/5N3UDIehhtcyIZShYXtEhwRNDpY3g2Fcs1P/MTm8dp+N1JPqCn
 qr9zS3z4qollJx9wluhuSjo9t/lDdMeyZTTkk=
X-Google-DKIM-Signature: v=1; a=rsa-sha256; c=relaxed/relaxed;
 d=1e100.net; s=20230601; t=1730388265; x=1730993065;
 h=references:in-reply-to:cc:to:from:subject:message-id:date
 :x-gm-message-state:from:to:cc:subject:date:message-id:reply-to;
 bh=cLgoTZ4pnxTMexc89ggIyhwPEKZALRPISDYrSuZBU8I=;
 b=eEOe12ro3ha+4sSRvJMYVQw0Fz226dwrE6VhzmLdjzgphwgoJaVcOEV9slIg5A4/Lv
 a8R4aXyGRmO0M30LCgaQZ4bUJY4VgWbafhKsWG2llx8RNI/NiJpxwkRUpsiHvdvK1Hax
 4U8uWQ4EdPyPlVjcgVXEiRKqQBU/njdunlh5YEt5ZthsBLJRYtXzexzGhWmvDkivZxzb
 50Qm54TFDVsoTj9/ay2e+BhWjZHyVDKWhAYC+I40LnI1TdgaM3FAMgfr7xEnKl6utN75
 dpd5s6fDRfPbrWs4ehuY236Pu7RwOtZLTYUcL06+TZTd7bLxSr/csJbAH0l/zsIaHxf3
 p1LQ==
X-Gm-Message-State: AOJu0YwVVC9a1QGsbojO/qs2ZxPFAqUCUUKcUaWfhqWkWlAg0ZCphJeu
 JcJpmrPbEw/IoUnIkXPxaOL7YEFt/zt03radmeOVsBF6B8Jv14pqiXGeHnhO5Y9DXNsKSEXb5kT
 YQ85RGP5V3m3iw/bhWCV//zF5/KKhfqY/rXm081v7
X-Google-Smtp-Source: AGHT+IGt9+sp1VwlGOIlQrs6hrlFkpnEnfT5RCgoK2QC3IkVqYud0tWbHTy2m9P2DEHYbwzkOeIbfDC/ZrMo
X-Received: by 2002:a05:6214:5912:b0:6cb:a3a9:f07a with SMTP id
 6a1803df08f44-6d185837470mr305234706d6.33.1730388265273; 
 Thu, 31 Oct 2024 08:24:25 -0700 (PDT)
Received: from postal.iol.unh.edu (postal.iol.unh.edu. [132.177.123.84])
 by smtp-relay.gmail.com with ESMTPS id
 6a1803df08f44-6d3541792bbsm860246d6.50.2024.10.31.08.24.25
 (version=TLS1_2 cipher=ECDHE-ECDSA-AES128-GCM-SHA256 bits=128/128);
 Thu, 31 Oct 2024 08:24:25 -0700 (PDT)
X-Relaying-Domain: iol.unh.edu
Date: Thu, 31 Oct 2024 08:24:25 -0700 (PDT)
Message-ID: <6723a129.050a0220.1048e7.5bacSMTPIN_ADDED_MISSING@mx.google.com>
Received: from [172.17.0.3] (unknown [172.18.0.217])
 by postal.iol.unh.edu (Postfix) with ESMTP id F00586052471;
 Thu, 31 Oct 2024 11:24:24 -0400 (EDT)
Subject: |SUCCESS| pw147739 [PATCH] [v2] dts: add l2fwd test suite
From: dpdklab@iol.unh.edu
To: Test Report <test-report@dpdk.org>
Cc: dpdk-test-reports@iol.unh.edu
In-Reply-To: <20241030150328.340907-1-thomas.wilks@arm.com>
References: <20241030150328.340907-1-thomas.wilks@arm.com>
Content-Type: text/plain
X-BeenThere: test-report@dpdk.org
X-Mailman-Version: 2.1.29
Precedence: list
List-Id: automatic DPDK test reports <test-report.dpdk.org>
List-Unsubscribe: <https://mails.dpdk.org/options/test-report>,
 <mailto:test-report-request@dpdk.org?subject=unsubscribe>
List-Archive: <http://mails.dpdk.org/archives/test-report/>
List-Post: <mailto:test-report@dpdk.org>
List-Help: <mailto:test-report-request@dpdk.org?subject=help>
List-Subscribe: <https://mails.dpdk.org/listinfo/test-report>,
 <mailto:test-report-request@dpdk.org?subject=subscribe>
Errors-To: test-report-bounces@dpdk.org

Test-Label: iol-unit-amd64-testing
Test-Status: SUCCESS
http://dpdk.org/patch/147739

_Testing PASS_

Submitter: Thomas Wilks <thomas.wilks@arm.com>
Date: Wednesday, October 30 2024 15:03:28 
DPDK git baseline: Repo:dpdk
  Branch: master
  CommitID:2a682d65f8dbe1e8be9cc2425095827e18c700e3

147739 --> testing pass

Upstream job id: Generic-Unit-Test-DPDK#287102

Test environment and result as below:

+-------------------+----------------+
|    Environment    | dpdk_unit_test |
+===================+================+
| Debian 12         | PASS           |
+-------------------+----------------+
| CentOS Stream 9   | PASS           |
+-------------------+----------------+
| RHEL8             | PASS           |
+-------------------+----------------+
| Fedora 40 (Clang) | PASS           |
+-------------------+----------------+
| Fedora 39 (Clang) | PASS           |
+-------------------+----------------+
| Ubuntu 22.04      | PASS           |
+-------------------+----------------+
| RHEL9             | PASS           |
+-------------------+----------------+
| Fedora 40         | PASS           |
+-------------------+----------------+
| Ubuntu 20.04      | PASS           |
+-------------------+----------------+
| Fedora 39         | PASS           |
+-------------------+----------------+
| Ubuntu 24.04      | PASS           |
+-------------------+----------------+


Debian 12
	Kernel: Depends on container host
	Compiler: gcc (Debian 12.2.0-14) 12.2.0

CentOS Stream 9
	Kernel: Depends on container host
	Compiler: gcc 11.4.1 20231218 (Red Hat 11.4.1-3)

RHEL8
	Kernel: Depends on container host
	Compiler: gcc 8.5.0 20210514 (Red Hat 8.5.0-22)

Fedora 40 (Clang)
	Kernel: Depends on container host
	Compiler: clang 18.1.6 (Fedora 18.1.6-3.fc40)

Fedora 39 (Clang)
	Kernel: Depends on container host
	Compiler: clang 17.0.6 (Fedora 17.0.6-2.fc39)

Ubuntu 22.04
	Kernel: Depends on container host
	Compiler: gcc (Ubuntu 11.4.0-1ubuntu1~22.04) 11.4.0

RHEL9
	Kernel: Depends on container host
	Compiler: gcc 11.4.1 20231218 (Red Hat 11.4.1-3)

Fedora 40
	Kernel: Depends on container host
	Compiler: gcc 14.2.1 20240801 (Red Hat 14.2.1-1)

Ubuntu 20.04
	Kernel: Depends on container host
	Compiler: gcc (Ubuntu 9.4.0-1ubuntu1~20.04.2) 9.4.0

Fedora 39
	Kernel: Depends on container host
	Compiler: gcc 13.3.1 20240522 (Red Hat 13.3.1-1)

Ubuntu 24.04
	Kernel: Depends on container host
	Compiler: gcc (Ubuntu 13.2.0-23ubuntu4) 13.2.0

To view detailed results, visit:
https://lab.dpdk.org/results/dashboard/patchsets/31774/

UNH-IOL DPDK Community Lab

To manage your email subscriptions, visit: 
https://lab.dpdk.org/results/dashboard/preferences/subscriptions/