From mboxrd@z Thu Jan  1 00:00:00 1970
Return-Path: <test-report-bounces@dpdk.org>
Received: from mails.dpdk.org (mails.dpdk.org [217.70.189.124])
	by inbox.dpdk.org (Postfix) with ESMTP id A47AF45C24
	for <public@inbox.dpdk.org>; Thu, 31 Oct 2024 17:09:55 +0100 (CET)
Received: from mails.dpdk.org (localhost [127.0.0.1])
	by mails.dpdk.org (Postfix) with ESMTP id 7836740273;
	Thu, 31 Oct 2024 17:09:55 +0100 (CET)
Received: from mail-pl1-f225.google.com (mail-pl1-f225.google.com
 [209.85.214.225])
 by mails.dpdk.org (Postfix) with ESMTP id 0580B4025A
 for <test-report@dpdk.org>; Thu, 31 Oct 2024 17:09:54 +0100 (CET)
Received: by mail-pl1-f225.google.com with SMTP id
 d9443c01a7336-20cb47387ceso11205655ad.1
 for <test-report@dpdk.org>; Thu, 31 Oct 2024 09:09:53 -0700 (PDT)
DKIM-Signature: v=1; a=rsa-sha256; c=relaxed/relaxed;
 d=iol.unh.edu; s=unh-iol; t=1730390993; x=1730995793; darn=dpdk.org;
 h=references:in-reply-to:cc:to:from:subject:message-id:date:from:to
 :cc:subject:date:message-id:reply-to;
 bh=PzYSlX1feF7QbY0dAa4okrHnJgTAIxVwcMto28F2Yi8=;
 b=GG8zYmxklf2LW2qjVjfcw7+we8XiFb93qhvbxUEBvzOtugh2u8dValWbhUPbj8+RRE
 9UcaSo7eg+E3SOhZwaoZ9K2N3w4zIJcve9S+1IhFxnxf3+4TQCw0FtDD2utu7Ifw0wgu
 Nj6t71w7QdR0IKbzLT6J4bb7r/6Fxb1h3QM9Q=
X-Google-DKIM-Signature: v=1; a=rsa-sha256; c=relaxed/relaxed;
 d=1e100.net; s=20230601; t=1730390993; x=1730995793;
 h=references:in-reply-to:cc:to:from:subject:message-id:date
 :x-gm-message-state:from:to:cc:subject:date:message-id:reply-to;
 bh=PzYSlX1feF7QbY0dAa4okrHnJgTAIxVwcMto28F2Yi8=;
 b=Q2Ek+pOA7krtRntOJnm6xIix/EZAbeLbFtajOCz7oNK+HU8Aro1bcX7rLc3NJmOrpP
 HBkcYX1iUWUaCnI3r11eERVjIlJ89DsihGrFmhQIqPaxL9/uiSVKPY8N73fbWaNSrjse
 FcH/+jMVsZXTfotn3U43RCQFNur4iUdkiiWiJ9Y2V4y3YnIkES2SQFot+bykHolK91s9
 Ky+gFoHXznAmZF3sbhG30FJFwEXPyKwhg4q2KF+E+DHhN4gKeS5TFKGWRlp9rMCM/fmJ
 Lzh0BE5HVDYF+I50zEBB1HeP9IbUY7FK1UstliciSN0iGeyaC5f1L+49r2RNNWxbL5k9
 KUWQ==
X-Gm-Message-State: AOJu0YyFRaOayaNLf5fAIIit6Olq17D3RRjNLW4202FCdSvo5MT+3aLr
 hBjXfVL0jeVu/XVCqs8l5ekIVLNT5IIs0dX1m0yFBii0FqLXyV2Zh7pC0ERdXtX0q4/gYzwpm4D
 3vPPYMjrCBuNKdGlfuYIKEA1PeCFbix3vTAZ2QlJE
X-Google-Smtp-Source: AGHT+IGABXDyS7ZE4fdNlCWFaSwd7/RpMdgQE96hRc0oN+oyYDUjKxkHThi989ctNFyaZBqhrZWrYFdX7zlu
X-Received: by 2002:a17:903:228b:b0:20b:fd73:32bb with SMTP id
 d9443c01a7336-210c6872da0mr256649825ad.2.1730390993123; 
 Thu, 31 Oct 2024 09:09:53 -0700 (PDT)
Received: from postal.iol.unh.edu (postal.iol.unh.edu. [132.177.123.84])
 by smtp-relay.gmail.com with ESMTPS id
 d9443c01a7336-2110586959bsm644235ad.148.2024.10.31.09.09.53
 (version=TLS1_2 cipher=ECDHE-ECDSA-AES128-GCM-SHA256 bits=128/128);
 Thu, 31 Oct 2024 09:09:53 -0700 (PDT)
X-Relaying-Domain: iol.unh.edu
Date: Thu, 31 Oct 2024 09:09:53 -0700 (PDT)
Message-ID: <6723abd1.170a0220.2d0a9d.4554SMTPIN_ADDED_MISSING@mx.google.com>
Received: from [172.17.0.2] (unknown [172.18.0.217])
 by postal.iol.unh.edu (Postfix) with ESMTP id 95E836052471;
 Thu, 31 Oct 2024 12:09:52 -0400 (EDT)
Subject: |SUCCESS| pw147760 [PATCH] [v2] Revert "eal/unix: fix thread creatio
From: dpdklab@iol.unh.edu
To: Test Report <test-report@dpdk.org>
Cc: dpdk-test-reports@iol.unh.edu
In-Reply-To: <20241030203122.416198-1-luca.boccassi@gmail.com>
References: <20241030203122.416198-1-luca.boccassi@gmail.com>
Content-Type: text/plain
X-BeenThere: test-report@dpdk.org
X-Mailman-Version: 2.1.29
Precedence: list
List-Id: automatic DPDK test reports <test-report.dpdk.org>
List-Unsubscribe: <https://mails.dpdk.org/options/test-report>,
 <mailto:test-report-request@dpdk.org?subject=unsubscribe>
List-Archive: <http://mails.dpdk.org/archives/test-report/>
List-Post: <mailto:test-report@dpdk.org>
List-Help: <mailto:test-report-request@dpdk.org?subject=help>
List-Subscribe: <https://mails.dpdk.org/listinfo/test-report>,
 <mailto:test-report-request@dpdk.org?subject=subscribe>
Errors-To: test-report-bounces@dpdk.org

Test-Label: iol-compile-amd64-testing
Test-Status: SUCCESS
http://dpdk.org/patch/147760

_Testing PASS_

Submitter: Luca Boccassi <luca.boccassi@gmail.com>
Date: Wednesday, October 30 2024 20:30:59 
DPDK git baseline: Repo:dpdk
  Branch: master
  CommitID:2a682d65f8dbe1e8be9cc2425095827e18c700e3

147760 --> testing pass

Upstream job id: Generic-DPDK-Compile-Meson#328134

Test environment and result as below:

+-------------------+--------------------+------------------+-------------------+
|    Environment    | dpdk_meson_compile | dpdk_compile_ovs | dpdk_compile_spdk |
+===================+====================+==================+===================+
| FreeBSD 13.4      | PASS               | SKIPPED          | SKIPPED           |
+-------------------+--------------------+------------------+-------------------+
| FreeBSD 14.1      | PASS               | SKIPPED          | SKIPPED           |
+-------------------+--------------------+------------------+-------------------+
| CentOS Stream 9   | PASS               | PASS             | PASS              |
+-------------------+--------------------+------------------+-------------------+
| Debian 12         | PASS               | PASS             | PASS              |
+-------------------+--------------------+------------------+-------------------+
| Fedora 39 (Clang) | PASS               | PASS             | PASS              |
+-------------------+--------------------+------------------+-------------------+
| Fedora 39         | PASS               | PASS             | PASS              |
+-------------------+--------------------+------------------+-------------------+
| Fedora 40 (Clang) | PASS               | PASS             | PASS              |
+-------------------+--------------------+------------------+-------------------+
| Fedora 40         | PASS               | PASS             | PASS              |
+-------------------+--------------------+------------------+-------------------+
| RHEL8             | PASS               | PASS             | SKIPPED           |
+-------------------+--------------------+------------------+-------------------+
| openSUSE Leap 15  | PASS               | PASS             | SKIPPED           |
+-------------------+--------------------+------------------+-------------------+


FreeBSD 13.4
	Kernel: 13.4-RELEASE-p1
	Compiler: clang 18.1.6

FreeBSD 14.1
	Kernel: 14.1-RELEASE-p3
	Compiler: clang 18.1.5

CentOS Stream 9
	Kernel: Depends on container host
	Compiler: gcc 11.4.1 20231218 (Red Hat 11.4.1-3)

Debian 12
	Kernel: Depends on container host
	Compiler: gcc (Debian 12.2.0-14) 12.2.0

Fedora 39 (Clang)
	Kernel: Depends on container host
	Compiler: clang 17.0.6 (Fedora 17.0.6-2.fc39)

Fedora 39
	Kernel: Depends on container host
	Compiler: gcc 13.3.1 20240522 (Red Hat 13.3.1-1)

Fedora 40 (Clang)
	Kernel: Depends on container host
	Compiler: clang 18.1.6 (Fedora 18.1.6-3.fc40)

Fedora 40
	Kernel: Depends on container host
	Compiler: gcc 14.2.1 20240801 (Red Hat 14.2.1-1)

RHEL8
	Kernel: Depends on container host
	Compiler: gcc 8.5.0 20210514 (Red Hat 8.5.0-22)

openSUSE Leap 15
	Kernel: Depends on container host
	Compiler: gcc (SUSE Linux) 7.5.0

To view detailed results, visit:
https://lab.dpdk.org/results/dashboard/patchsets/31786/

UNH-IOL DPDK Community Lab

To manage your email subscriptions, visit: 
https://lab.dpdk.org/results/dashboard/preferences/subscriptions/