From mboxrd@z Thu Jan  1 00:00:00 1970
Return-Path: <test-report-bounces@dpdk.org>
Received: from mails.dpdk.org (mails.dpdk.org [217.70.189.124])
	by inbox.dpdk.org (Postfix) with ESMTP id 9650F45BE6
	for <public@inbox.dpdk.org>; Thu, 31 Oct 2024 23:42:52 +0100 (CET)
Received: from mails.dpdk.org (localhost [127.0.0.1])
	by mails.dpdk.org (Postfix) with ESMTP id 929184028A;
	Thu, 31 Oct 2024 23:42:52 +0100 (CET)
Received: from mail-yb1-f227.google.com (mail-yb1-f227.google.com
 [209.85.219.227])
 by mails.dpdk.org (Postfix) with ESMTP id BD59140264
 for <test-report@dpdk.org>; Thu, 31 Oct 2024 23:42:40 +0100 (CET)
Received: by mail-yb1-f227.google.com with SMTP id
 3f1490d57ef6-e309d50f194so1423213276.3
 for <test-report@dpdk.org>; Thu, 31 Oct 2024 15:42:40 -0700 (PDT)
DKIM-Signature: v=1; a=rsa-sha256; c=relaxed/relaxed;
 d=iol.unh.edu; s=unh-iol; t=1730414560; x=1731019360; darn=dpdk.org;
 h=references:in-reply-to:cc:to:from:subject:message-id:date:from:to
 :cc:subject:date:message-id:reply-to;
 bh=pM+DtrljhdSBAm39kaFGVpk1RPCV0rItdtaUoZfU1IY=;
 b=Lkc2uas0eC/M3NwlPPsqLd0nf8wNTxIoLMtH0MnIwUi5cE3PEvtIhjARmCthtTfLOU
 GpYZYian1IEces6FY+az5iYKl/psHRqYb93iH7IgBnp5AR+4dPW5UTHAsTWlo//ivecp
 Z2xNEsiO5Fv7x6tPuuDEWJ66ZytSI9NiBS1QA=
X-Google-DKIM-Signature: v=1; a=rsa-sha256; c=relaxed/relaxed;
 d=1e100.net; s=20230601; t=1730414560; x=1731019360;
 h=references:in-reply-to:cc:to:from:subject:message-id:date
 :x-gm-message-state:from:to:cc:subject:date:message-id:reply-to;
 bh=pM+DtrljhdSBAm39kaFGVpk1RPCV0rItdtaUoZfU1IY=;
 b=gNY+GxnUHrkYAEkz9sJmp3WwNzPtuKzOQQS9Hn2PSAbf2rWUw7QPFR5CRBAvAoSVfo
 bq5pUA1CJlqiqABQ0pAjuBW0PEsthrv5OzEQfz4TtcD4k+3ux4J1YeTieV7mOmUzoGeB
 kh3qJw4eRrSjQfv2IYyM+ZC1kVa9fGrrY3+VQvcoraemma6l/pDFMJHU2gaoyVQjW3Eo
 x82DkWxryyA22U/2KblRv7TkUmznGTzyIfOcIiYH8wwDjeCQJTHqwmeuJr+ZQ867JZiU
 mB7oWTIMStKxFAhNJ/lGVTE37jRTSP/7aItid+uuHxBiLI3w6JLCS4Ktw8t1QzDKWwC8
 +cPw==
X-Gm-Message-State: AOJu0YzTKhi2wwqT1uIEvXR2Ag6xFb/8CKx7bv5x4EKWV7Q9KbGP4xBc
 nXHy+XQC0H7ZiEGsmOtbZPYyJ7T3Gzud+xzAsmLOh447vKNBBaWczl59vo2q87MIKTrGsvhr1N/
 xwfurUs1VCXza0TP4LQWdKcqP1N9GDumL5V37yEyl
X-Google-Smtp-Source: AGHT+IFEhlVCJfHsaKUoS2NEje8G+BPewF22owdDHnm/JXOqIFGQh5ZJss5oZUnvZecDdMHURjVidbZf6rAb
X-Received: by 2002:a05:6902:2485:b0:e28:e052:1354 with SMTP id
 3f1490d57ef6-e30cf432381mr9860806276.26.1730414560071; 
 Thu, 31 Oct 2024 15:42:40 -0700 (PDT)
Received: from postal.iol.unh.edu (postal.iol.unh.edu. [132.177.123.84])
 by smtp-relay.gmail.com with ESMTPS id
 3f1490d57ef6-e30e8a5425csm53825276.7.2024.10.31.15.42.40
 (version=TLS1_2 cipher=ECDHE-ECDSA-AES128-GCM-SHA256 bits=128/128);
 Thu, 31 Oct 2024 15:42:40 -0700 (PDT)
X-Relaying-Domain: iol.unh.edu
Date: Thu, 31 Oct 2024 15:42:40 -0700 (PDT)
Message-ID: <672407e0.050a0220.f6869.2fc7SMTPIN_ADDED_MISSING@mx.google.com>
Received: from [172.21.0.7] (unknown [172.18.0.240])
 by postal.iol.unh.edu (Postfix) with ESMTP id B79576052471;
 Thu, 31 Oct 2024 18:42:39 -0400 (EDT)
Subject: |SUCCESS| pw147759 [PATCH] Revert "eal/unix: fix thread creation"
From: dpdklab@iol.unh.edu
To: Test Report <test-report@dpdk.org>
Cc: dpdk-test-reports@iol.unh.edu
In-Reply-To: <20241030190945.409721-1-luca.boccassi@gmail.com>
References: <20241030190945.409721-1-luca.boccassi@gmail.com>
Content-Type: text/plain
X-BeenThere: test-report@dpdk.org
X-Mailman-Version: 2.1.29
Precedence: list
List-Id: automatic DPDK test reports <test-report.dpdk.org>
List-Unsubscribe: <https://mails.dpdk.org/options/test-report>,
 <mailto:test-report-request@dpdk.org?subject=unsubscribe>
List-Archive: <http://mails.dpdk.org/archives/test-report/>
List-Post: <mailto:test-report@dpdk.org>
List-Help: <mailto:test-report-request@dpdk.org?subject=help>
List-Subscribe: <https://mails.dpdk.org/listinfo/test-report>,
 <mailto:test-report-request@dpdk.org?subject=subscribe>
Errors-To: test-report-bounces@dpdk.org

Test-Label: iol-unit-arm64-testing
Test-Status: SUCCESS
http://dpdk.org/patch/147759

_Testing PASS_

Submitter: Luca Boccassi <luca.boccassi@gmail.com>
Date: Wednesday, October 30 2024 19:08:41 
DPDK git baseline: Repo:dpdk
  Branch: master
  CommitID:2a682d65f8dbe1e8be9cc2425095827e18c700e3

147759 --> testing pass

Upstream job id: Generic-Unit-Test-DPDK#286871

Test environment and result as below:

+-----------------------------+----------------+--------------+---------------------------+------------------------------+
|         Environment         | dpdk_unit_test | lpm_autotest | cryptodev_sw_zuc_autotest | cryptodev_sw_snow3g_autotest |
+=============================+================+==============+===========================+==============================+
| CentOS Stream 9 (ARM)       | PASS           | SKIPPED      | SKIPPED                   | SKIPPED                      |
+-----------------------------+----------------+--------------+---------------------------+------------------------------+
| Fedora 39 (ARM)             | PASS           | SKIPPED      | SKIPPED                   | SKIPPED                      |
+-----------------------------+----------------+--------------+---------------------------+------------------------------+
| Debian 12 (arm)             | PASS           | SKIPPED      | PASS                      | PASS                         |
+-----------------------------+----------------+--------------+---------------------------+------------------------------+
| Fedora 39 (ARM Clang)       | PASS           | SKIPPED      | SKIPPED                   | SKIPPED                      |
+-----------------------------+----------------+--------------+---------------------------+------------------------------+
| Fedora 40 (ARM Clang)       | PASS           | SKIPPED      | SKIPPED                   | SKIPPED                      |
+-----------------------------+----------------+--------------+---------------------------+------------------------------+
| Fedora 40 (ARM)             | PASS           | SKIPPED      | SKIPPED                   | SKIPPED                      |
+-----------------------------+----------------+--------------+---------------------------+------------------------------+
| RHEL9 (ARM)                 | PASS           | SKIPPED      | SKIPPED                   | SKIPPED                      |
+-----------------------------+----------------+--------------+---------------------------+------------------------------+
| Ubuntu 22.04 (ARM)          | PASS           | SKIPPED      | SKIPPED                   | SKIPPED                      |
+-----------------------------+----------------+--------------+---------------------------+------------------------------+
| Ubuntu 20.04 (ARM)          | PASS           | SKIPPED      | SKIPPED                   | SKIPPED                      |
+-----------------------------+----------------+--------------+---------------------------+------------------------------+
| Ubuntu 24.04 (ARM)          | PASS           | SKIPPED      | SKIPPED                   | SKIPPED                      |
+-----------------------------+----------------+--------------+---------------------------+------------------------------+
| 32-bit Ubuntu 22.04.4 (ARM) | PASS           | SKIPPED      | SKIPPED                   | SKIPPED                      |
+-----------------------------+----------------+--------------+---------------------------+------------------------------+
| Ubuntu 20.04 ARM SVE        | SKIPPED        | PASS         | SKIPPED                   | SKIPPED                      |
+-----------------------------+----------------+--------------+---------------------------+------------------------------+


CentOS Stream 9 (ARM)
	Kernel: Depends on container host
	Compiler: gcc 11.4.1 20231218 (Red Hat 11.4.1-3)

Fedora 39 (ARM)
	Kernel: Depends on container host
	Compiler: gcc 13.3.1 20240522 (Red Hat 13.3.1-1)

Debian 12 (arm)
	Kernel: Depends on container host
	Compiler: gcc (Debian 12.2.0-14) 12.2.0

Fedora 39 (ARM Clang)
	Kernel: Depends on container host
	Compiler: clang 17.0.6 (Fedora 17.0.6-2.fc39)

Fedora 40 (ARM Clang)
	Kernel: Depends on container host
	Compiler: clang 18.1.6 (Fedora 18.1.6-3.fc40)

Fedora 40 (ARM)
	Kernel: Depends on container host
	Compiler: gcc 14.2.1 20240801 (Red Hat 14.2.1-1)

RHEL9 (ARM)
	Kernel: Depends on container host
	Compiler: gcc 11.4.1 20231218 (Red Hat 11.4.1-3)

Ubuntu 22.04 (ARM)
	Kernel: Depends on container host
	Compiler: gcc (Ubuntu 11.4.0-1ubuntu1~22.04) 11.4.0

Ubuntu 20.04 (ARM)
	Kernel: Depends on container host
	Compiler: gcc (Ubuntu 9.4.0-1ubuntu1~20.04.2) 9.4.0

Ubuntu 24.04 (ARM)
	Kernel: Depends on container host
	Compiler: gcc (Ubuntu 13.2.0-23ubuntu4) 13.2.0

32-bit Ubuntu 22.04.4 (ARM)
	Kernel: 5.15.83+ aarch64
	Compiler: gcc (Ubuntu 11.4.0-1ubuntu1~22.04) 11.4.0

Ubuntu 20.04 ARM SVE
	Kernel: Depends on container host
	Compiler: gcc (Ubuntu 10.5.0-1ubuntu1~20.04) 10.5.0

To view detailed results, visit:
https://lab.dpdk.org/results/dashboard/patchsets/31785/

UNH-IOL DPDK Community Lab

To manage your email subscriptions, visit: 
https://lab.dpdk.org/results/dashboard/preferences/subscriptions/