From mboxrd@z Thu Jan  1 00:00:00 1970
Return-Path: <test-report-bounces@dpdk.org>
Received: from mails.dpdk.org (mails.dpdk.org [217.70.189.124])
	by inbox.dpdk.org (Postfix) with ESMTP id ACA7245BE6
	for <public@inbox.dpdk.org>; Thu, 31 Oct 2024 23:43:20 +0100 (CET)
Received: from mails.dpdk.org (localhost [127.0.0.1])
	by mails.dpdk.org (Postfix) with ESMTP id A8B284028A;
	Thu, 31 Oct 2024 23:43:20 +0100 (CET)
Received: from mail-ua1-f97.google.com (mail-ua1-f97.google.com
 [209.85.222.97]) by mails.dpdk.org (Postfix) with ESMTP id 7DF0840264
 for <test-report@dpdk.org>; Thu, 31 Oct 2024 23:43:19 +0100 (CET)
Received: by mail-ua1-f97.google.com with SMTP id
 a1e0cc1a2514c-84fd50f2117so415147241.1
 for <test-report@dpdk.org>; Thu, 31 Oct 2024 15:43:19 -0700 (PDT)
DKIM-Signature: v=1; a=rsa-sha256; c=relaxed/relaxed;
 d=iol.unh.edu; s=unh-iol; t=1730414599; x=1731019399; darn=dpdk.org;
 h=references:in-reply-to:cc:to:from:subject:message-id:date:from:to
 :cc:subject:date:message-id:reply-to;
 bh=PCTFaUIMvXQvZvkBiHHkpEBOUPHtmoty/q0xPbCdeWo=;
 b=ZSW0ITm+wCaLZpNOXsB9PMOAaM8cx7eA1w9OHlpxwUXuHT0CVXu3+1mTu4wp+ErpqD
 3DbTj4e368e0jkt7l3jN8/5DkQHBsixsQFmrwOPUO1XzFxwzUr9xILHseRhfNBDCIi0f
 3H4gQdA+Yhp8KYOScYbhezDVP5BNPRDxgpnw4=
X-Google-DKIM-Signature: v=1; a=rsa-sha256; c=relaxed/relaxed;
 d=1e100.net; s=20230601; t=1730414599; x=1731019399;
 h=references:in-reply-to:cc:to:from:subject:message-id:date
 :x-gm-message-state:from:to:cc:subject:date:message-id:reply-to;
 bh=PCTFaUIMvXQvZvkBiHHkpEBOUPHtmoty/q0xPbCdeWo=;
 b=NcnSehe8FKlw4i2yuQ2LzaRoxHZuXDIiorKyaJ+xQK7U1sqrQrDcNBwjRAtgYxl76x
 GhvePvCDkfkltX1NBcGDmggmoMQJSOac9anfV8YT4pysYJtGJ8++/QETR4ywkSM0iPrM
 FPnuiySAIxX/ZivGlkO9kIb2tNF8AU+4jhuAaGPBmFv0UE4SKXaGb9ngeF//Z4PZAR2C
 onB0wS1dNpfrr7VgDsjQDaElaKHD98jIJ8clQLN9qciulR3lMShAKY5YC+h2cPoSFJTn
 vtsM+/Pr2sRUgNHluo1yRtF1N8zQQRdhW6OzLkt3+ZrVeKseilMoXja9tLdfXBmRwLv9
 BEIA==
X-Gm-Message-State: AOJu0YzcZggm7hYAEwuN50ZZ5JFVY7/JNqyMWDcxRwUAFdE5on02GoBa
 iinA6utsjQQmizRzfubuwTN8PNRH+1i5hSGSED1fAoHV4E88D7z+YNYJsqlf9/raCa5K9ORWZ2m
 aVC4WMAVdUimRmp7KHuX2BZpJrgrJ1n/akGPqSP0Nm85YoOnpb6tNiIW6
X-Google-Smtp-Source: AGHT+IFctdRYxC+J3sBv42uLrhNF9UUPkvCJVb+UjyhdXQuZs+AtmwNuHY8hfAAUrbFl72v6xx9hQ+vyO/Iz
X-Received: by 2002:a05:6102:160a:b0:4a5:e5e5:f929 with SMTP id
 ada2fe7eead31-4a8cfb85fe5mr22638332137.13.1730414598768; 
 Thu, 31 Oct 2024 15:43:18 -0700 (PDT)
Received: from postal.iol.unh.edu (postal.iol.unh.edu.
 [2606:4100:3880:1234::84]) by smtp-relay.gmail.com with ESMTPS id
 d75a77b69052e-462ad09223bsm958361cf.6.2024.10.31.15.43.18
 (version=TLS1_2 cipher=ECDHE-ECDSA-AES128-GCM-SHA256 bits=128/128);
 Thu, 31 Oct 2024 15:43:18 -0700 (PDT)
X-Relaying-Domain: iol.unh.edu
Date: Thu, 31 Oct 2024 15:43:18 -0700 (PDT)
Message-ID: <67240806.050a0220.8a46f.5ad9SMTPIN_ADDED_MISSING@mx.google.com>
Received: from [172.21.0.5] (unknown [172.18.0.240])
 by postal.iol.unh.edu (Postfix) with ESMTP id 7C58C6052471;
 Thu, 31 Oct 2024 18:43:18 -0400 (EDT)
Subject: |SUCCESS| pw147713-147716 [PATCH] [4/4] net/nfp: add support for por
From: dpdklab@iol.unh.edu
To: Test Report <test-report@dpdk.org>
Cc: dpdk-test-reports@iol.unh.edu
In-Reply-To: <20241030082759.209617-5-chaoyong.he@corigine.com>
References: <20241030082759.209617-5-chaoyong.he@corigine.com>
Content-Type: text/plain
X-BeenThere: test-report@dpdk.org
X-Mailman-Version: 2.1.29
Precedence: list
List-Id: automatic DPDK test reports <test-report.dpdk.org>
List-Unsubscribe: <https://mails.dpdk.org/options/test-report>,
 <mailto:test-report-request@dpdk.org?subject=unsubscribe>
List-Archive: <http://mails.dpdk.org/archives/test-report/>
List-Post: <mailto:test-report@dpdk.org>
List-Help: <mailto:test-report-request@dpdk.org?subject=help>
List-Subscribe: <https://mails.dpdk.org/listinfo/test-report>,
 <mailto:test-report-request@dpdk.org?subject=subscribe>
Errors-To: test-report-bounces@dpdk.org

Test-Label: iol-compile-amd64-testing
Test-Status: SUCCESS
http://dpdk.org/patch/147716

_Testing PASS_

Submitter: Chaoyong He <chaoyong.he@corigine.com>
Date: Wednesday, October 30 2024 08:27:59 
DPDK git baseline: Repo:dpdk
  Branch: master
  CommitID:d0485e149e53bb5e4f7bc9ddd8d7b31cdcf82af7

147713-147716 --> testing pass

Upstream job id: Windows-Compile-DPDK-Native#23951

Test environment and result as below:

+---------------------+--------------------+-----------------------+
|     Environment     | dpdk_meson_compile | dpdk_win_llvm_compile |
+=====================+====================+=======================+
| FreeBSD 13.4        | PASS               | SKIPPED               |
+---------------------+--------------------+-----------------------+
| FreeBSD 14.1        | PASS               | SKIPPED               |
+---------------------+--------------------+-----------------------+
| Windows Server 2022 | SKIPPED            | PASS                  |
+---------------------+--------------------+-----------------------+


FreeBSD 13.4
	Kernel: 13.4-RELEASE-p1
	Compiler: clang 18.1.6

FreeBSD 14.1
	Kernel: 14.1-RELEASE-p3
	Compiler: clang 18.1.5

Windows Server 2022
	Kernel: 10.0.20348.2031
	Compiler: clang 15.0.7, gcc 14.1.0 (MinGW), and MSVC VS 19.39.33521

To view detailed results, visit:
https://lab.dpdk.org/results/dashboard/patchsets/31767/

UNH-IOL DPDK Community Lab

To manage your email subscriptions, visit: 
https://lab.dpdk.org/results/dashboard/preferences/subscriptions/