From mboxrd@z Thu Jan  1 00:00:00 1970
Return-Path: <test-report-bounces@dpdk.org>
Received: from mails.dpdk.org (mails.dpdk.org [217.70.189.124])
	by inbox.dpdk.org (Postfix) with ESMTP id B042D45C49
	for <public@inbox.dpdk.org>; Fri,  1 Nov 2024 11:11:07 +0100 (CET)
Received: from mails.dpdk.org (localhost [127.0.0.1])
	by mails.dpdk.org (Postfix) with ESMTP id ACF38434A3;
	Fri,  1 Nov 2024 11:11:07 +0100 (CET)
Received: from mail-io1-f100.google.com (mail-io1-f100.google.com
 [209.85.166.100])
 by mails.dpdk.org (Postfix) with ESMTP id 2D03D40298
 for <test-report@dpdk.org>; Fri,  1 Nov 2024 11:11:06 +0100 (CET)
Received: by mail-io1-f100.google.com with SMTP id
 ca18e2360f4ac-8323b555a6aso93748039f.3
 for <test-report@dpdk.org>; Fri, 01 Nov 2024 03:11:06 -0700 (PDT)
DKIM-Signature: v=1; a=rsa-sha256; c=relaxed/relaxed;
 d=iol.unh.edu; s=unh-iol; t=1730455865; x=1731060665; darn=dpdk.org;
 h=references:in-reply-to:cc:to:from:subject:message-id:date:from:to
 :cc:subject:date:message-id:reply-to;
 bh=4pD20R7uk9RGbkTjSF/7S5X+HmSvqwtWeRgQDq+rK30=;
 b=hboPEDgvtuzvpToXSP9GPH45zC9mh/z/2Oy9dsns9TVAZ+M7rEYDEqSrINE6GI2hDh
 aeij/q+9V+6NsA+8QJpGOWxN9vJK9IU3oa51dynCUXl+y+3Lpebey32vjzVhtwxsS/Mc
 qt37H+Owj1TVrEQwMBDikDsOpsx595Gp6qLU4=
X-Google-DKIM-Signature: v=1; a=rsa-sha256; c=relaxed/relaxed;
 d=1e100.net; s=20230601; t=1730455865; x=1731060665;
 h=references:in-reply-to:cc:to:from:subject:message-id:date
 :x-gm-message-state:from:to:cc:subject:date:message-id:reply-to;
 bh=4pD20R7uk9RGbkTjSF/7S5X+HmSvqwtWeRgQDq+rK30=;
 b=ny/lxnOGOun2Iy3EFi4YAc+B7+NyDW+NUEBg10xckQYnjmVItiblMUYU9OUR32E+7p
 dhDQdicDHybXxBi1aJkqpsLs2HNn4/lFe1VD2cpqGbuUNhh04ax4ZAklK1fRQVcI1fRe
 KOp5Ut9/LJR0nC4jeNVSylk8fSbR79ZmDPNu+mUhXDC1vm0bnf+hR/gvP3C53gCZUsFc
 xpAQYhi4CvMgmz7FUanQ22kU5VaF/eDXsqIy7l6jq3DSMG/3UwBtRUWIiLreLgXeQI0d
 RuKrBUlN5GZGo9p68gk7cTs+7Wlpn7arEPkEnCJZoPuCx0Z/mLxIqnD5U5pXvXmtE6pF
 HigQ==
X-Gm-Message-State: AOJu0Yy/ahw92R/AUwuyj5v4Dsm/E7YU70/2lIkuY9tHqXl3oBW+0B4J
 EkLat+EZZtkZPDNYuEvxWRbfsT6p47ThdQW/XoKqaz0oHcjihhmFhmGcXK5/8DGa+wtP6S5zICR
 wzpzLFM/PSV5RpoMhNteutyC8nAVTpUV0kIM8Velx
X-Google-Smtp-Source: AGHT+IH8yp34pUl0H2VQY2Yp+vIrckUeYXWBIbn1uJwtYMQ6jKHxcgPexdiik0GojhrqLM86tA+f2V/fary5
X-Received: by 2002:a05:6602:3423:b0:82c:e4e1:2e99 with SMTP id
 ca18e2360f4ac-83b65037532mr619870339f.11.1730455865526; 
 Fri, 01 Nov 2024 03:11:05 -0700 (PDT)
Received: from postal.iol.unh.edu (postal.iol.unh.edu. [132.177.123.84])
 by smtp-relay.gmail.com with ESMTPS id
 8926c6da1cb9f-4de049986f8sm140288173.83.2024.11.01.03.11.05
 (version=TLS1_2 cipher=ECDHE-ECDSA-AES128-GCM-SHA256 bits=128/128);
 Fri, 01 Nov 2024 03:11:05 -0700 (PDT)
X-Relaying-Domain: iol.unh.edu
Date: Fri, 01 Nov 2024 03:11:05 -0700 (PDT)
Message-ID: <6724a939.050a0220.1b1a8f.75a1SMTPIN_ADDED_MISSING@mx.google.com>
Received: from [172.21.0.5] (unknown [172.18.0.240])
 by postal.iol.unh.edu (Postfix) with ESMTP id 07FC96052471;
 Fri,  1 Nov 2024 06:11:05 -0400 (EDT)
Subject: |SUCCESS| pw147769-147815 [PATCH] [v5,80/80] net/ntnic: add MTU conf
From: dpdklab@iol.unh.edu
To: Test Report <test-report@dpdk.org>
Cc: dpdk-test-reports@iol.unh.edu
In-Reply-To: <20241030213940.3470062-81-sil-plv@napatech.com>
References: <20241030213940.3470062-81-sil-plv@napatech.com>
Content-Type: text/plain
X-BeenThere: test-report@dpdk.org
X-Mailman-Version: 2.1.29
Precedence: list
List-Id: automatic DPDK test reports <test-report.dpdk.org>
List-Unsubscribe: <https://mails.dpdk.org/options/test-report>,
 <mailto:test-report-request@dpdk.org?subject=unsubscribe>
List-Archive: <http://mails.dpdk.org/archives/test-report/>
List-Post: <mailto:test-report@dpdk.org>
List-Help: <mailto:test-report-request@dpdk.org?subject=help>
List-Subscribe: <https://mails.dpdk.org/listinfo/test-report>,
 <mailto:test-report-request@dpdk.org?subject=subscribe>
Errors-To: test-report-bounces@dpdk.org

Test-Label: iol-compile-arm64-testing
Test-Status: SUCCESS
http://dpdk.org/patch/147815

_Testing PASS_

Submitter: Serhii Iliushyk <sil-plv@napatech.com>
Date: Wednesday, October 30 2024 21:39:27 
DPDK git baseline: Repo:dpdk
  Branch: master
  CommitID:2a682d65f8dbe1e8be9cc2425095827e18c700e3

147769-147815 --> testing pass

Upstream job id: Generic-DPDK-Compile-Meson#328466

Test environment and result as below:

+----------------------------------------+--------------------+
|              Environment               | dpdk_meson_compile |
+========================================+====================+
| RHEL9 (ARM)                            | PASS               |
+----------------------------------------+--------------------+
| Ubuntu 20.04 ARM GCC Cross Compile     | PASS               |
+----------------------------------------+--------------------+
| Ubuntu 20.04 ARM SVE                   | PASS               |
+----------------------------------------+--------------------+
| Debian 12 with MUSDK                   | PASS               |
+----------------------------------------+--------------------+
| Fedora 39 (ARM)                        | PASS               |
+----------------------------------------+--------------------+
| Fedora 39 (ARM Clang)                  | PASS               |
+----------------------------------------+--------------------+
| Fedora 40 (ARM)                        | PASS               |
+----------------------------------------+--------------------+
| Fedora 40 (ARM Clang)                  | PASS               |
+----------------------------------------+--------------------+
| Ubuntu 20.04 (ARM)                     | PASS               |
+----------------------------------------+--------------------+
| Ubuntu 24.04 (ARM)                     | PASS               |
+----------------------------------------+--------------------+
| CentOS Stream 9 (ARM)                  | PASS               |
+----------------------------------------+--------------------+
| Debian 12 (arm)                        | PASS               |
+----------------------------------------+--------------------+
| Ubuntu 20.04 ARM Clang Cross Compile   | PASS               |
+----------------------------------------+--------------------+
| Ubuntu 20.04 aarch32 GCC Cross Compile | PASS               |
+----------------------------------------+--------------------+
| Ubuntu 22.04 (ARM)                     | PASS               |
+----------------------------------------+--------------------+


RHEL9 (ARM)
	Kernel: Depends on container host
	Compiler: gcc 11.4.1 20231218 (Red Hat 11.4.1-3)

Ubuntu 20.04 ARM GCC Cross Compile
	Kernel: Depends on container host
	Compiler: aarch64-linux-gnu-gcc (Ubuntu 9.4.0-1ubuntu1~20.04.2) 9.4.0

Ubuntu 20.04 ARM SVE
	Kernel: Depends on container host
	Compiler: gcc (Ubuntu 10.5.0-1ubuntu1~20.04) 10.5.0

Debian 12 with MUSDK
	Kernel: Depends on container host
	Compiler: gcc (Debian 12.2.0-14) 12.2.0

Fedora 39 (ARM)
	Kernel: Depends on container host
	Compiler: gcc 13.3.1 20240522 (Red Hat 13.3.1-1)

Fedora 39 (ARM Clang)
	Kernel: Depends on container host
	Compiler: clang 17.0.6 (Fedora 17.0.6-2.fc39)

Fedora 40 (ARM)
	Kernel: Depends on container host
	Compiler: gcc 14.2.1 20240801 (Red Hat 14.2.1-1)

Fedora 40 (ARM Clang)
	Kernel: Depends on container host
	Compiler: clang 18.1.6 (Fedora 18.1.6-3.fc40)

Ubuntu 20.04 (ARM)
	Kernel: Depends on container host
	Compiler: gcc (Ubuntu 9.4.0-1ubuntu1~20.04.2) 9.4.0

Ubuntu 24.04 (ARM)
	Kernel: Depends on container host
	Compiler: gcc (Ubuntu 13.2.0-23ubuntu4) 13.2.0

CentOS Stream 9 (ARM)
	Kernel: Depends on container host
	Compiler: gcc 11.4.1 20231218 (Red Hat 11.4.1-3)

Debian 12 (arm)
	Kernel: Depends on container host
	Compiler: gcc (Debian 12.2.0-14) 12.2.0

Ubuntu 20.04 ARM Clang Cross Compile
	Kernel: Depends on container host
	Compiler: clang 10.0.0-4ubuntu1

Ubuntu 20.04 aarch32 GCC Cross Compile
	Kernel: Depends on container host
	Compiler: gcc 9.4.0

Ubuntu 22.04 (ARM)
	Kernel: Depends on container host
	Compiler: gcc (Ubuntu 11.4.0-1ubuntu1~22.04) 11.4.0

To view detailed results, visit:
https://lab.dpdk.org/results/dashboard/patchsets/31788/

UNH-IOL DPDK Community Lab

To manage your email subscriptions, visit: 
https://lab.dpdk.org/results/dashboard/preferences/subscriptions/