From mboxrd@z Thu Jan  1 00:00:00 1970
Return-Path: <test-report-bounces@dpdk.org>
Received: from mails.dpdk.org (mails.dpdk.org [217.70.189.124])
	by inbox.dpdk.org (Postfix) with ESMTP id 5E90645C4A
	for <public@inbox.dpdk.org>; Fri,  1 Nov 2024 13:49:38 +0100 (CET)
Received: from mails.dpdk.org (localhost [127.0.0.1])
	by mails.dpdk.org (Postfix) with ESMTP id 5B583434AF;
	Fri,  1 Nov 2024 13:49:38 +0100 (CET)
Received: from mail-oa1-f98.google.com (mail-oa1-f98.google.com
 [209.85.160.98]) by mails.dpdk.org (Postfix) with ESMTP id 024CD4003C
 for <test-report@dpdk.org>; Fri,  1 Nov 2024 13:49:37 +0100 (CET)
Received: by mail-oa1-f98.google.com with SMTP id
 586e51a60fabf-28845df360fso944328fac.1
 for <test-report@dpdk.org>; Fri, 01 Nov 2024 05:49:36 -0700 (PDT)
DKIM-Signature: v=1; a=rsa-sha256; c=relaxed/relaxed;
 d=iol.unh.edu; s=unh-iol; t=1730465376; x=1731070176; darn=dpdk.org;
 h=references:in-reply-to:cc:to:from:subject:message-id:date:from:to
 :cc:subject:date:message-id:reply-to;
 bh=t39GDDU2+MjwOHBgHUFHoqzwGhf1jFWT1BiW+KiGyks=;
 b=FJLMDUxtSx727z/97YorpMIqyZ4XOVHScmDQopMuWc/6pGt7pTjx11ZrF3Vkjy0roX
 g6VGbKQioZYKDOvdl22HtDr6u6BnFtbHMzCwAGICjJRBnbhV4QoRwbppZPt6yu+T7xKk
 tY+acSN3dIHGU2uiF1nadhagfIrrcN3v2mUqs=
X-Google-DKIM-Signature: v=1; a=rsa-sha256; c=relaxed/relaxed;
 d=1e100.net; s=20230601; t=1730465376; x=1731070176;
 h=references:in-reply-to:cc:to:from:subject:message-id:date
 :x-gm-message-state:from:to:cc:subject:date:message-id:reply-to;
 bh=t39GDDU2+MjwOHBgHUFHoqzwGhf1jFWT1BiW+KiGyks=;
 b=SLXR6EFmlhiK70D/T12eGJ8/Aim7SPVQDs0qvNpxwLCagEIqVaeQy2b+/qnAJc8951
 j/qIkNcsaAVOiPZ7FnyArIaOBJxeQSroy+XJtIkEJxESd6e8aLWfi8fulNKx19Ic6Bb0
 MPHxKrEzyKsNUgEAR9u2T2qZ34PI8B1xnF1HzXcHDRHUKDvCcdVvs9uDurtep+ru4iXk
 sPKbFa7tohVCoMVOokFGACHGdT3m9c3xC4n34oLSjJEU60zD1lXaT0wU9S7w9iTQz9Rs
 TzEZLr45/Zj7wp28hwPKOJjvIvcvNowGvLCEA3Bc0acPe7xChYIQM4CVlfz6/FrRC2Nn
 h67Q==
X-Gm-Message-State: AOJu0YzCCup7Kp0/wgrh/5soUQSZDwZ0Q30mUK7baSawUy/m5nyhJxZU
 uxbql4AuwZmw78EWPDkHlGl+KxNjZAlTBNYQ/wKC9mgu4Q4MjJq2S5hhxMHjgyoOiwuMEmhsH1w
 CFkrnzplGkse3r5iZuRbQd0vH8UgAGEjn7qL5OfX6Z0CrpXVyQIpj6hIs
X-Google-Smtp-Source: AGHT+IFeOrqgw/atMaeUqmsWs5WXAkGdmLB74sS81C/UvfIbCxZIeO9pbwLanD3XI5a79uWt+j4E0I393Y0K
X-Received: by 2002:a05:6871:3292:b0:288:67a2:5031 with SMTP id
 586e51a60fabf-2949d035a77mr2221617fac.13.1730465376232; 
 Fri, 01 Nov 2024 05:49:36 -0700 (PDT)
Received: from postal.iol.unh.edu (postal.iol.unh.edu.
 [2606:4100:3880:1234::84]) by smtp-relay.gmail.com with ESMTPS id
 586e51a60fabf-2948747c9edsm166671fac.14.2024.11.01.05.49.36
 (version=TLS1_2 cipher=ECDHE-ECDSA-AES128-GCM-SHA256 bits=128/128);
 Fri, 01 Nov 2024 05:49:36 -0700 (PDT)
X-Relaying-Domain: iol.unh.edu
Date: Fri, 01 Nov 2024 05:49:36 -0700 (PDT)
Message-ID: <6724ce60.050a0220.2cab8.8e65SMTPIN_ADDED_MISSING@mx.google.com>
Received: from [172.21.0.5] (unknown [172.18.0.240])
 by postal.iol.unh.edu (Postfix) with ESMTP id B46FE6052471;
 Fri,  1 Nov 2024 08:49:35 -0400 (EDT)
Subject: |SUCCESS| pw147860-147863 [PATCH] [v3,4/4] net/nfp: add support for 
From: dpdklab@iol.unh.edu
To: Test Report <test-report@dpdk.org>
Cc: dpdk-test-reports@iol.unh.edu
In-Reply-To: <20241101025713.290462-5-chaoyong.he@corigine.com>
References: <20241101025713.290462-5-chaoyong.he@corigine.com>
Content-Type: text/plain
X-BeenThere: test-report@dpdk.org
X-Mailman-Version: 2.1.29
Precedence: list
List-Id: automatic DPDK test reports <test-report.dpdk.org>
List-Unsubscribe: <https://mails.dpdk.org/options/test-report>,
 <mailto:test-report-request@dpdk.org?subject=unsubscribe>
List-Archive: <http://mails.dpdk.org/archives/test-report/>
List-Post: <mailto:test-report@dpdk.org>
List-Help: <mailto:test-report-request@dpdk.org?subject=help>
List-Subscribe: <https://mails.dpdk.org/listinfo/test-report>,
 <mailto:test-report-request@dpdk.org?subject=subscribe>
Errors-To: test-report-bounces@dpdk.org

Test-Label: iol-compile-amd64-testing
Test-Status: SUCCESS
http://dpdk.org/patch/147863

_Testing PASS_

Submitter: Chaoyong He <chaoyong.he@corigine.com>
Date: Friday, November 01 2024 02:57:13 
DPDK git baseline: Repo:dpdk
  Branch: master
  CommitID:03c845d7cf21b98a5ee8cad3f0850264eafa9658

147860-147863 --> testing pass

Upstream job id: Generic-DPDK-Compile-Meson#328908

Test environment and result as below:

+-------------------+--------------------+------------------+-------------------+
|    Environment    | dpdk_meson_compile | dpdk_compile_ovs | dpdk_compile_spdk |
+===================+====================+==================+===================+
| CentOS Stream 9   | PASS               | PASS             | PASS              |
+-------------------+--------------------+------------------+-------------------+
| Debian 12         | PASS               | PASS             | PASS              |
+-------------------+--------------------+------------------+-------------------+
| RHEL8             | PASS               | PASS             | SKIPPED           |
+-------------------+--------------------+------------------+-------------------+
| Fedora 39         | PASS               | PASS             | PASS              |
+-------------------+--------------------+------------------+-------------------+
| Fedora 39 (Clang) | PASS               | PASS             | PASS              |
+-------------------+--------------------+------------------+-------------------+
| Fedora 40 (Clang) | PASS               | PASS             | PASS              |
+-------------------+--------------------+------------------+-------------------+
| Fedora 40         | PASS               | PASS             | PASS              |
+-------------------+--------------------+------------------+-------------------+
| openSUSE Leap 15  | PASS               | PASS             | SKIPPED           |
+-------------------+--------------------+------------------+-------------------+
| RHEL9             | PASS               | PASS             | SKIPPED           |
+-------------------+--------------------+------------------+-------------------+
| Ubuntu 20.04      | PASS               | PASS             | SKIPPED           |
+-------------------+--------------------+------------------+-------------------+
| Ubuntu 22.04      | PASS               | PASS             | PASS              |
+-------------------+--------------------+------------------+-------------------+
| Ubuntu 24.04      | PASS               | PASS             | PASS              |
+-------------------+--------------------+------------------+-------------------+
| Alpine            | PASS               | PASS             | SKIPPED           |
+-------------------+--------------------+------------------+-------------------+
| FreeBSD 13.4      | PASS               | SKIPPED          | SKIPPED           |
+-------------------+--------------------+------------------+-------------------+
| FreeBSD 14.1      | PASS               | SKIPPED          | SKIPPED           |
+-------------------+--------------------+------------------+-------------------+


CentOS Stream 9
	Kernel: Depends on container host
	Compiler: gcc 11.4.1 20231218 (Red Hat 11.4.1-3)

Debian 12
	Kernel: Depends on container host
	Compiler: gcc (Debian 12.2.0-14) 12.2.0

RHEL8
	Kernel: Depends on container host
	Compiler: gcc 8.5.0 20210514 (Red Hat 8.5.0-22)

Fedora 39
	Kernel: Depends on container host
	Compiler: gcc 13.3.1 20240522 (Red Hat 13.3.1-1)

Fedora 39 (Clang)
	Kernel: Depends on container host
	Compiler: clang 17.0.6 (Fedora 17.0.6-2.fc39)

Fedora 40 (Clang)
	Kernel: Depends on container host
	Compiler: clang 18.1.6 (Fedora 18.1.6-3.fc40)

Fedora 40
	Kernel: Depends on container host
	Compiler: gcc 14.2.1 20240801 (Red Hat 14.2.1-1)

openSUSE Leap 15
	Kernel: Depends on container host
	Compiler: gcc (SUSE Linux) 7.5.0

RHEL9
	Kernel: Depends on container host
	Compiler: gcc 11.4.1 20231218 (Red Hat 11.4.1-3)

Ubuntu 20.04
	Kernel: Depends on container host
	Compiler: gcc (Ubuntu 9.4.0-1ubuntu1~20.04.2) 9.4.0

Ubuntu 22.04
	Kernel: Depends on container host
	Compiler: gcc (Ubuntu 11.4.0-1ubuntu1~22.04) 11.4.0

Ubuntu 24.04
	Kernel: Depends on container host
	Compiler: gcc (Ubuntu 13.2.0-23ubuntu4) 13.2.0

Alpine
	Kernel: Depends on container host
	Compiler: gcc (Alpine 13.2.1_git20240309) 13.2.1 20240309

FreeBSD 13.4
	Kernel: 13.4-RELEASE-p1
	Compiler: clang 18.1.6

FreeBSD 14.1
	Kernel: 14.1-RELEASE-p3
	Compiler: clang 18.1.5

To view detailed results, visit:
https://lab.dpdk.org/results/dashboard/patchsets/31800/

UNH-IOL DPDK Community Lab

To manage your email subscriptions, visit: 
https://lab.dpdk.org/results/dashboard/preferences/subscriptions/