From mboxrd@z Thu Jan  1 00:00:00 1970
Return-Path: <test-report-bounces@dpdk.org>
Received: from mails.dpdk.org (mails.dpdk.org [217.70.189.124])
	by inbox.dpdk.org (Postfix) with ESMTP id 11E7D45C4B
	for <public@inbox.dpdk.org>; Fri,  1 Nov 2024 14:43:58 +0100 (CET)
Received: from mails.dpdk.org (localhost [127.0.0.1])
	by mails.dpdk.org (Postfix) with ESMTP id 0ABF94027C;
	Fri,  1 Nov 2024 14:43:58 +0100 (CET)
Received: from mail-il1-f225.google.com (mail-il1-f225.google.com
 [209.85.166.225])
 by mails.dpdk.org (Postfix) with ESMTP id 65CD54003C
 for <test-report@dpdk.org>; Fri,  1 Nov 2024 14:43:56 +0100 (CET)
Received: by mail-il1-f225.google.com with SMTP id
 e9e14a558f8ab-3a6af694220so4395085ab.1
 for <test-report@dpdk.org>; Fri, 01 Nov 2024 06:43:56 -0700 (PDT)
DKIM-Signature: v=1; a=rsa-sha256; c=relaxed/relaxed;
 d=iol.unh.edu; s=unh-iol; t=1730468636; x=1731073436; darn=dpdk.org;
 h=cc:to:from:subject:message-id:date:from:to:cc:subject:date
 :message-id:reply-to;
 bh=1jq6vokPBRatWqox+TI2xffU5jaiAlvpToBIUu+hjBI=;
 b=bjv9iQOIihrXvc2Vp3Xgr5riPgPtLMR/A3In5OMc2RZxcoz+o9RQCEsDxSZcyHxV4R
 qUFZKHKyi2fTiR/ge/+5f/4Wyi0eJKcRVxa6R28r2+Aj7FH74G1++tyqVdvags++roHu
 V+bA3EjIFn9tNZuKajJHJg0a2XxdwvelhGk2Q=
X-Google-DKIM-Signature: v=1; a=rsa-sha256; c=relaxed/relaxed;
 d=1e100.net; s=20230601; t=1730468636; x=1731073436;
 h=cc:to:from:subject:message-id:date:x-gm-message-state:from:to:cc
 :subject:date:message-id:reply-to;
 bh=1jq6vokPBRatWqox+TI2xffU5jaiAlvpToBIUu+hjBI=;
 b=MBt4l1R66d6IyF+ggyu6MkzcTrzIuoPPCqEzmnkffBFg7QNbGbbv5UxQFFNc5+AeLk
 9un4HN6KJWDV1LtEzmrtGH5qlDveQa0qFP6uz52XScq0Cq3b3oirjW6QuL9rynby4PZk
 lJI8iDlmuPg5JEDvOTqQaaICdvurrqADytTfrIicTnzA4su3tKDS5Zh7VK2HQG0U56Nh
 aT0IJFHqfs5CM0MU79ONq9k68kvQI4Ax4+KNN9HEGCgJ6Wo39yQGrOAYqMo8lhP+YIXk
 IdRBWbLsCGz2Sans6+u2W2ftM0CqCD903NA4fUC+xqlI/cKEr6LFk7vFKod4uK5QRepy
 8xgA==
X-Gm-Message-State: AOJu0Yw8CCXaEv3ST2j5pYiI+YL5zYqvRRas8OQg9mXowU9/mXzYgLNH
 PE5IVbTli+WzMQuOXdLySgvV9fq8e+GMWDKADau5ZLABz4+bDEcQ5CWTiJqgOUZnec79xuPU5U9
 2okjbnwwZX7xGwe+GKMiefQdWJho9Zp51
X-Google-Smtp-Source: AGHT+IFWrO4IhkiPM4QM8vpy/XcjNa90PPb5Arl5bFL33QSKyk2BTCM1WBjpCefgtKlxb+vYRH3gIit7qerw
X-Received: by 2002:a05:6e02:1c03:b0:3a3:9792:e9e8 with SMTP id
 e9e14a558f8ab-3a6b0288b07mr36918115ab.5.1730468635652; 
 Fri, 01 Nov 2024 06:43:55 -0700 (PDT)
Received: from postal.iol.unh.edu (postal.iol.unh.edu. [132.177.123.84])
 by smtp-relay.gmail.com with ESMTPS id
 e9e14a558f8ab-3a6a9a10915sm1848905ab.62.2024.11.01.06.43.55
 (version=TLS1_2 cipher=ECDHE-ECDSA-AES128-GCM-SHA256 bits=128/128);
 Fri, 01 Nov 2024 06:43:55 -0700 (PDT)
X-Relaying-Domain: iol.unh.edu
Date: Fri, 01 Nov 2024 06:43:55 -0700 (PDT)
Message-ID: <6724db1b.050a0220.3baec4.9e6cSMTPIN_ADDED_MISSING@mx.google.com>
Received: from [172.21.0.5] (unknown [172.18.0.240])
 by postal.iol.unh.edu (Postfix) with ESMTP id 250BF6052471;
 Fri,  1 Nov 2024 09:43:55 -0400 (EDT)
Subject: |SUCCESS| [GIT MASTER] e8eb14e00d56027bef8569d68cf00e39670edca2
From: dpdklab@iol.unh.edu
To: Test Report <test-report@dpdk.org>
Cc: dpdk-test-reports@iol.unh.edu, Xueming Li <xuemingl@nvidia.com>,
 Christian Ehrhardt <christian.ehrhardt@canonical.com>,
 Kevin Traynor <ktraynor@redhat.com>, Luca Boccassi <bluca@debian.org>
Content-Type: text/plain
X-BeenThere: test-report@dpdk.org
X-Mailman-Version: 2.1.29
Precedence: list
List-Id: automatic DPDK test reports <test-report.dpdk.org>
List-Unsubscribe: <https://mails.dpdk.org/options/test-report>,
 <mailto:test-report-request@dpdk.org?subject=unsubscribe>
List-Archive: <http://mails.dpdk.org/archives/test-report/>
List-Post: <mailto:test-report@dpdk.org>
List-Help: <mailto:test-report-request@dpdk.org?subject=help>
List-Subscribe: <https://mails.dpdk.org/listinfo/test-report>,
 <mailto:test-report-request@dpdk.org?subject=subscribe>
Errors-To: test-report-bounces@dpdk.org

_Testing PASS_

Branch: tags/v23.11

e8eb14e00d56027bef8569d68cf00e39670edca2 --> testing pass

Upstream job id: Generic-Unit-Test-DPDK#287789

Test environment and result as below:

+-------------------+----------------+
|    Environment    | dpdk_unit_test |
+===================+================+
| Debian 12         | PASS           |
+-------------------+----------------+
| CentOS Stream 9   | PASS           |
+-------------------+----------------+
| Fedora 39         | PASS           |
+-------------------+----------------+
| Fedora 40         | PASS           |
+-------------------+----------------+
| Fedora 39 (Clang) | PASS           |
+-------------------+----------------+
| RHEL9             | PASS           |
+-------------------+----------------+
| Ubuntu 20.04      | PASS           |
+-------------------+----------------+
| Fedora 40 (Clang) | PASS           |
+-------------------+----------------+
| RHEL8             | PASS           |
+-------------------+----------------+
| Ubuntu 22.04      | PASS           |
+-------------------+----------------+
| Ubuntu 24.04      | PASS           |
+-------------------+----------------+


Debian 12
	Kernel: Depends on container host
	Compiler: gcc (Debian 12.2.0-14) 12.2.0

CentOS Stream 9
	Kernel: Depends on container host
	Compiler: gcc 11.4.1 20231218 (Red Hat 11.4.1-3)

Fedora 39
	Kernel: Depends on container host
	Compiler: gcc 13.3.1 20240522 (Red Hat 13.3.1-1)

Fedora 40
	Kernel: Depends on container host
	Compiler: gcc 14.2.1 20240801 (Red Hat 14.2.1-1)

Fedora 39 (Clang)
	Kernel: Depends on container host
	Compiler: clang 17.0.6 (Fedora 17.0.6-2.fc39)

RHEL9
	Kernel: Depends on container host
	Compiler: gcc 11.4.1 20231218 (Red Hat 11.4.1-3)

Ubuntu 20.04
	Kernel: Depends on container host
	Compiler: gcc (Ubuntu 9.4.0-1ubuntu1~20.04.2) 9.4.0

Fedora 40 (Clang)
	Kernel: Depends on container host
	Compiler: clang 18.1.6 (Fedora 18.1.6-3.fc40)

RHEL8
	Kernel: Depends on container host
	Compiler: gcc 8.5.0 20210514 (Red Hat 8.5.0-22)

Ubuntu 22.04
	Kernel: Depends on container host
	Compiler: gcc (Ubuntu 11.4.0-1ubuntu1~22.04) 11.4.0

Ubuntu 24.04
	Kernel: Depends on container host
	Compiler: gcc (Ubuntu 13.2.0-23ubuntu4) 13.2.0

To view detailed results, visit:
https://lab.dpdk.org/results/dashboard/tarballs/31394/

UNH-IOL DPDK Community Lab

To manage your email subscriptions, visit: 
https://lab.dpdk.org/results/dashboard/preferences/subscriptions/