From mboxrd@z Thu Jan  1 00:00:00 1970
Return-Path: <test-report-bounces@dpdk.org>
Received: from mails.dpdk.org (mails.dpdk.org [217.70.189.124])
	by inbox.dpdk.org (Postfix) with ESMTP id E25EB45C4C
	for <public@inbox.dpdk.org>; Fri,  1 Nov 2024 16:30:36 +0100 (CET)
Received: from mails.dpdk.org (localhost [127.0.0.1])
	by mails.dpdk.org (Postfix) with ESMTP id DE2794027C;
	Fri,  1 Nov 2024 16:30:36 +0100 (CET)
Received: from mail-ot1-f99.google.com (mail-ot1-f99.google.com
 [209.85.210.99]) by mails.dpdk.org (Postfix) with ESMTP id 5FF764003C
 for <test-report@dpdk.org>; Fri,  1 Nov 2024 16:30:35 +0100 (CET)
Received: by mail-ot1-f99.google.com with SMTP id
 46e09a7af769-71811c7eb8dso1211909a34.0
 for <test-report@dpdk.org>; Fri, 01 Nov 2024 08:30:35 -0700 (PDT)
DKIM-Signature: v=1; a=rsa-sha256; c=relaxed/relaxed;
 d=iol.unh.edu; s=unh-iol; t=1730475034; x=1731079834; darn=dpdk.org;
 h=references:in-reply-to:cc:to:from:subject:message-id:date:from:to
 :cc:subject:date:message-id:reply-to;
 bh=euIGn3LmxmZpkVYvzLYo24jtFC5kcgjv9iUuudxVQpk=;
 b=VU2JfszSfZobAbQDcYw5kzq4Z2hyRlfxaupw6tU8BMadVQswQwG9jE8D2N60V1BO0m
 iaU3BwB8G79FIPI0nL62lf/yUuYMZ99oa/t6PEyzheN9BFQG9tHv4SLVS/jhEY51m+Qf
 +duwTuI7xAz54Q8FOP5m9W+L0jN6vN32C6+/o=
X-Google-DKIM-Signature: v=1; a=rsa-sha256; c=relaxed/relaxed;
 d=1e100.net; s=20230601; t=1730475034; x=1731079834;
 h=references:in-reply-to:cc:to:from:subject:message-id:date
 :x-gm-message-state:from:to:cc:subject:date:message-id:reply-to;
 bh=euIGn3LmxmZpkVYvzLYo24jtFC5kcgjv9iUuudxVQpk=;
 b=AtBv09+qQnoKnwR0n0OlZIsAVVt+bZvIcxme/8KEGujba2OOVuybmuEh+PU9PTT2YI
 06eZ3NSMTqEo3DHnYQYdLGEWUfeJoiXJAb4ST6qwgBEOqRhl3dtQ2v5QBpUgUCs9M0fd
 RzsYiIdH8NTZ95fXELQnezuvdWhavFfov8mpvn/GC2MCvyn+DDyrXCPqQQICVGHaIwu1
 tqJqlTpmQJmV7JZwOLjUaBXDtHjuXvFtnojHefiRuDoyXqnF79ewq3hb4rWItslhDlhp
 VuHsfWoKE3A2q687kN1FzH1HPL4UkFGwLe9A/FrSF08Kn+GGmJQox3ENcgN3APTzCGrg
 PAMg==
X-Gm-Message-State: AOJu0YxAFmDbAkBuR87j/Bq4TLCgYX34G6BxzuVJYGVA7ZgZoyIVnN2Y
 /LGRQoRGpgfOYvSxBC4cFtBFc6H0f8WlHsDVvE6nqw+hqRoh4dssbCHDrNYiwEvDCgt+x+hno7q
 rWS2E1zHKFvStth9t5P/Kzqr9nx6AvqYavLDXBD7lT78xZXdjTPQRqlET
X-Google-Smtp-Source: AGHT+IHNPpaBuD0SWY5EFngRlJVYYXxJJuQPx9Xf6CFR8pxTjHUbX4gqgb3qD5npYXGvJ3oAHt+dKSkyFl8w
X-Received: by 2002:a05:6830:210e:b0:718:1160:670d with SMTP id
 46e09a7af769-719ca1c9d69mr3773731a34.19.1730475034567; 
 Fri, 01 Nov 2024 08:30:34 -0700 (PDT)
Received: from postal.iol.unh.edu (postal.iol.unh.edu.
 [2606:4100:3880:1234::84]) by smtp-relay.gmail.com with ESMTPS id
 006d021491bc7-5ec70506229sm157583eaf.13.2024.11.01.08.30.34
 (version=TLS1_2 cipher=ECDHE-ECDSA-AES128-GCM-SHA256 bits=128/128);
 Fri, 01 Nov 2024 08:30:34 -0700 (PDT)
X-Relaying-Domain: iol.unh.edu
Date: Fri, 01 Nov 2024 08:30:34 -0700 (PDT)
Message-ID: <6724f41a.4a0a0220.1bf7ad.0359SMTPIN_ADDED_MISSING@mx.google.com>
Received: from [172.21.0.5] (unknown [172.18.0.240])
 by postal.iol.unh.edu (Postfix) with ESMTP id 080D26052471;
 Fri,  1 Nov 2024 11:30:34 -0400 (EDT)
Subject: |SUCCESS| pw147138-147141 [PATCH] [v4,5/5] net/mlx5: implement jump 
From: dpdklab@iol.unh.edu
To: Test Report <test-report@dpdk.org>
Cc: dpdk-test-reports@iol.unh.edu
In-Reply-To: <20241024175132.1752108-6-akozyrev@nvidia.com>
References: <20241024175132.1752108-6-akozyrev@nvidia.com>
Content-Type: text/plain
X-BeenThere: test-report@dpdk.org
X-Mailman-Version: 2.1.29
Precedence: list
List-Id: automatic DPDK test reports <test-report.dpdk.org>
List-Unsubscribe: <https://mails.dpdk.org/options/test-report>,
 <mailto:test-report-request@dpdk.org?subject=unsubscribe>
List-Archive: <http://mails.dpdk.org/archives/test-report/>
List-Post: <mailto:test-report@dpdk.org>
List-Help: <mailto:test-report-request@dpdk.org?subject=help>
List-Subscribe: <https://mails.dpdk.org/listinfo/test-report>,
 <mailto:test-report-request@dpdk.org?subject=subscribe>
Errors-To: test-report-bounces@dpdk.org

Test-Label: iol-compile-amd64-testing
Test-Status: SUCCESS
http://dpdk.org/patch/147141

_Testing PASS_

Submitter: Alexander Kozyrev <akozyrev@nvidia.com>
Date: Thursday, October 24 2024 17:50:07 
DPDK git baseline: Repo:dpdk
  Branch: master
  CommitID:5bb17458f32befba8a2cccd9553ea65cd8b99581

147138-147141 --> testing pass

Upstream job id: Windows-Compile-DPDK-Native#23955

Test environment and result as below:

+---------------------+--------------------+-----------------------+------------------+-------------------+
|     Environment     | dpdk_meson_compile | dpdk_win_llvm_compile | dpdk_compile_ovs | dpdk_compile_spdk |
+=====================+====================+=======================+==================+===================+
| FreeBSD 13.4        | PASS               | SKIPPED               | SKIPPED          | SKIPPED           |
+---------------------+--------------------+-----------------------+------------------+-------------------+
| FreeBSD 14.1        | PASS               | SKIPPED               | SKIPPED          | SKIPPED           |
+---------------------+--------------------+-----------------------+------------------+-------------------+
| CentOS Stream 9     | PASS               | SKIPPED               | PASS             | PASS              |
+---------------------+--------------------+-----------------------+------------------+-------------------+
| Debian Bullseye     | PASS               | SKIPPED               | PASS             | PASS              |
+---------------------+--------------------+-----------------------+------------------+-------------------+
| Debian 12           | PASS               | SKIPPED               | PASS             | PASS              |
+---------------------+--------------------+-----------------------+------------------+-------------------+
| Fedora 37           | PASS               | SKIPPED               | PASS             | PASS              |
+---------------------+--------------------+-----------------------+------------------+-------------------+
| Fedora 38 (Clang)   | PASS               | SKIPPED               | PASS             | PASS              |
+---------------------+--------------------+-----------------------+------------------+-------------------+
| Fedora 38           | PASS               | SKIPPED               | PASS             | PASS              |
+---------------------+--------------------+-----------------------+------------------+-------------------+
| Fedora 39 (Clang)   | PASS               | SKIPPED               | PASS             | PASS              |
+---------------------+--------------------+-----------------------+------------------+-------------------+
| Fedora 40 (Clang)   | PASS               | SKIPPED               | PASS             | PASS              |
+---------------------+--------------------+-----------------------+------------------+-------------------+
| Fedora 40           | PASS               | SKIPPED               | PASS             | PASS              |
+---------------------+--------------------+-----------------------+------------------+-------------------+
| openSUSE Leap 15    | PASS               | SKIPPED               | PASS             | SKIPPED           |
+---------------------+--------------------+-----------------------+------------------+-------------------+
| RHEL8               | PASS               | SKIPPED               | PASS             | SKIPPED           |
+---------------------+--------------------+-----------------------+------------------+-------------------+
| RHEL9               | PASS               | SKIPPED               | PASS             | SKIPPED           |
+---------------------+--------------------+-----------------------+------------------+-------------------+
| Ubuntu 20.04        | PASS               | SKIPPED               | PASS             | SKIPPED           |
+---------------------+--------------------+-----------------------+------------------+-------------------+
| Ubuntu 22.04        | PASS               | SKIPPED               | PASS             | PASS              |
+---------------------+--------------------+-----------------------+------------------+-------------------+
| Ubuntu 24.04        | PASS               | SKIPPED               | PASS             | PASS              |
+---------------------+--------------------+-----------------------+------------------+-------------------+
| Alpine              | PASS               | SKIPPED               | PASS             | SKIPPED           |
+---------------------+--------------------+-----------------------+------------------+-------------------+
| Fedora 39           | PASS               | SKIPPED               | PASS             | PASS              |
+---------------------+--------------------+-----------------------+------------------+-------------------+
| Windows Server 2022 | SKIPPED            | PASS                  | SKIPPED          | SKIPPED           |
+---------------------+--------------------+-----------------------+------------------+-------------------+


FreeBSD 13.4
	Kernel: 13.4-RELEASE-p1
	Compiler: clang 18.1.6

FreeBSD 14.1
	Kernel: 14.1-RELEASE-p3
	Compiler: clang 18.1.5

CentOS Stream 9
	Kernel: Depends on container host
	Compiler: gcc 11.4.1 20231218 (Red Hat 11.4.1-3)

Debian Bullseye
	Kernel: Depends on container host
	Compiler: gcc (Debian 10.2.1-6) 10.2.1 20210110

Debian 12
	Kernel: Depends on container host
	Compiler: gcc (Debian 12.2.0-14) 12.2.0

Fedora 37
	Kernel: Depends on container host system
	Compiler: gcc 12.3.1 20230508 (Red Hat 12.3.1-1)

Fedora 38 (Clang)
	Kernel: Depends on container host
	Compiler: clang 16.0.6 (Fedora 16.0.6-4.fc38)

Fedora 38
	Kernel: Depends on container host
	Compiler: gcc 13.2.1 20240316 (Red Hat 13.2.1-7)

Fedora 39 (Clang)
	Kernel: Depends on container host
	Compiler: clang 17.0.6 (Fedora 17.0.6-2.fc39)

Fedora 40 (Clang)
	Kernel: Depends on container host
	Compiler: clang 18.1.6 (Fedora 18.1.6-3.fc40)

Fedora 40
	Kernel: Depends on container host
	Compiler: gcc 14.2.1 20240801 (Red Hat 14.2.1-1)

openSUSE Leap 15
	Kernel: Depends on container host
	Compiler: gcc (SUSE Linux) 7.5.0

RHEL8
	Kernel: Depends on container host
	Compiler: gcc 8.5.0 20210514 (Red Hat 8.5.0-22)

RHEL9
	Kernel: Depends on container host
	Compiler: gcc 11.4.1 20231218 (Red Hat 11.4.1-3)

Ubuntu 20.04
	Kernel: Depends on container host
	Compiler: gcc (Ubuntu 9.4.0-1ubuntu1~20.04.2) 9.4.0

Ubuntu 22.04
	Kernel: Depends on container host
	Compiler: gcc (Ubuntu 11.4.0-1ubuntu1~22.04) 11.4.0

Ubuntu 24.04
	Kernel: Depends on container host
	Compiler: gcc (Ubuntu 13.2.0-23ubuntu4) 13.2.0

Alpine
	Kernel: Depends on container host
	Compiler: gcc (Alpine 13.2.1_git20240309) 13.2.1 20240309

Fedora 39
	Kernel: Depends on container host
	Compiler: gcc 13.3.1 20240522 (Red Hat 13.3.1-1)

Windows Server 2022
	Kernel: 10.0.20348.2031
	Compiler: clang 15.0.7, gcc 14.1.0 (MinGW), and MSVC VS 19.39.33521

To view detailed results, visit:
https://lab.dpdk.org/results/dashboard/patchsets/31653/

UNH-IOL DPDK Community Lab

To manage your email subscriptions, visit: 
https://lab.dpdk.org/results/dashboard/preferences/subscriptions/