From mboxrd@z Thu Jan  1 00:00:00 1970
Return-Path: <test-report-bounces@dpdk.org>
Received: from mails.dpdk.org (mails.dpdk.org [217.70.189.124])
	by inbox.dpdk.org (Postfix) with ESMTP id 2950545C4D
	for <public@inbox.dpdk.org>; Fri,  1 Nov 2024 18:22:05 +0100 (CET)
Received: from mails.dpdk.org (localhost [127.0.0.1])
	by mails.dpdk.org (Postfix) with ESMTP id EAC694026C;
	Fri,  1 Nov 2024 18:22:04 +0100 (CET)
Received: from mail-il1-f226.google.com (mail-il1-f226.google.com
 [209.85.166.226])
 by mails.dpdk.org (Postfix) with ESMTP id 94D244003C
 for <test-report@dpdk.org>; Fri,  1 Nov 2024 18:22:04 +0100 (CET)
Received: by mail-il1-f226.google.com with SMTP id
 e9e14a558f8ab-3a6ad7c5827so6444685ab.0
 for <test-report@dpdk.org>; Fri, 01 Nov 2024 10:22:04 -0700 (PDT)
DKIM-Signature: v=1; a=rsa-sha256; c=relaxed/relaxed;
 d=iol.unh.edu; s=unh-iol; t=1730481724; x=1731086524; darn=dpdk.org;
 h=references:in-reply-to:cc:to:from:subject:message-id:date:from:to
 :cc:subject:date:message-id:reply-to;
 bh=SbFDXCC6Ve1J/vc42mome5RIVuqgbAo/YMD+T6RVBdc=;
 b=Qh/xThRuyIL5C+RyxEp6C8RCXWpX2Grlhc+KOpvaP/2CAn2g3Omyc0YnzuAzIdNL0R
 A+qPZ7/2Dlz0t/+n+GJo8YG8XlO/LZ2fTDzZV8uNlFaax84okY23g3f3k6aDf0UOJK4p
 uJX4v8ADtoEylMq+dkbPFKY81hQE2+jWNoxMk=
X-Google-DKIM-Signature: v=1; a=rsa-sha256; c=relaxed/relaxed;
 d=1e100.net; s=20230601; t=1730481724; x=1731086524;
 h=references:in-reply-to:cc:to:from:subject:message-id:date
 :x-gm-message-state:from:to:cc:subject:date:message-id:reply-to;
 bh=SbFDXCC6Ve1J/vc42mome5RIVuqgbAo/YMD+T6RVBdc=;
 b=CCQYnhfHjZ9Re0V5pnVeTKQWGAzYg7ToUzl3mZlDXLPGrLHGwaXV6KPYiEGnSjPGvl
 AOhEOvEz1rJZd1P7wn5ExuwBbEAt/26PKOOTNTuupLNql7lG5EjT+uXU7lo/r2Q7TUoU
 fcy2qoWgMhUXykg58sY/OpNz43QKk0pldKj2yV7M7pOu7LjHWdBWMNbZ6uOQMsdlXUnY
 4XJM9XMC10ICkyC9UUAd1Y6V4It5OCdASRg14OnlfRk+f4BkoWQ6GEc3GeuyAzeW9O2c
 gOGDDG7JG2pkiWIEBQfKE+aSJ4EoY6Wlg8K7rKx2A/nI04ZLBsXvUvyuds9aiWFSZQ50
 ybJA==
X-Gm-Message-State: AOJu0Yyth+SkJ4QzWKMCOH7/MR7wxobOcc+R4c7p/fHGUd5aPhCdFfAs
 APeFRCl96tuVJleNNJXx6IKSePcF6QVaY3Qqnmb6fNnupDkqD0YtyeHVpEmlMDaNjRlOQmMsWgz
 qDhcLbVcv5Mj8rg/qBY/Ab3SmUWQv0B/tVW/NxuM4
X-Google-Smtp-Source: AGHT+IFj9GVBJkBq6SlwkIsto9/S8EF9NWJXjyItUfOjwH7zut6daJtSnlSdGv0UJFTaGiAoF9GXp7wTTGHx
X-Received: by 2002:a05:6e02:218f:b0:3a6:af24:b8c4 with SMTP id
 e9e14a558f8ab-3a6b0354e19mr48651055ab.20.1730481723831; 
 Fri, 01 Nov 2024 10:22:03 -0700 (PDT)
Received: from postal.iol.unh.edu (postal.iol.unh.edu. [132.177.123.84])
 by smtp-relay.gmail.com with ESMTPS id
 e9e14a558f8ab-3a6a9a12c01sm1941105ab.60.2024.11.01.10.22.03
 (version=TLS1_2 cipher=ECDHE-ECDSA-AES128-GCM-SHA256 bits=128/128);
 Fri, 01 Nov 2024 10:22:03 -0700 (PDT)
X-Relaying-Domain: iol.unh.edu
Date: Fri, 01 Nov 2024 10:22:03 -0700 (PDT)
Message-ID: <67250e3b.050a0220.2ed8c3.a098SMTPIN_ADDED_MISSING@mx.google.com>
Received: from [172.17.0.2] (unknown [172.18.0.217])
 by postal.iol.unh.edu (Postfix) with ESMTP id 6B2656052471;
 Fri,  1 Nov 2024 13:22:03 -0400 (EDT)
Subject: |SUCCESS| pw147563-147567 [PATCH] [v10,6/6] power: rename library so
From: dpdklab@iol.unh.edu
To: Test Report <test-report@dpdk.org>
Cc: dpdk-test-reports@iol.unh.edu
In-Reply-To: <20241028195556.450033-7-sivaprasad.tummala@amd.com>
References: <20241028195556.450033-7-sivaprasad.tummala@amd.com>
Content-Type: text/plain
X-BeenThere: test-report@dpdk.org
X-Mailman-Version: 2.1.29
Precedence: list
List-Id: automatic DPDK test reports <test-report.dpdk.org>
List-Unsubscribe: <https://mails.dpdk.org/options/test-report>,
 <mailto:test-report-request@dpdk.org?subject=unsubscribe>
List-Archive: <http://mails.dpdk.org/archives/test-report/>
List-Post: <mailto:test-report@dpdk.org>
List-Help: <mailto:test-report-request@dpdk.org?subject=help>
List-Subscribe: <https://mails.dpdk.org/listinfo/test-report>,
 <mailto:test-report-request@dpdk.org?subject=subscribe>
Errors-To: test-report-bounces@dpdk.org

Test-Label: iol-unit-amd64-testing
Test-Status: SUCCESS
http://dpdk.org/patch/147567

_Testing PASS_

Submitter: Tummala, Sivaprasad <Sivaprasad.Tummala@amd.com>
Date: Monday, October 28 2024 19:55:56 
DPDK git baseline: Repo:dpdk
  Branch: master
  CommitID:6dad0bb5c8621644beca86ff5f4910a943ba604d

147563-147567 --> testing pass

Upstream job id: Generic-VM-Unit-Test-DPDK#25971

Test environment and result as below:

+---------------------+----------------+
|     Environment     | dpdk_unit_test |
+=====================+================+
| CentOS Stream 9     | PASS           |
+---------------------+----------------+
| Debian 12           | PASS           |
+---------------------+----------------+
| Fedora 39 (Clang)   | PASS           |
+---------------------+----------------+
| Fedora 40 (Clang)   | PASS           |
+---------------------+----------------+
| Fedora 40           | PASS           |
+---------------------+----------------+
| RHEL8               | PASS           |
+---------------------+----------------+
| RHEL9               | PASS           |
+---------------------+----------------+
| Fedora 39           | PASS           |
+---------------------+----------------+
| Ubuntu 22.04        | PASS           |
+---------------------+----------------+
| Ubuntu 20.04        | PASS           |
+---------------------+----------------+
| Ubuntu 24.04        | PASS           |
+---------------------+----------------+
| Windows Server 2022 | PASS           |
+---------------------+----------------+


CentOS Stream 9
	Kernel: Depends on container host
	Compiler: gcc 11.4.1 20231218 (Red Hat 11.4.1-3)

Debian 12
	Kernel: Depends on container host
	Compiler: gcc (Debian 12.2.0-14) 12.2.0

Fedora 39 (Clang)
	Kernel: Depends on container host
	Compiler: clang 17.0.6 (Fedora 17.0.6-2.fc39)

Fedora 40 (Clang)
	Kernel: Depends on container host
	Compiler: clang 18.1.6 (Fedora 18.1.6-3.fc40)

Fedora 40
	Kernel: Depends on container host
	Compiler: gcc 14.2.1 20240801 (Red Hat 14.2.1-1)

RHEL8
	Kernel: Depends on container host
	Compiler: gcc 8.5.0 20210514 (Red Hat 8.5.0-22)

RHEL9
	Kernel: Depends on container host
	Compiler: gcc 11.4.1 20231218 (Red Hat 11.4.1-3)

Fedora 39
	Kernel: Depends on container host
	Compiler: gcc 13.3.1 20240522 (Red Hat 13.3.1-1)

Ubuntu 22.04
	Kernel: Depends on container host
	Compiler: gcc (Ubuntu 11.4.0-1ubuntu1~22.04) 11.4.0

Ubuntu 20.04
	Kernel: Depends on container host
	Compiler: gcc (Ubuntu 9.4.0-1ubuntu1~20.04.2) 9.4.0

Ubuntu 24.04
	Kernel: Depends on container host
	Compiler: gcc (Ubuntu 13.2.0-23ubuntu4) 13.2.0

Windows Server 2022
	Kernel: 10.0.20348.2031
	Compiler: clang 15.0.7, gcc 14.1.0 (MinGW), and MSVC VS 19.39.33521

To view detailed results, visit:
https://lab.dpdk.org/results/dashboard/patchsets/31737/

UNH-IOL DPDK Community Lab

To manage your email subscriptions, visit: 
https://lab.dpdk.org/results/dashboard/preferences/subscriptions/