From mboxrd@z Thu Jan  1 00:00:00 1970
Return-Path: <test-report-bounces@dpdk.org>
Received: from mails.dpdk.org (mails.dpdk.org [217.70.189.124])
	by inbox.dpdk.org (Postfix) with ESMTP id CA9E745C4D
	for <public@inbox.dpdk.org>; Fri,  1 Nov 2024 19:04:34 +0100 (CET)
Received: from mails.dpdk.org (localhost [127.0.0.1])
	by mails.dpdk.org (Postfix) with ESMTP id B4EDF4026C;
	Fri,  1 Nov 2024 19:04:34 +0100 (CET)
Received: from mail-yb1-f228.google.com (mail-yb1-f228.google.com
 [209.85.219.228])
 by mails.dpdk.org (Postfix) with ESMTP id BC7594003C
 for <test-report@dpdk.org>; Fri,  1 Nov 2024 19:04:32 +0100 (CET)
Received: by mail-yb1-f228.google.com with SMTP id
 3f1490d57ef6-e291cbbf05bso2264646276.2
 for <test-report@dpdk.org>; Fri, 01 Nov 2024 11:04:32 -0700 (PDT)
DKIM-Signature: v=1; a=rsa-sha256; c=relaxed/relaxed;
 d=iol.unh.edu; s=unh-iol; t=1730484272; x=1731089072; darn=dpdk.org;
 h=references:in-reply-to:cc:to:from:subject:message-id:date:from:to
 :cc:subject:date:message-id:reply-to;
 bh=ViGDZvS3N0TjDi4yWqWJNHAt6iVzbGMEWFnkgD1HDoE=;
 b=OpRdc8KOH9ChHY11EzeTTCEUCq/SoqC6dhPHFUzdgTLS6bTyRutRZr+8HsjwSDJpvP
 /mcjgRb0maYgUWgSHp9B/bTIgR4ashoFZVo6Crh2AA4b2nMCtvUAqaVdHFD2FgC84zQQ
 JU7Iz8VdaApjMURhPkGim6lkhwvOVvS+t85Jo=
X-Google-DKIM-Signature: v=1; a=rsa-sha256; c=relaxed/relaxed;
 d=1e100.net; s=20230601; t=1730484272; x=1731089072;
 h=references:in-reply-to:cc:to:from:subject:message-id:date
 :x-gm-message-state:from:to:cc:subject:date:message-id:reply-to;
 bh=ViGDZvS3N0TjDi4yWqWJNHAt6iVzbGMEWFnkgD1HDoE=;
 b=Xu7+d1F1GTy7ghE0shyaztYX3biEdvX5C5AexKQ1lQP2B2HuMqeqetMbj7+LKejWRF
 trqDcNP4V3Nj6nCn6T05rfAt02rFTbmOihnBlSJZpXhSwip89tlkY1qr4UdH8BidKcgx
 K0dXez+qxorZq7RHPbDbi+dWPy4HhSc0PUJTv8wMiWj3U7lipgetmvo6zTp34XoUBqC3
 jh8uqPZzObfoVxGvbHaBOtiyLS0UgOgTO2SmtK6m/vo6qTa9SNM3tNGMiwErRbwu83j0
 FPAkfSUfJl2MpF+h4zDIehubYEBWM9QghD4561uaN0ajPlsj3ozUqWlclGBbZLgG4aAl
 C2sg==
X-Gm-Message-State: AOJu0Yy+XUOXHOjbA0aLD5gl+tSSzJVuY4yh6AlUfw6Y7KXY9cWkXOti
 jIDJXryOfV8NGeOBjoxVmky37sttqumZW0ZEyrFgd8h3e4O5pXrIarAgia2iEcP6/Llsh8ZmZjw
 NmtY3zfEiYefUCTDnDR4spn6EOE2EkaEih6MuqJ/g
X-Google-Smtp-Source: AGHT+IHyybt0msn5Apax/mgQE3SbFebaFQ+bBC+9arG4nDevZS6h4WQs+khUAUYfwTlZ+WQIn4i1jg7TvzY1
X-Received: by 2002:a05:690c:c8a:b0:6e5:adb6:5d8 with SMTP id
 00721157ae682-6ea52552074mr92577247b3.44.1730484272172; 
 Fri, 01 Nov 2024 11:04:32 -0700 (PDT)
Received: from postal.iol.unh.edu (postal.iol.unh.edu. [132.177.123.84])
 by smtp-relay.gmail.com with ESMTPS id
 00721157ae682-6ea55b0b139sm1533497b3.21.2024.11.01.11.04.32
 (version=TLS1_2 cipher=ECDHE-ECDSA-AES128-GCM-SHA256 bits=128/128);
 Fri, 01 Nov 2024 11:04:32 -0700 (PDT)
X-Relaying-Domain: iol.unh.edu
Date: Fri, 01 Nov 2024 11:04:32 -0700 (PDT)
Message-ID: <67251830.050a0220.2033a4.d910SMTPIN_ADDED_MISSING@mx.google.com>
Received: from [172.21.0.6] (unknown [172.18.0.240])
 by postal.iol.unh.edu (Postfix) with ESMTP id CAF436052471;
 Fri,  1 Nov 2024 14:04:31 -0400 (EDT)
Subject: |SUCCESS| pw147165-147182 [PATCH] [v4,18/18] doc/guides/nics: add do
From: dpdklab@iol.unh.edu
To: Test Report <test-report@dpdk.org>
Cc: dpdk-test-reports@iol.unh.edu
In-Reply-To: <20241025033529.15581-19-howard_wang@realsil.com.cn>
References: <20241025033529.15581-19-howard_wang@realsil.com.cn>
Content-Type: text/plain
X-BeenThere: test-report@dpdk.org
X-Mailman-Version: 2.1.29
Precedence: list
List-Id: automatic DPDK test reports <test-report.dpdk.org>
List-Unsubscribe: <https://mails.dpdk.org/options/test-report>,
 <mailto:test-report-request@dpdk.org?subject=unsubscribe>
List-Archive: <http://mails.dpdk.org/archives/test-report/>
List-Post: <mailto:test-report@dpdk.org>
List-Help: <mailto:test-report-request@dpdk.org?subject=help>
List-Subscribe: <https://mails.dpdk.org/listinfo/test-report>,
 <mailto:test-report-request@dpdk.org?subject=subscribe>
Errors-To: test-report-bounces@dpdk.org

Test-Label: iol-compile-amd64-testing
Test-Status: SUCCESS
http://dpdk.org/patch/147182

_Testing PASS_

Submitter: Wang Hao  <howard_wang@realsil.com.cn>
Date: Friday, October 25 2024 03:35:29 
DPDK git baseline: Repo:dpdk
  Branch: master
  CommitID:5bb17458f32befba8a2cccd9553ea65cd8b99581

147165-147182 --> testing pass

Upstream job id: Windows-Compile-DPDK-Native#23970

Test environment and result as below:

+---------------------+--------------------+-----------------------+----------------------+------------------+-------------------+
|     Environment     | dpdk_meson_compile | dpdk_win_llvm_compile | dpdk_mingw64_compile | dpdk_compile_ovs | dpdk_compile_spdk |
+=====================+====================+=======================+======================+==================+===================+
| FreeBSD 13.4        | PASS               | SKIPPED               | SKIPPED              | SKIPPED          | SKIPPED           |
+---------------------+--------------------+-----------------------+----------------------+------------------+-------------------+
| FreeBSD 14.1        | PASS               | SKIPPED               | SKIPPED              | SKIPPED          | SKIPPED           |
+---------------------+--------------------+-----------------------+----------------------+------------------+-------------------+
| CentOS Stream 9     | PASS               | SKIPPED               | SKIPPED              | PASS             | PASS              |
+---------------------+--------------------+-----------------------+----------------------+------------------+-------------------+
| Debian Bullseye     | PASS               | SKIPPED               | SKIPPED              | PASS             | PASS              |
+---------------------+--------------------+-----------------------+----------------------+------------------+-------------------+
| Debian 12           | PASS               | SKIPPED               | SKIPPED              | PASS             | PASS              |
+---------------------+--------------------+-----------------------+----------------------+------------------+-------------------+
| Fedora 38           | PASS               | SKIPPED               | SKIPPED              | PASS             | PASS              |
+---------------------+--------------------+-----------------------+----------------------+------------------+-------------------+
| Fedora 37           | PASS               | SKIPPED               | SKIPPED              | PASS             | PASS              |
+---------------------+--------------------+-----------------------+----------------------+------------------+-------------------+
| Fedora 38 (Clang)   | PASS               | SKIPPED               | SKIPPED              | PASS             | PASS              |
+---------------------+--------------------+-----------------------+----------------------+------------------+-------------------+
| Fedora 39           | PASS               | SKIPPED               | SKIPPED              | PASS             | PASS              |
+---------------------+--------------------+-----------------------+----------------------+------------------+-------------------+
| Fedora 39 (Clang)   | PASS               | SKIPPED               | SKIPPED              | PASS             | PASS              |
+---------------------+--------------------+-----------------------+----------------------+------------------+-------------------+
| Fedora 40 (Clang)   | PASS               | SKIPPED               | SKIPPED              | PASS             | PASS              |
+---------------------+--------------------+-----------------------+----------------------+------------------+-------------------+
| RHEL8               | PASS               | SKIPPED               | SKIPPED              | PASS             | SKIPPED           |
+---------------------+--------------------+-----------------------+----------------------+------------------+-------------------+
| RHEL9               | PASS               | SKIPPED               | SKIPPED              | PASS             | SKIPPED           |
+---------------------+--------------------+-----------------------+----------------------+------------------+-------------------+
| openSUSE Leap 15    | PASS               | SKIPPED               | SKIPPED              | PASS             | SKIPPED           |
+---------------------+--------------------+-----------------------+----------------------+------------------+-------------------+
| Fedora 40           | PASS               | SKIPPED               | SKIPPED              | PASS             | PASS              |
+---------------------+--------------------+-----------------------+----------------------+------------------+-------------------+
| Ubuntu 20.04        | PASS               | SKIPPED               | SKIPPED              | PASS             | SKIPPED           |
+---------------------+--------------------+-----------------------+----------------------+------------------+-------------------+
| Ubuntu 22.04        | PASS               | SKIPPED               | SKIPPED              | PASS             | PASS              |
+---------------------+--------------------+-----------------------+----------------------+------------------+-------------------+
| Ubuntu 24.04        | PASS               | SKIPPED               | SKIPPED              | PASS             | PASS              |
+---------------------+--------------------+-----------------------+----------------------+------------------+-------------------+
| Alpine              | PASS               | SKIPPED               | SKIPPED              | PASS             | SKIPPED           |
+---------------------+--------------------+-----------------------+----------------------+------------------+-------------------+
| Windows Server 2022 | SKIPPED            | PASS                  | PASS                 | SKIPPED          | SKIPPED           |
+---------------------+--------------------+-----------------------+----------------------+------------------+-------------------+


FreeBSD 13.4
	Kernel: 13.4-RELEASE-p1
	Compiler: clang 18.1.6

FreeBSD 14.1
	Kernel: 14.1-RELEASE-p3
	Compiler: clang 18.1.5

CentOS Stream 9
	Kernel: Depends on container host
	Compiler: gcc 11.4.1 20231218 (Red Hat 11.4.1-3)

Debian Bullseye
	Kernel: Depends on container host
	Compiler: gcc (Debian 10.2.1-6) 10.2.1 20210110

Debian 12
	Kernel: Depends on container host
	Compiler: gcc (Debian 12.2.0-14) 12.2.0

Fedora 38
	Kernel: Depends on container host
	Compiler: gcc 13.2.1 20240316 (Red Hat 13.2.1-7)

Fedora 37
	Kernel: Depends on container host system
	Compiler: gcc 12.3.1 20230508 (Red Hat 12.3.1-1)

Fedora 38 (Clang)
	Kernel: Depends on container host
	Compiler: clang 16.0.6 (Fedora 16.0.6-4.fc38)

Fedora 39
	Kernel: Depends on container host
	Compiler: gcc 13.3.1 20240522 (Red Hat 13.3.1-1)

Fedora 39 (Clang)
	Kernel: Depends on container host
	Compiler: clang 17.0.6 (Fedora 17.0.6-2.fc39)

Fedora 40 (Clang)
	Kernel: Depends on container host
	Compiler: clang 18.1.6 (Fedora 18.1.6-3.fc40)

RHEL8
	Kernel: Depends on container host
	Compiler: gcc 8.5.0 20210514 (Red Hat 8.5.0-22)

RHEL9
	Kernel: Depends on container host
	Compiler: gcc 11.4.1 20231218 (Red Hat 11.4.1-3)

openSUSE Leap 15
	Kernel: Depends on container host
	Compiler: gcc (SUSE Linux) 7.5.0

Fedora 40
	Kernel: Depends on container host
	Compiler: gcc 14.2.1 20240801 (Red Hat 14.2.1-1)

Ubuntu 20.04
	Kernel: Depends on container host
	Compiler: gcc (Ubuntu 9.4.0-1ubuntu1~20.04.2) 9.4.0

Ubuntu 22.04
	Kernel: Depends on container host
	Compiler: gcc (Ubuntu 11.4.0-1ubuntu1~22.04) 11.4.0

Ubuntu 24.04
	Kernel: Depends on container host
	Compiler: gcc (Ubuntu 13.2.0-23ubuntu4) 13.2.0

Alpine
	Kernel: Depends on container host
	Compiler: gcc (Alpine 13.2.1_git20240309) 13.2.1 20240309

Windows Server 2022
	Kernel: 10.0.20348.2031
	Compiler: clang 15.0.7, gcc 14.1.0 (MinGW), and MSVC VS 19.39.33521

To view detailed results, visit:
https://lab.dpdk.org/results/dashboard/patchsets/31660/

UNH-IOL DPDK Community Lab

To manage your email subscriptions, visit: 
https://lab.dpdk.org/results/dashboard/preferences/subscriptions/