From mboxrd@z Thu Jan  1 00:00:00 1970
Return-Path: <test-report-bounces@dpdk.org>
Received: from mails.dpdk.org (mails.dpdk.org [217.70.189.124])
	by inbox.dpdk.org (Postfix) with ESMTP id 3143245C4F
	for <public@inbox.dpdk.org>; Fri,  1 Nov 2024 22:43:11 +0100 (CET)
Received: from mails.dpdk.org (localhost [127.0.0.1])
	by mails.dpdk.org (Postfix) with ESMTP id 2DFCE402CC;
	Fri,  1 Nov 2024 22:43:11 +0100 (CET)
Received: from mail-il1-f225.google.com (mail-il1-f225.google.com
 [209.85.166.225])
 by mails.dpdk.org (Postfix) with ESMTP id 886584029A
 for <test-report@dpdk.org>; Fri,  1 Nov 2024 22:43:09 +0100 (CET)
Received: by mail-il1-f225.google.com with SMTP id
 e9e14a558f8ab-3a6ad7c5827so7260415ab.0
 for <test-report@dpdk.org>; Fri, 01 Nov 2024 14:43:09 -0700 (PDT)
DKIM-Signature: v=1; a=rsa-sha256; c=relaxed/relaxed;
 d=iol.unh.edu; s=unh-iol; t=1730497389; x=1731102189; darn=dpdk.org;
 h=references:in-reply-to:cc:to:from:subject:message-id:date:from:to
 :cc:subject:date:message-id:reply-to;
 bh=Nqv1VrEODbaQvFDKNayhj4WGh2lkARNO59glu4fCGnw=;
 b=Jb/GESCTwNJE9Uv0nJ14cSwf8uUzKAO8v9LNUTxonC0BoebtRfyR9bDaa0FovRCtVP
 /d2QC9pV0J61dKYbk8Gzo94KjztbWFVNRPJ4jH/8c7QFi4rups5/H/40rf597HUvDiFx
 ld7zNnNYm5ueZQxkP50ggTAc5R022IGqViYGM=
X-Google-DKIM-Signature: v=1; a=rsa-sha256; c=relaxed/relaxed;
 d=1e100.net; s=20230601; t=1730497389; x=1731102189;
 h=references:in-reply-to:cc:to:from:subject:message-id:date
 :x-gm-message-state:from:to:cc:subject:date:message-id:reply-to;
 bh=Nqv1VrEODbaQvFDKNayhj4WGh2lkARNO59glu4fCGnw=;
 b=egMaq4JXeXg6uRd/DlXxo/zs5dvIBNW8r588viyYBhb44zn6OWO+QrzHB8lwZslPzi
 fu8KbNrk0yQgnVvknhhkK2pVIUfhh9FMLJajor2XbHXd/GAxGkquEG4tKqNq3U434k97
 Zy5bdvh9q+KlC9PKTRfvwB6SjMa1H6VIyRfSDSH2xni4NOr3IkO+8vAEL8ravRZDHVl/
 P6T73W8s6RGl1w7d294En6RgAJAratDDDz6Wm937vvkmp35SoPk47zIeIvlnwx/xZLwB
 Wy2634txr2QNqk+KG7emGJXYZDiHOxNWDPOQuEFfLtjEaYJRvp9pNIs9nsVfP1z2Bmbr
 k6IA==
X-Gm-Message-State: AOJu0YxC0B9x6/Pb1LEzp/Gom5TftYrQCbxPUp0LWXn5Sb1JXcNfcD4n
 Iuf0cMsFJGPUG4/ce6hKx8NuoriBAlzXPVHLeGODsuQAog/om9eecyzg3v2RtE01B4OBM6YsgLt
 ZD7f/jG0ILbCSsGruz8ccaIiDNYPoPk8qngBBBP47Rc+xSJkXq7cNeN3H
X-Google-Smtp-Source: AGHT+IE0yewMLpdKikLy5FtfsjTOl5TsN31ACL+u/P+q2H/sWv/4s2IuJnwIox/G1EIC0HdNdmKfkRJY0wWP
X-Received: by 2002:a05:6e02:1a8b:b0:3a4:e8cc:2aa6 with SMTP id
 e9e14a558f8ab-3a6b02612ffmr62649915ab.8.1730497388819; 
 Fri, 01 Nov 2024 14:43:08 -0700 (PDT)
Received: from postal.iol.unh.edu (postal.iol.unh.edu.
 [2606:4100:3880:1234::84]) by smtp-relay.gmail.com with ESMTPS id
 e9e14a558f8ab-3a6a97ac314sm2198855ab.3.2024.11.01.14.43.08
 (version=TLS1_2 cipher=ECDHE-ECDSA-AES128-GCM-SHA256 bits=128/128);
 Fri, 01 Nov 2024 14:43:08 -0700 (PDT)
X-Relaying-Domain: iol.unh.edu
Date: Fri, 01 Nov 2024 14:43:08 -0700 (PDT)
Message-ID: <67254b6c.050a0220.227086.b8bfSMTPIN_ADDED_MISSING@mx.google.com>
Received: from [172.17.0.2] (unknown [172.18.0.217])
 by postal.iol.unh.edu (Postfix) with ESMTP id 518BF6052471;
 Fri,  1 Nov 2024 17:43:08 -0400 (EDT)
Subject: |SUCCESS| pw147053 [PATCH] eal: support including mapped memory in c
From: dpdklab@iol.unh.edu
To: Test Report <test-report@dpdk.org>
Cc: dpdk-test-reports@iol.unh.edu
In-Reply-To: <20241023231859.1323727-1-kozlyuk@bifit.com>
References: <20241023231859.1323727-1-kozlyuk@bifit.com>
Content-Type: text/plain
X-BeenThere: test-report@dpdk.org
X-Mailman-Version: 2.1.29
Precedence: list
List-Id: automatic DPDK test reports <test-report.dpdk.org>
List-Unsubscribe: <https://mails.dpdk.org/options/test-report>,
 <mailto:test-report-request@dpdk.org?subject=unsubscribe>
List-Archive: <http://mails.dpdk.org/archives/test-report/>
List-Post: <mailto:test-report@dpdk.org>
List-Help: <mailto:test-report-request@dpdk.org?subject=help>
List-Subscribe: <https://mails.dpdk.org/listinfo/test-report>,
 <mailto:test-report-request@dpdk.org?subject=subscribe>
Errors-To: test-report-bounces@dpdk.org

Test-Label: iol-compile-amd64-testing
Test-Status: SUCCESS
http://dpdk.org/patch/147053

_Testing PASS_

Submitter: Dmitry Kozlyuk <dmitry.kozliuk@gmail.com>
Date: Wednesday, October 23 2024 23:18:59 
DPDK git baseline: Repo:dpdk
  Branch: master
  CommitID:90cb8ff8196f9b9c1c2bcee1c94ea583789bb63f

147053 --> testing pass

Upstream job id: Windows-Compile-DPDK-VS#3781

Test environment and result as below:

+---------------------+--------------------+------------------+-------------------+-----------------------+----------------------+-------------------+
|     Environment     | dpdk_meson_compile | dpdk_compile_ovs | dpdk_compile_spdk | dpdk_win_llvm_compile | dpdk_mingw64_compile | dpdk_msvc_compile |
+=====================+====================+==================+===================+=======================+======================+===================+
| FreeBSD 13.4        | PASS               | SKIPPED          | SKIPPED           | SKIPPED               | SKIPPED              | SKIPPED           |
+---------------------+--------------------+------------------+-------------------+-----------------------+----------------------+-------------------+
| CentOS Stream 9     | PASS               | PASS             | PASS              | SKIPPED               | SKIPPED              | SKIPPED           |
+---------------------+--------------------+------------------+-------------------+-----------------------+----------------------+-------------------+
| Debian Bullseye     | PASS               | PASS             | PASS              | SKIPPED               | SKIPPED              | SKIPPED           |
+---------------------+--------------------+------------------+-------------------+-----------------------+----------------------+-------------------+
| Debian 12           | PASS               | PASS             | PASS              | SKIPPED               | SKIPPED              | SKIPPED           |
+---------------------+--------------------+------------------+-------------------+-----------------------+----------------------+-------------------+
| Fedora 37           | PASS               | PASS             | PASS              | SKIPPED               | SKIPPED              | SKIPPED           |
+---------------------+--------------------+------------------+-------------------+-----------------------+----------------------+-------------------+
| Fedora 38 (Clang)   | PASS               | PASS             | PASS              | SKIPPED               | SKIPPED              | SKIPPED           |
+---------------------+--------------------+------------------+-------------------+-----------------------+----------------------+-------------------+
| Fedora 38           | PASS               | PASS             | PASS              | SKIPPED               | SKIPPED              | SKIPPED           |
+---------------------+--------------------+------------------+-------------------+-----------------------+----------------------+-------------------+
| Fedora 39 (Clang)   | PASS               | PASS             | PASS              | SKIPPED               | SKIPPED              | SKIPPED           |
+---------------------+--------------------+------------------+-------------------+-----------------------+----------------------+-------------------+
| Fedora 39           | PASS               | PASS             | PASS              | SKIPPED               | SKIPPED              | SKIPPED           |
+---------------------+--------------------+------------------+-------------------+-----------------------+----------------------+-------------------+
| Fedora 40 (Clang)   | PASS               | PASS             | PASS              | SKIPPED               | SKIPPED              | SKIPPED           |
+---------------------+--------------------+------------------+-------------------+-----------------------+----------------------+-------------------+
| Fedora 40           | PASS               | PASS             | PASS              | SKIPPED               | SKIPPED              | SKIPPED           |
+---------------------+--------------------+------------------+-------------------+-----------------------+----------------------+-------------------+
| openSUSE Leap 15    | PASS               | PASS             | SKIPPED           | SKIPPED               | SKIPPED              | SKIPPED           |
+---------------------+--------------------+------------------+-------------------+-----------------------+----------------------+-------------------+
| RHEL8               | PASS               | PASS             | SKIPPED           | SKIPPED               | SKIPPED              | SKIPPED           |
+---------------------+--------------------+------------------+-------------------+-----------------------+----------------------+-------------------+
| Ubuntu 20.04        | PASS               | PASS             | SKIPPED           | SKIPPED               | SKIPPED              | SKIPPED           |
+---------------------+--------------------+------------------+-------------------+-----------------------+----------------------+-------------------+
| Ubuntu 22.04        | PASS               | PASS             | PASS              | SKIPPED               | SKIPPED              | SKIPPED           |
+---------------------+--------------------+------------------+-------------------+-----------------------+----------------------+-------------------+
| Ubuntu 24.04        | PASS               | PASS             | PASS              | SKIPPED               | SKIPPED              | SKIPPED           |
+---------------------+--------------------+------------------+-------------------+-----------------------+----------------------+-------------------+
| Alpine              | PASS               | PASS             | SKIPPED           | SKIPPED               | SKIPPED              | SKIPPED           |
+---------------------+--------------------+------------------+-------------------+-----------------------+----------------------+-------------------+
| RHEL9               | PASS               | PASS             | SKIPPED           | SKIPPED               | SKIPPED              | SKIPPED           |
+---------------------+--------------------+------------------+-------------------+-----------------------+----------------------+-------------------+
| Windows Server 2022 | SKIPPED            | SKIPPED          | SKIPPED           | PASS                  | PASS                 | PASS              |
+---------------------+--------------------+------------------+-------------------+-----------------------+----------------------+-------------------+


FreeBSD 13.4
	Kernel: 13.4-RELEASE-p1
	Compiler: clang 18.1.6

CentOS Stream 9
	Kernel: Depends on container host
	Compiler: gcc 11.4.1 20231218 (Red Hat 11.4.1-3)

Debian Bullseye
	Kernel: Depends on container host
	Compiler: gcc (Debian 10.2.1-6) 10.2.1 20210110

Debian 12
	Kernel: Depends on container host
	Compiler: gcc (Debian 12.2.0-14) 12.2.0

Fedora 37
	Kernel: Depends on container host system
	Compiler: gcc 12.3.1 20230508 (Red Hat 12.3.1-1)

Fedora 38 (Clang)
	Kernel: Depends on container host
	Compiler: clang 16.0.6 (Fedora 16.0.6-4.fc38)

Fedora 38
	Kernel: Depends on container host
	Compiler: gcc 13.2.1 20240316 (Red Hat 13.2.1-7)

Fedora 39 (Clang)
	Kernel: Depends on container host
	Compiler: clang 17.0.6 (Fedora 17.0.6-2.fc39)

Fedora 39
	Kernel: Depends on container host
	Compiler: gcc 13.3.1 20240522 (Red Hat 13.3.1-1)

Fedora 40 (Clang)
	Kernel: Depends on container host
	Compiler: clang 18.1.6 (Fedora 18.1.6-3.fc40)

Fedora 40
	Kernel: Depends on container host
	Compiler: gcc 14.2.1 20240801 (Red Hat 14.2.1-1)

openSUSE Leap 15
	Kernel: Depends on container host
	Compiler: gcc (SUSE Linux) 7.5.0

RHEL8
	Kernel: Depends on container host
	Compiler: gcc 8.5.0 20210514 (Red Hat 8.5.0-22)

Ubuntu 20.04
	Kernel: Depends on container host
	Compiler: gcc (Ubuntu 9.4.0-1ubuntu1~20.04.2) 9.4.0

Ubuntu 22.04
	Kernel: Depends on container host
	Compiler: gcc (Ubuntu 11.4.0-1ubuntu1~22.04) 11.4.0

Ubuntu 24.04
	Kernel: Depends on container host
	Compiler: gcc (Ubuntu 13.2.0-23ubuntu4) 13.2.0

Alpine
	Kernel: Depends on container host
	Compiler: gcc (Alpine 13.2.1_git20240309) 13.2.1 20240309

RHEL9
	Kernel: Depends on container host
	Compiler: gcc 11.4.1 20231218 (Red Hat 11.4.1-3)

Windows Server 2022
	Kernel: 10.0.20348.2031
	Compiler: clang 15.0.7, gcc 14.1.0 (MinGW), and MSVC VS 19.39.33521

To view detailed results, visit:
https://lab.dpdk.org/results/dashboard/patchsets/31631/

UNH-IOL DPDK Community Lab

To manage your email subscriptions, visit: 
https://lab.dpdk.org/results/dashboard/preferences/subscriptions/